BEGIN:VCALENDAR
VERSION:2.0
PRODID:-//Savour Calgary - ECPv6.15.17.1//NONSGML v1.0//EN
CALSCALE:GREGORIAN
METHOD:PUBLISH
X-ORIGINAL-URL:https://savourcalgary.ca
X-WR-CALDESC:Events for Savour Calgary
REFRESH-INTERVAL;VALUE=DURATION:PT1H
X-Robots-Tag:noindex
X-PUBLISHED-TTL:PT1H
BEGIN:VTIMEZONE
TZID:America/Edmonton
BEGIN:DAYLIGHT
TZOFFSETFROM:-0700
TZOFFSETTO:-0600
TZNAME:MDT
DTSTART:20240310T090000
END:DAYLIGHT
BEGIN:STANDARD
TZOFFSETFROM:-0600
TZOFFSETTO:-0700
TZNAME:MST
DTSTART:20241103T080000
END:STANDARD
BEGIN:DAYLIGHT
TZOFFSETFROM:-0700
TZOFFSETTO:-0600
TZNAME:MDT
DTSTART:20250309T090000
END:DAYLIGHT
BEGIN:STANDARD
TZOFFSETFROM:-0600
TZOFFSETTO:-0700
TZNAME:MST
DTSTART:20251102T080000
END:STANDARD
BEGIN:DAYLIGHT
TZOFFSETFROM:-0700
TZOFFSETTO:-0600
TZNAME:MDT
DTSTART:20260308T090000
END:DAYLIGHT
BEGIN:STANDARD
TZOFFSETFROM:-0600
TZOFFSETTO:-0700
TZNAME:MST
DTSTART:20261101T080000
END:STANDARD
END:VTIMEZONE
BEGIN:VEVENT
DTSTART;TZID=America/Edmonton:20250803T183000
DTEND;TZID=America/Edmonton:20251002T203000
DTSTAMP:20260419T100201
CREATED:20250803T235938Z
LAST-MODIFIED:20250803T235938Z
UID:34122-1754245800-1759437000@savourcalgary.ca
SUMMARY:Spanish Fiesta
DESCRIPTION:From zesty and crisp Albarino to the rustic power of Rioja\, and beyond! As we sip through six incredible wines\, immerse yourself in the lively culture of the Iberian peninsula\, one glass at a time! \nDetails and registration @ Market Wines
URL:https://savourcalgary.ca/event/spanish-fiesta-4/
LOCATION:Market Wines – University District\, 4109 University Avenue NW\, Calgary\, Alberta\, T3B6K3\, Canada
CATEGORIES:Beverages,Tasting,Wine
ATTACH;FMTTYPE=image/jpeg:https://savourcalgary.ca/wp-content/uploads/2025/08/spanish.jpg
END:VEVENT
BEGIN:VEVENT
DTSTART;TZID=America/Edmonton:20250909T183000
DTEND;TZID=America/Edmonton:20250909T210000
DTSTAMP:20260419T100201
CREATED:20250718T222915Z
LAST-MODIFIED:20250718T222915Z
UID:33908-1757442600-1757451600@savourcalgary.ca
SUMMARY:Tagines: Stews From Morocco
DESCRIPTION:Uncover the mysteries of the simple\, ancient cooking vessels known as tagines. Your intimate journey will take you through Morocco to better understand the subtleties of this traditional way of preparing stews. Slow-roasted meats and vegetables with exotic spice blends are transformed within the tagine into moist\, luscious stews that will transport you to another time and place. \nDetails and registration @ The Cookbook Co. Cooks
URL:https://savourcalgary.ca/event/tagines-stews-from-morocco-4/
LOCATION:The Cookbook Co. Cooks\, 722 11 Avenue SW\, Calgary\, Alberta\, T2R0E4\, Canada
CATEGORIES:Classes,Cooking,Cooking Class,Food
ATTACH;FMTTYPE=image/png:https://savourcalgary.ca/wp-content/uploads/2023/12/stew.png
END:VEVENT
BEGIN:VEVENT
DTSTART;TZID=America/Edmonton:20250909T190000
DTEND;TZID=America/Edmonton:20250909T210000
DTSTAMP:20260419T100201
CREATED:20250906T213447Z
LAST-MODIFIED:20250906T213447Z
UID:34658-1757444400-1757451600@savourcalgary.ca
SUMMARY:Cooking Italian Style
DESCRIPTION:Please join The Calgary Italian Cultural Centre for a glass of wine and an evening of fun\, while learning to prepare a few mouthwatering Italian dishes as selected by the talented Chefs of Roma Catering. This will be a demonstration lesson. \nDetails and registration @ The Calgary Italian Cultural Centre
URL:https://savourcalgary.ca/event/cooking-italian-style/
LOCATION:La Cantina\, 416 1 Ave NE\, Calgary\, Alberta\, T2E 0B4\, Canada
CATEGORIES:Classes,Cooking,Cooking Class,Food
ATTACH;FMTTYPE=image/jpeg:https://savourcalgary.ca/wp-content/uploads/2025/09/Italian-Cultural-Centre.jpg
END:VEVENT
END:VCALENDAR