BEGIN:VCALENDAR
VERSION:2.0
PRODID:-//Savour Calgary - ECPv6.15.17.1//NONSGML v1.0//EN
CALSCALE:GREGORIAN
METHOD:PUBLISH
X-ORIGINAL-URL:https://savourcalgary.ca
X-WR-CALDESC:Events for Savour Calgary
REFRESH-INTERVAL;VALUE=DURATION:PT1H
X-Robots-Tag:noindex
X-PUBLISHED-TTL:PT1H
BEGIN:VTIMEZONE
TZID:America/Edmonton
BEGIN:DAYLIGHT
TZOFFSETFROM:-0700
TZOFFSETTO:-0600
TZNAME:MDT
DTSTART:20240310T090000
END:DAYLIGHT
BEGIN:STANDARD
TZOFFSETFROM:-0600
TZOFFSETTO:-0700
TZNAME:MST
DTSTART:20241103T080000
END:STANDARD
BEGIN:DAYLIGHT
TZOFFSETFROM:-0700
TZOFFSETTO:-0600
TZNAME:MDT
DTSTART:20250309T090000
END:DAYLIGHT
BEGIN:STANDARD
TZOFFSETFROM:-0600
TZOFFSETTO:-0700
TZNAME:MST
DTSTART:20251102T080000
END:STANDARD
BEGIN:DAYLIGHT
TZOFFSETFROM:-0700
TZOFFSETTO:-0600
TZNAME:MDT
DTSTART:20260308T090000
END:DAYLIGHT
BEGIN:STANDARD
TZOFFSETFROM:-0600
TZOFFSETTO:-0700
TZNAME:MST
DTSTART:20261101T080000
END:STANDARD
END:VTIMEZONE
BEGIN:VEVENT
DTSTART;TZID=America/Edmonton:20250803T183000
DTEND;TZID=America/Edmonton:20251002T203000
DTSTAMP:20260419T100202
CREATED:20250803T235938Z
LAST-MODIFIED:20250803T235938Z
UID:34122-1754245800-1759437000@savourcalgary.ca
SUMMARY:Spanish Fiesta
DESCRIPTION:From zesty and crisp Albarino to the rustic power of Rioja\, and beyond! As we sip through six incredible wines\, immerse yourself in the lively culture of the Iberian peninsula\, one glass at a time! \nDetails and registration @ Market Wines
URL:https://savourcalgary.ca/event/spanish-fiesta-4/
LOCATION:Market Wines – University District\, 4109 University Avenue NW\, Calgary\, Alberta\, T3B6K3\, Canada
CATEGORIES:Beverages,Tasting,Wine
ATTACH;FMTTYPE=image/jpeg:https://savourcalgary.ca/wp-content/uploads/2025/08/spanish.jpg
END:VEVENT
BEGIN:VEVENT
DTSTART;VALUE=DATE:20250911
DTEND;VALUE=DATE:20250912
DTSTAMP:20260419T100202
CREATED:20250908T171852Z
LAST-MODIFIED:20250908T171852Z
UID:34741-1757548800-1757635199@savourcalgary.ca
SUMMARY:Koko X Chef Jun Young Park
DESCRIPTION:Their summer seasonal Sando has officially wrapped up… but something new is coming! \nPop-Up Nights with Chef Jun! Every Wednesday & Thursday from 6PM\, Chef Jun will be at KOKO with a special pop-up menu. \nDetails @eatkoko.co
URL:https://savourcalgary.ca/event/koko-x-chef-jun-young-park/
LOCATION:620a 17 Ave SW\, 620a 17 Ave SW\, Calgary\, Alberta\, T2S 0B4\, Canada
CATEGORIES:Dinner,Food
ATTACH;FMTTYPE=image/png:https://savourcalgary.ca/wp-content/uploads/2023/11/sushi.png
END:VEVENT
BEGIN:VEVENT
DTSTART;TZID=America/Edmonton:20250911T123000
DTEND;TZID=America/Edmonton:20250911T163000
DTSTAMP:20260419T100202
CREATED:20250507T165523Z
LAST-MODIFIED:20250507T165523Z
UID:32501-1757593800-1757608200@savourcalgary.ca
SUMMARY:Calgary Food Bike Tour
DESCRIPTION:Why ride alone if you can do in the company of bikers who are eager to explore? Get ready to embark on an exciting two-wheel food adventure and join them for brunch on this Food Bike tour! \nCalgary Food Bike Tour is a great way to meet new people and try some incredible local food. Food Bike Tour serves up exploration and exercise with a side of delicious. Be a tourist in your own city and indulge in fine local foods and beverages while touring on a bike around the city. Enjoy different samples of meals from 3 different local establishments. \nNothing compares to the simple pleasure of a bike ride\, food and great company. \nDetails and registration @ Eventbrite \n 
URL:https://savourcalgary.ca/event/calgary-food-bike-tour-2-2025-09-11/
LOCATION:Little Blue Church\, 1110 Gladstone Rd NW\, Calgary\, Alberta\, T2N 3E7\, Canada
CATEGORIES:Family,Food,Food Tours,Friends,Tour
ATTACH;FMTTYPE=image/jpeg:https://savourcalgary.ca/wp-content/uploads/2023/07/Calgary-Food-Bike-Tour.jpg
END:VEVENT
BEGIN:VEVENT
DTSTART;TZID=America/Edmonton:20250911T170000
DTEND;TZID=America/Edmonton:20250914T220000
DTSTAMP:20260419T100202
CREATED:20250903T155737Z
LAST-MODIFIED:20251117T044708Z
UID:34651-1757610000-1757887200@savourcalgary.ca
SUMMARY:Modern Steak's La Buca Brings Tuscan Dining to Calgary
DESCRIPTION:Tthroughout the month of September\, Calgary’s iconic Modern Steak invites guests to experience La Buca. This exclusive Tuscan steakhouse pop-up brings the rustic elegance of Florence’s traditional dining culture to Alberta’s premier steakhouse. \nInspired by the time-honoured trattorias of Tuscany\, La Buca offers a rich culinary journey anchored by a menu designed by Chef Michael Scarcelli\, Executive Chef of Lusi. The six-course tasting menu includes handmade pastas and exceptional cuts of Alberta Prime beef\, each dish highlighting the best of authentic Italian cuisine ($159+tax and gratuity). Guests can elevate the experience with optional Tuscan wine pairings ($54)\, thoughtfully selected to complement each course. La Buca runs Thursday to Sunday throughout September at Modern Steak Stephen Avenue (100 8 Ave SE) and Modern Steak Southport (10606 Southport Road SW). \nVisit Modern Steak to make your reservation.
URL:https://savourcalgary.ca/event/modern-steaks-la-buca-brings-tuscan-dining-to-calgary-2/
LOCATION:Alberta
CATEGORIES:Dinner,Pop up,Wine
ATTACH;FMTTYPE=image/png:https://savourcalgary.ca/wp-content/uploads/2025/09/Untitled-design17.png
END:VEVENT
BEGIN:VEVENT
DTSTART;TZID=America/Edmonton:20250911T180000
DTEND;TZID=America/Edmonton:20250911T200000
DTSTAMP:20260419T100202
CREATED:20250705T203518Z
LAST-MODIFIED:20250705T203518Z
UID:33715-1757613600-1757620800@savourcalgary.ca
SUMMARY:Pizza & Wine
DESCRIPTION:On September 11th\, Vine Styles is bringing together two of the best things in life: Pizza & Wine. Hosted by the amazing Nathalie\, this event is going to be a deliciously fun evening you won’t want to miss. \nThey’ll be exploring the classic pairing of pizza and wine\, taking it to the next level with a variety of mouth-watering pizzas and perfectly matched wines. This isn’t your average pizza night—it’s a gourmet experience that combines comfort food with the elegance of a wine tasting. \nDetails and registration @ Vine Styles 
URL:https://savourcalgary.ca/event/pizza-wine-3/
LOCATION:Vine Styles\, 1127b Kensington Road Northwest
CATEGORIES:Beverages,Food,Pairing,Tasting,Wine
ATTACH;FMTTYPE=image/jpeg:https://savourcalgary.ca/wp-content/uploads/2023/08/vine-styles.jpg
END:VEVENT
BEGIN:VEVENT
DTSTART;TZID=America/Edmonton:20250911T183000
DTEND;TZID=America/Edmonton:20250911T203000
DTSTAMP:20260419T100202
CREATED:20250717T235447Z
LAST-MODIFIED:20250717T235447Z
UID:33884-1757615400-1757622600@savourcalgary.ca
SUMMARY:France vs. the World
DESCRIPTION:France is a world renowned wine region and often dubbed one of the best. Is France truly the best wine region out there? \nWhether you agree or disagree\, Market Wines put French wines next to other worldly wines in a head to head blind tasting. You be the judge at this 1.5 hour blind taste test of a variety of French wines and their international counterparts. \nDetails and registration @ Market Wines
URL:https://savourcalgary.ca/event/france-vs-the-world-2/
LOCATION:Market Wines – University District\, 4109 University Avenue NW\, Calgary\, Alberta\, T3B6K3\, Canada
CATEGORIES:Beverages,Global,Tasting,Wine
ATTACH;FMTTYPE=image/jpeg:https://savourcalgary.ca/wp-content/uploads/2025/07/france-MW-1.jpg
END:VEVENT
BEGIN:VEVENT
DTSTART;TZID=America/Edmonton:20250911T183000
DTEND;TZID=America/Edmonton:20250911T210000
DTSTAMP:20260419T100202
CREATED:20250718T222901Z
LAST-MODIFIED:20250718T222901Z
UID:33906-1757615400-1757624400@savourcalgary.ca
SUMMARY:Perfecting Paella
DESCRIPTION:Rice\, saffron and olive oil is a magical combination. Spain knows it\, we know it\, and Gail knows it. In this hands-on class\, she will guide you through the many different variations on a classic dish that can evolve to suit your taste.  If the flavours of the Catalan call your name\, why not answer? \nDetails and registration @ The Cookbook Co. Cooks
URL:https://savourcalgary.ca/event/perfecting-paella-6/
LOCATION:The Cookbook Co. Cooks\, 722 11 Avenue SW\, Calgary\, Alberta\, T2R0E4\, Canada
CATEGORIES:Classes,Cooking,Cooking Class,Food
ATTACH;FMTTYPE=image/png:https://savourcalgary.ca/wp-content/uploads/2023/12/paella.png
END:VEVENT
BEGIN:VEVENT
DTSTART;TZID=America/Edmonton:20250911T190000
DTEND;TZID=America/Edmonton:20250911T210000
DTSTAMP:20260419T100202
CREATED:20250811T025008Z
LAST-MODIFIED:20250811T025008Z
UID:34295-1757617200-1757624400@savourcalgary.ca
SUMMARY:Meet the Winemaker: The Okanagan’s Dirty Landry Vineyard
DESCRIPTION:Join Calgary Co-op for an exclusive evening of wine discovery with Dirty Laundry Wines. Meet the passionate winemaker behind the label and explore a curated selection of their most distinctive and expressive vintages. Learn about the winemaking process\, the stories behind each bottle\, and enjoy guided tastings in a relaxed\, intimate setting. Whether you’re a seasoned connoisseur or a curious newcomer\, this is your chance to sip\, savor\, and connect with the craft behind the wine. \nDetails and registration @ Calgary Co-op Wine Spirits & Beer
URL:https://savourcalgary.ca/event/meet-the-winemaker-the-okanagans-dirty-landry-vineyard/
LOCATION:Co-op Crowfoot Wine Spirits Beer\, 39 Crowfoot Way Northwest\, Calgary\, Alberta\, T3G 2L4\, Canada
CATEGORIES:Beverages,Tasting,Wine
ATTACH;FMTTYPE=image/jpeg:https://savourcalgary.ca/wp-content/uploads/2025/08/co-op-vineyards.jpg
END:VEVENT
END:VCALENDAR