BEGIN:VCALENDAR
VERSION:2.0
PRODID:-//Savour Calgary - ECPv6.15.17.1//NONSGML v1.0//EN
CALSCALE:GREGORIAN
METHOD:PUBLISH
X-ORIGINAL-URL:https://savourcalgary.ca
X-WR-CALDESC:Events for Savour Calgary
REFRESH-INTERVAL;VALUE=DURATION:PT1H
X-Robots-Tag:noindex
X-PUBLISHED-TTL:PT1H
BEGIN:VTIMEZONE
TZID:America/Edmonton
BEGIN:DAYLIGHT
TZOFFSETFROM:-0700
TZOFFSETTO:-0600
TZNAME:MDT
DTSTART:20240310T090000
END:DAYLIGHT
BEGIN:STANDARD
TZOFFSETFROM:-0600
TZOFFSETTO:-0700
TZNAME:MST
DTSTART:20241103T080000
END:STANDARD
BEGIN:DAYLIGHT
TZOFFSETFROM:-0700
TZOFFSETTO:-0600
TZNAME:MDT
DTSTART:20250309T090000
END:DAYLIGHT
BEGIN:STANDARD
TZOFFSETFROM:-0600
TZOFFSETTO:-0700
TZNAME:MST
DTSTART:20251102T080000
END:STANDARD
BEGIN:DAYLIGHT
TZOFFSETFROM:-0700
TZOFFSETTO:-0600
TZNAME:MDT
DTSTART:20260308T090000
END:DAYLIGHT
BEGIN:STANDARD
TZOFFSETFROM:-0600
TZOFFSETTO:-0700
TZNAME:MST
DTSTART:20261101T080000
END:STANDARD
END:VTIMEZONE
BEGIN:VEVENT
DTSTART;TZID=America/Edmonton:20250803T183000
DTEND;TZID=America/Edmonton:20251002T203000
DTSTAMP:20260419T100136
CREATED:20250803T235938Z
LAST-MODIFIED:20250803T235938Z
UID:34122-1754245800-1759437000@savourcalgary.ca
SUMMARY:Spanish Fiesta
DESCRIPTION:From zesty and crisp Albarino to the rustic power of Rioja\, and beyond! As we sip through six incredible wines\, immerse yourself in the lively culture of the Iberian peninsula\, one glass at a time! \nDetails and registration @ Market Wines
URL:https://savourcalgary.ca/event/spanish-fiesta-4/
LOCATION:Market Wines – University District\, 4109 University Avenue NW\, Calgary\, Alberta\, T3B6K3\, Canada
CATEGORIES:Beverages,Tasting,Wine
ATTACH;FMTTYPE=image/jpeg:https://savourcalgary.ca/wp-content/uploads/2025/08/spanish.jpg
END:VEVENT
BEGIN:VEVENT
DTSTART;TZID=America/Edmonton:20250911T170000
DTEND;TZID=America/Edmonton:20250914T220000
DTSTAMP:20260419T100136
CREATED:20250903T155737Z
LAST-MODIFIED:20251117T044708Z
UID:34651-1757610000-1757887200@savourcalgary.ca
SUMMARY:Modern Steak's La Buca Brings Tuscan Dining to Calgary
DESCRIPTION:Tthroughout the month of September\, Calgary’s iconic Modern Steak invites guests to experience La Buca. This exclusive Tuscan steakhouse pop-up brings the rustic elegance of Florence’s traditional dining culture to Alberta’s premier steakhouse. \nInspired by the time-honoured trattorias of Tuscany\, La Buca offers a rich culinary journey anchored by a menu designed by Chef Michael Scarcelli\, Executive Chef of Lusi. The six-course tasting menu includes handmade pastas and exceptional cuts of Alberta Prime beef\, each dish highlighting the best of authentic Italian cuisine ($159+tax and gratuity). Guests can elevate the experience with optional Tuscan wine pairings ($54)\, thoughtfully selected to complement each course. La Buca runs Thursday to Sunday throughout September at Modern Steak Stephen Avenue (100 8 Ave SE) and Modern Steak Southport (10606 Southport Road SW). \nVisit Modern Steak to make your reservation.
URL:https://savourcalgary.ca/event/modern-steaks-la-buca-brings-tuscan-dining-to-calgary-2/
LOCATION:Alberta
CATEGORIES:Dinner,Pop up,Wine
ATTACH;FMTTYPE=image/png:https://savourcalgary.ca/wp-content/uploads/2025/09/Untitled-design17.png
END:VEVENT
BEGIN:VEVENT
DTSTART;TZID=America/Edmonton:20250913T090000
DTEND;TZID=America/Edmonton:20250913T170000
DTSTAMP:20260419T100136
CREATED:20250906T214652Z
LAST-MODIFIED:20250906T214652Z
UID:34675-1757754000-1757782800@savourcalgary.ca
SUMMARY:Harvest Market
DESCRIPTION:Come and celebrate this harvesting season with an amazing community! \n100+ local vendors with handcrafted goods you won’t find anywhere else. Live folk & country music on the outdoor stage all day long. Delicious eats: fire-baked pizza\, food trucks\, pastries\, cozy fall drinks & more. Wagon rides\, carnival games & family-friendly fun. Farmer’s Market stocked with fresh\, farm-grown produce—fill-a-bag and take home the harvest. \nDetails and registration @ The Saskatoon Farm
URL:https://savourcalgary.ca/event/harvest-market/
LOCATION:The Saskatoon Farm\, 80181 338 Ave E #20\, Foothills County\, Alberta\, T1S 4S3\, Canada
CATEGORIES:Family,Farmer's Market,Friends,Harvest,Market
ATTACH;FMTTYPE=image/jpeg:https://savourcalgary.ca/wp-content/uploads/2025/09/saskatoon-farm.jpg
ORGANIZER;CN="The Saskatoon Farm":MAILTO:hello@saskatoonfarm.com
END:VEVENT
BEGIN:VEVENT
DTSTART;TZID=America/Edmonton:20250913T100000
DTEND;TZID=America/Edmonton:20250913T123000
DTSTAMP:20260419T100136
CREATED:20250726T002045Z
LAST-MODIFIED:20250726T002045Z
UID:33965-1757757600-1757766600@savourcalgary.ca
SUMMARY:Bread-Making For Beginners: Day One
DESCRIPTION:Over the years\, Gail has developed a thick crust – actually\, a variety of crusts\, thick and thin. And\, starting now\, so will you! A small investment of time and energy will load you up with enough bread-making technique and fabulous recipes to thrill you\, your family and your friends for decades to come. \nThis course requires two sessions\, during which you’ll learn the processes of leavening\, kneading and forming great bread. Gail will advance your bread-baking skills and quash your bread-making fears. In Part One of the workshop\, which takes place Saturday\, you will address the fundamentals while absorbing Gail’s savvy hands-on tips. In Part Two on Sunday\, the class will work through the bread-making process under Gail’s watchful and well-practiced eye to achieve the best possible end result. \nDetails and registration @ The Cookbook Co. Cooks
URL:https://savourcalgary.ca/event/bread-making-for-beginners-day-one-2/
LOCATION:The Cookbook Co. Cooks\, 722 11 Avenue SW\, Calgary\, Alberta\, T2R0E4\, Canada
CATEGORIES:Baking/ Cooking Class,Bread,Classes,Cooking
ATTACH;FMTTYPE=image/png:https://savourcalgary.ca/wp-content/uploads/2023/08/bread.png
END:VEVENT
BEGIN:VEVENT
DTSTART;TZID=America/Edmonton:20250913T123000
DTEND;TZID=America/Edmonton:20250913T163000
DTSTAMP:20260419T100136
CREATED:20250507T165523Z
LAST-MODIFIED:20250507T165523Z
UID:32503-1757766600-1757781000@savourcalgary.ca
SUMMARY:Calgary Food Bike Tour
DESCRIPTION:Why ride alone if you can do in the company of bikers who are eager to explore? Get ready to embark on an exciting two-wheel food adventure and join them for brunch on this Food Bike tour! \nCalgary Food Bike Tour is a great way to meet new people and try some incredible local food. Food Bike Tour serves up exploration and exercise with a side of delicious. Be a tourist in your own city and indulge in fine local foods and beverages while touring on a bike around the city. Enjoy different samples of meals from 3 different local establishments. \nNothing compares to the simple pleasure of a bike ride\, food and great company. \nDetails and registration @ Eventbrite \n 
URL:https://savourcalgary.ca/event/calgary-food-bike-tour-2-2025-09-13/
LOCATION:Little Blue Church\, 1110 Gladstone Rd NW\, Calgary\, Alberta\, T2N 3E7\, Canada
CATEGORIES:Family,Food,Food Tours,Friends,Tour
ATTACH;FMTTYPE=image/jpeg:https://savourcalgary.ca/wp-content/uploads/2023/07/Calgary-Food-Bike-Tour.jpg
END:VEVENT
BEGIN:VEVENT
DTSTART;TZID=America/Edmonton:20250913T140000
DTEND;TZID=America/Edmonton:20250913T150000
DTSTAMP:20260419T100136
CREATED:20250717T235452Z
LAST-MODIFIED:20250717T235452Z
UID:33887-1757772000-1757775600@savourcalgary.ca
SUMMARY:Pinot Noir Party
DESCRIPTION:If you love Pinot Noir\, this is the tasting for you! \nPinot Noir is one of the world’s most beloved grapes and for good reason. Full of character and elegance\, you can find a pinot noir for any occasion! Join Market Wines as they explore the world of Pinot Noir\, one glass at a time! \nDetails and registration @ Market Wines
URL:https://savourcalgary.ca/event/pinot-noir-party/
LOCATION:Market Wines – University District\, 4109 University Avenue NW\, Calgary\, Alberta\, T3B6K3\, Canada
CATEGORIES:Beverages,Tasting,Wine
ATTACH;FMTTYPE=image/jpeg:https://savourcalgary.ca/wp-content/uploads/2025/07/pinot-MW.jpg
END:VEVENT
BEGIN:VEVENT
DTSTART;TZID=America/Edmonton:20250913T140000
DTEND;TZID=America/Edmonton:20250913T160000
DTSTAMP:20260419T100136
CREATED:20250908T171844Z
LAST-MODIFIED:20250908T171844Z
UID:34746-1757772000-1757779200@savourcalgary.ca
SUMMARY:Mad Hatter High Tea
DESCRIPTION:Join them for an enchanting afternoon where whimsy meets indulgence at the Mad Hatter’s High Tea. Set amidst the serene beauty of Fish Creek Park\, Meadow Muse Pavilion will transform into a magical Wonderland – perfect for friends\, family\, or anyone ready to escape into a world of charm\, colour\, and culinary delight. \nDetails and registration @ Bow Valley Ranche Restaurant
URL:https://savourcalgary.ca/event/mad-hatter-high-tea/
LOCATION:Bow Valley Ranche Restaurant\, 15979 Bow Bottom Trail SE\, Calgary\, Alberta\, Canada
CATEGORIES:Beverages,Food,Kids,Tea
ATTACH;FMTTYPE=image/png:https://savourcalgary.ca/wp-content/uploads/2024/07/tea.png
END:VEVENT
BEGIN:VEVENT
DTSTART;TZID=America/Edmonton:20250913T150000
DTEND;TZID=America/Edmonton:20250913T173000
DTSTAMP:20260419T100136
CREATED:20250310T011223Z
LAST-MODIFIED:20250310T011223Z
UID:31243-1757775600-1757784600@savourcalgary.ca
SUMMARY:Iconic Eats of Calgary Food Tour
DESCRIPTION:Eat the iconic foods of Calgary in the heart of downtown on this fully-guided tour. Absorb vivid stories of the blue sky city’s history\, art\, and culture while tasting 4 food and beverage pairings from stellar venues in the heart of the city’s culinary world. Enjoy a 1.5 kilometer easy walking and tasting journey\, exploring diverse food offerings in a 2.5 hour time span. There will be 2 savoury and 2 sweet tastings. The beloved Grande Dame of Calgary Hotels\, The Fairmont Palliser\, anchors the tour with a chef’s demo and three tastings plus a take home recipe. From there stroll historic Stephen Avenue for another satiating savoury tasting followed by a stop at a premiere bean to bar chocolate maker before finishing with a soul satisfying dessert. \n\n\nDetails and registration @ Alberta Food Tours
URL:https://savourcalgary.ca/event/iconic-eats-of-calgary-food-tour-2-2025-09-13/
LOCATION:Alberta
CATEGORIES:Beverages,Food,Food Tours,Tour
ATTACH;FMTTYPE=image/png:https://savourcalgary.ca/wp-content/uploads/2025/03/burger.png
END:VEVENT
BEGIN:VEVENT
DTSTART;TZID=America/Edmonton:20250913T200000
DTEND;TZID=America/Edmonton:20250914T020000
DTSTAMP:20260419T100136
CREATED:20250908T171951Z
LAST-MODIFIED:20250908T171951Z
UID:34735-1757793600-1757815200@savourcalgary.ca
SUMMARY:The Rose & Crown's 40th Birthday
DESCRIPTION:Join them on the 13th as they celebrate this amazing milestone! \nThey’re turning the big 4-0! Join them in Banff for a legendary night as they celebrate four decades of music\, mayhem\, and mountain-town magic. \nDetails and registration @ Rose & Crown
URL:https://savourcalgary.ca/event/the-rose-crowns-40th-birthday/
LOCATION:Rose & Crown\, 202 Banff Ave\, Banff\, Alberta\, T1L 1B5\, Canada
CATEGORIES:Entertainment,Food,Friends,Music,Party
ATTACH;FMTTYPE=image/png:https://savourcalgary.ca/wp-content/uploads/2025/09/rose-and-crown.png
END:VEVENT
END:VCALENDAR