BEGIN:VCALENDAR
VERSION:2.0
PRODID:-//Savour Calgary - ECPv6.15.17.1//NONSGML v1.0//EN
CALSCALE:GREGORIAN
METHOD:PUBLISH
X-WR-CALNAME:Savour Calgary
X-ORIGINAL-URL:https://savourcalgary.ca
X-WR-CALDESC:Events for Savour Calgary
REFRESH-INTERVAL;VALUE=DURATION:PT1H
X-Robots-Tag:noindex
X-PUBLISHED-TTL:PT1H
BEGIN:VTIMEZONE
TZID:America/Edmonton
BEGIN:DAYLIGHT
TZOFFSETFROM:-0700
TZOFFSETTO:-0600
TZNAME:MDT
DTSTART:20240310T090000
END:DAYLIGHT
BEGIN:STANDARD
TZOFFSETFROM:-0600
TZOFFSETTO:-0700
TZNAME:MST
DTSTART:20241103T080000
END:STANDARD
BEGIN:DAYLIGHT
TZOFFSETFROM:-0700
TZOFFSETTO:-0600
TZNAME:MDT
DTSTART:20250309T090000
END:DAYLIGHT
BEGIN:STANDARD
TZOFFSETFROM:-0600
TZOFFSETTO:-0700
TZNAME:MST
DTSTART:20251102T080000
END:STANDARD
BEGIN:DAYLIGHT
TZOFFSETFROM:-0700
TZOFFSETTO:-0600
TZNAME:MDT
DTSTART:20260308T090000
END:DAYLIGHT
BEGIN:STANDARD
TZOFFSETFROM:-0600
TZOFFSETTO:-0700
TZNAME:MST
DTSTART:20261101T080000
END:STANDARD
END:VTIMEZONE
BEGIN:VEVENT
DTSTART;TZID=America/Edmonton:20250803T183000
DTEND;TZID=America/Edmonton:20251002T203000
DTSTAMP:20260419T100014
CREATED:20250803T235938Z
LAST-MODIFIED:20250803T235938Z
UID:34122-1754245800-1759437000@savourcalgary.ca
SUMMARY:Spanish Fiesta
DESCRIPTION:From zesty and crisp Albarino to the rustic power of Rioja\, and beyond! As we sip through six incredible wines\, immerse yourself in the lively culture of the Iberian peninsula\, one glass at a time! \nDetails and registration @ Market Wines
URL:https://savourcalgary.ca/event/spanish-fiesta-4/
LOCATION:Market Wines – University District\, 4109 University Avenue NW\, Calgary\, Alberta\, T3B6K3\, Canada
CATEGORIES:Beverages,Tasting,Wine
ATTACH;FMTTYPE=image/jpeg:https://savourcalgary.ca/wp-content/uploads/2025/08/spanish.jpg
END:VEVENT
BEGIN:VEVENT
DTSTART;TZID=America/Edmonton:20250916T190000
DTEND;TZID=America/Edmonton:20250916T210000
DTSTAMP:20260419T100014
CREATED:20250725T235538Z
LAST-MODIFIED:20250725T235538Z
UID:33948-1758049200-1758056400@savourcalgary.ca
SUMMARY:Glenfarclas Summer 2024 Family Casks
DESCRIPTION:The Summer 2024 (S24) Glenfarclas Family Casks landed at the start of summer (2025)\, KWM is dying to try them\, and expect some of you might be too. Join them as they taste their way through 7 Glenfarclas single casks\, from vintages 1999\, 2000\, 2001\, 2002\, 2004\, 2005\, and 2009. There is a fun Calgary connection to the 2009\, the first-ever Family Cask bottled from this vintage. Every year Glenfarclas introduces a new vintage to the Family Casks\, aged roughly 15 years. For the last few years\, Glenfarclas has held a tasting at the distillery during the Spirit of Speyside to select this bottling. In 2024\, eight Calgarians took part in the tasting which selected the first-ever vintage 2009 Family Cask. \nDetails and registration @ Kensington Wine Market \n 
URL:https://savourcalgary.ca/event/glenfarclas-summer-2024-family-casks/
LOCATION:Kensington Wine Market\, 1257 Kensington Rd. NW\, Calgary\, Alberta\, T2N3P8\, Canada
CATEGORIES:Beverages,Tasting,Whiskey
ATTACH;FMTTYPE=image/jpeg:https://savourcalgary.ca/wp-content/uploads/2025/07/cask-KWM.jpg
END:VEVENT
END:VCALENDAR