BEGIN:VCALENDAR
VERSION:2.0
PRODID:-//Savour Calgary - ECPv6.15.17.1//NONSGML v1.0//EN
CALSCALE:GREGORIAN
METHOD:PUBLISH
X-ORIGINAL-URL:https://savourcalgary.ca
X-WR-CALDESC:Events for Savour Calgary
REFRESH-INTERVAL;VALUE=DURATION:PT1H
X-Robots-Tag:noindex
X-PUBLISHED-TTL:PT1H
BEGIN:VTIMEZONE
TZID:America/Edmonton
BEGIN:DAYLIGHT
TZOFFSETFROM:-0700
TZOFFSETTO:-0600
TZNAME:MDT
DTSTART:20240310T090000
END:DAYLIGHT
BEGIN:STANDARD
TZOFFSETFROM:-0600
TZOFFSETTO:-0700
TZNAME:MST
DTSTART:20241103T080000
END:STANDARD
BEGIN:DAYLIGHT
TZOFFSETFROM:-0700
TZOFFSETTO:-0600
TZNAME:MDT
DTSTART:20250309T090000
END:DAYLIGHT
BEGIN:STANDARD
TZOFFSETFROM:-0600
TZOFFSETTO:-0700
TZNAME:MST
DTSTART:20251102T080000
END:STANDARD
BEGIN:DAYLIGHT
TZOFFSETFROM:-0700
TZOFFSETTO:-0600
TZNAME:MDT
DTSTART:20260308T090000
END:DAYLIGHT
BEGIN:STANDARD
TZOFFSETFROM:-0600
TZOFFSETTO:-0700
TZNAME:MST
DTSTART:20261101T080000
END:STANDARD
END:VTIMEZONE
BEGIN:VEVENT
DTSTART;TZID=America/Edmonton:20250803T183000
DTEND;TZID=America/Edmonton:20251002T203000
DTSTAMP:20260419T100138
CREATED:20250803T235938Z
LAST-MODIFIED:20250803T235938Z
UID:34122-1754245800-1759437000@savourcalgary.ca
SUMMARY:Spanish Fiesta
DESCRIPTION:From zesty and crisp Albarino to the rustic power of Rioja\, and beyond! As we sip through six incredible wines\, immerse yourself in the lively culture of the Iberian peninsula\, one glass at a time! \nDetails and registration @ Market Wines
URL:https://savourcalgary.ca/event/spanish-fiesta-4/
LOCATION:Market Wines – University District\, 4109 University Avenue NW\, Calgary\, Alberta\, T3B6K3\, Canada
CATEGORIES:Beverages,Tasting,Wine
ATTACH;FMTTYPE=image/jpeg:https://savourcalgary.ca/wp-content/uploads/2025/08/spanish.jpg
END:VEVENT
BEGIN:VEVENT
DTSTART;TZID=America/Edmonton:20250917T180000
DTEND;TZID=America/Edmonton:20250917T200000
DTSTAMP:20260419T100138
CREATED:20250908T171901Z
LAST-MODIFIED:20250908T171901Z
UID:34737-1758132000-1758139200@savourcalgary.ca
SUMMARY:Harvest Dinner
DESCRIPTION:Celebrate the end of summer with a beautiful dinner at the Bow Valley Ranche! With a focus on local ingredients and Autumn harvest\, join us for an evening of exquisite cuisine and fine wines. \nThey invite you to arrive from 6pm for Welcome cocktails and Hors D’oeuvres. \nTheir Family Style Dinner will commence at 6:30pm – Wine and other beverages are available for purchase \nDetails and registration @ Bow Valley Ranche Restaurant
URL:https://savourcalgary.ca/event/harvest-dinner-4/
LOCATION:Bow Valley Ranche Restaurant\, 15979 Bow Bottom Trail SE\, Calgary\, Alberta\, Canada
CATEGORIES:Beverages,Dinner,Family,Harvest
ATTACH;FMTTYPE=image/png:https://savourcalgary.ca/wp-content/uploads/2023/09/wine-dinner.png
END:VEVENT
BEGIN:VEVENT
DTSTART;TZID=America/Edmonton:20250917T183000
DTEND;TZID=America/Edmonton:20250917T210000
DTSTAMP:20260419T100138
CREATED:20250727T145746Z
LAST-MODIFIED:20250727T145746Z
UID:33971-1758133800-1758142800@savourcalgary.ca
SUMMARY:Thai Classics
DESCRIPTION:Thai food wins over any crowd. It’s healthy yet rich in flavour\, spicy without assaulting the palate\, and it plays tastes and textures off one another with subtlety and finesse. Ching Li reveals how to achieve the signature notes of this\, one of her favourite cuisines\, through coconut milk and lime leaves\, cilantro and basil\, lemongrass and ginger. Enjoy Ching’s pan-Asian influences\, and her delicious\, contemporary take on the classics. \n\n\n\n\n\n\nDetails and registration @ The Cookbook Co. Cooks
URL:https://savourcalgary.ca/event/thai-classics-5/
LOCATION:The Cookbook Co. Cooks\, 722 11 Avenue SW\, Calgary\, Alberta\, T2R0E4\, Canada
CATEGORIES:Classes,Cooking,Cooking Class
ATTACH;FMTTYPE=image/png:https://savourcalgary.ca/wp-content/uploads/2024/02/cookbook-co-thai-cooking.png
END:VEVENT
BEGIN:VEVENT
DTSTART;TZID=America/Edmonton:20250917T190000
DTEND;TZID=America/Edmonton:20250917T203000
DTSTAMP:20260419T100138
CREATED:20250824T195618Z
LAST-MODIFIED:20250824T195618Z
UID:34504-1758135600-1758141000@savourcalgary.ca
SUMMARY:French Wine & Cheese
DESCRIPTION:Say oui to smooth\, savoury\, and delicious with the most beloved wine pairing in history! French elegance meets passionate simplicity as the Trusted Experts partner with Adrian Watters of Springbank Cheese Co to present a sensory joie de vivre experience with six delectable wines perfectly paired with mouth-watering cheeses. Awaken your palate with a sparkling reception. Served with fresh baguette. \nDetails and registration @ Willow Park Wines & Spirits
URL:https://savourcalgary.ca/event/french-wine-cheese-2/
LOCATION:Willow Park Wines & Spirits – Willow Park Village\, 10801 Bonaventure Drive SE\, Calgary\, Alberta\, T2J 6Z8\, Canada
CATEGORIES:Beverages,Cheese,Pairing,Tasting,Wine
ATTACH;FMTTYPE=image/png:https://savourcalgary.ca/wp-content/uploads/2025/01/french-food-and-wines.png
END:VEVENT
END:VCALENDAR