BEGIN:VCALENDAR
VERSION:2.0
PRODID:-//Savour Calgary - ECPv6.15.17.1//NONSGML v1.0//EN
CALSCALE:GREGORIAN
METHOD:PUBLISH
X-ORIGINAL-URL:https://savourcalgary.ca
X-WR-CALDESC:Events for Savour Calgary
REFRESH-INTERVAL;VALUE=DURATION:PT1H
X-Robots-Tag:noindex
X-PUBLISHED-TTL:PT1H
BEGIN:VTIMEZONE
TZID:America/Edmonton
BEGIN:DAYLIGHT
TZOFFSETFROM:-0700
TZOFFSETTO:-0600
TZNAME:MDT
DTSTART:20240310T090000
END:DAYLIGHT
BEGIN:STANDARD
TZOFFSETFROM:-0600
TZOFFSETTO:-0700
TZNAME:MST
DTSTART:20241103T080000
END:STANDARD
BEGIN:DAYLIGHT
TZOFFSETFROM:-0700
TZOFFSETTO:-0600
TZNAME:MDT
DTSTART:20250309T090000
END:DAYLIGHT
BEGIN:STANDARD
TZOFFSETFROM:-0600
TZOFFSETTO:-0700
TZNAME:MST
DTSTART:20251102T080000
END:STANDARD
BEGIN:DAYLIGHT
TZOFFSETFROM:-0700
TZOFFSETTO:-0600
TZNAME:MDT
DTSTART:20260308T090000
END:DAYLIGHT
BEGIN:STANDARD
TZOFFSETFROM:-0600
TZOFFSETTO:-0700
TZNAME:MST
DTSTART:20261101T080000
END:STANDARD
END:VTIMEZONE
BEGIN:VEVENT
DTSTART;TZID=America/Edmonton:20250803T183000
DTEND;TZID=America/Edmonton:20251002T203000
DTSTAMP:20260419T100201
CREATED:20250803T235938Z
LAST-MODIFIED:20250803T235938Z
UID:34122-1754245800-1759437000@savourcalgary.ca
SUMMARY:Spanish Fiesta
DESCRIPTION:From zesty and crisp Albarino to the rustic power of Rioja\, and beyond! As we sip through six incredible wines\, immerse yourself in the lively culture of the Iberian peninsula\, one glass at a time! \nDetails and registration @ Market Wines
URL:https://savourcalgary.ca/event/spanish-fiesta-4/
LOCATION:Market Wines – University District\, 4109 University Avenue NW\, Calgary\, Alberta\, T3B6K3\, Canada
CATEGORIES:Beverages,Tasting,Wine
ATTACH;FMTTYPE=image/jpeg:https://savourcalgary.ca/wp-content/uploads/2025/08/spanish.jpg
END:VEVENT
BEGIN:VEVENT
DTSTART;TZID=America/Edmonton:20250918T170000
DTEND;TZID=America/Edmonton:20250921T220000
DTSTAMP:20260419T100201
CREATED:20250903T160122Z
LAST-MODIFIED:20251117T044624Z
UID:34653-1758214800-1758492000@savourcalgary.ca
SUMMARY:Modern Steak's La Buca Brings Tuscan Dining to Calgary
DESCRIPTION:Tthroughout the month of September\, Calgary’s iconic Modern Steak invites guests to experience La Buca. This exclusive Tuscan steakhouse pop-up brings the rustic elegance of Florence’s traditional dining culture to Alberta’s premier steakhouse. \nInspired by the time-honoured trattorias of Tuscany\, La Buca offers a rich culinary journey anchored by a menu designed by Chef Michael Scarcelli\, Executive Chef of Lusi. The six-course tasting menu includes handmade pastas and exceptional cuts of Alberta Prime beef\, each dish highlighting the best of authentic Italian cuisine ($159+tax and gratuity). Guests can elevate the experience with optional Tuscan wine pairings ($54)\, thoughtfully selected to complement each course. La Buca runs Thursday to Sunday throughout September at Modern Steak Stephen Avenue (100 8 Ave SE) and Modern Steak Southport (10606 Southport Road SW). \nVisit Modern Steak to make your reservation.
URL:https://savourcalgary.ca/event/modern-steaks-la-buca-brings-tuscan-dining-to-calgary-3/
LOCATION:Alberta
CATEGORIES:Dinner,Pop up,Wine
ATTACH;FMTTYPE=image/png:https://savourcalgary.ca/wp-content/uploads/2025/09/Untitled-design17.png
END:VEVENT
BEGIN:VEVENT
DTSTART;TZID=America/Edmonton:20250921T090000
DTEND;TZID=America/Edmonton:20250921T143000
DTSTAMP:20260419T100201
CREATED:20250107T175139Z
LAST-MODIFIED:20250107T175139Z
UID:30213-1758445200-1758465000@savourcalgary.ca
SUMMARY:Sunday Safari Brunch
DESCRIPTION:Join The Calgary Zoo for a unique Calgary brunch experience in the heart of Destination Africa. You can enjoy both gourmet and comfort breakfast foods\, including a free-flowing chocolate fountain with fresh fruit\, eggs benedict with Canadian bacon\, a Belgian waffle bar\, cooked to order omelettes\, and much more. Get your combo brunch and admission tickets today! \nDetails and registration @ The Calgary Zoo
URL:https://savourcalgary.ca/event/sunday-safari-brunch-2-2025-09-21/
LOCATION:The Calgary Zoo\, 210 St. George's Drive NE\, Calgary\, Alberta\, T2E 7V6\, Canada
CATEGORIES:Breakfast,Brunch,Family,Friends,Kids
ATTACH;FMTTYPE=image/jpeg:https://savourcalgary.ca/wp-content/uploads/2025/01/zoo-brunch.jpg
ORGANIZER;CN="The Calgary Zoo":MAILTO:guestrelations@calgaryzoo.com
END:VEVENT
BEGIN:VEVENT
DTSTART;TZID=America/Edmonton:20250921T093000
DTEND;TZID=America/Edmonton:20250921T173000
DTSTAMP:20260419T100201
CREATED:20250918T025217Z
LAST-MODIFIED:20250920T165944Z
UID:34914-1758447000-1758475800@savourcalgary.ca
SUMMARY:Sensory Masterclass
DESCRIPTION:If you are looking to improve your ability to identify aromas and flavours in wine with real precision\, and improve your tasting ability\, then this course is for you. \nThis course covers classic grape varietals and the flavour profiles associated with them. For each grape variety you will be provided with a selection of 3 to 5 perfume strips dipped in pure aromatic essences commonly associated with that grape. You will then taste a dozen classic wines showcasing those aromas and flavors. \nDetails and registration @ Fine Vintage
URL:https://savourcalgary.ca/event/sensory-masterclass/
LOCATION:University of Calgary Downtown Campus\, 906 8 Ave SW\, Calgary\, Alberta\, T2P 1H9\, Canada
CATEGORIES:Beverages,Classes,Tasting,Wine
ATTACH;FMTTYPE=image/jpeg:https://savourcalgary.ca/wp-content/uploads/2025/09/WSET-1.jpg
END:VEVENT
BEGIN:VEVENT
DTSTART;TZID=America/Edmonton:20250921T100000
DTEND;TZID=America/Edmonton:20250921T140000
DTSTAMP:20260419T100201
CREATED:20250802T213841Z
LAST-MODIFIED:20250802T213841Z
UID:34113-1758448800-1758463200@savourcalgary.ca
SUMMARY:Ramen and Gyoza Workshop
DESCRIPTION:In the world of dynamic duos\, it’s hard to beat ramen and gyoza! Join Ching as she teaches you the fine art of making these two delicious foods. Expand your dumpling- and noodle-making skills—life will never be more yummy! \nDetails and registration @ The Cookbook Co. Cooks
URL:https://savourcalgary.ca/event/ramen-and-gyoza-workshop-5/
LOCATION:The Cookbook Co. Cooks\, 722 11 Avenue SW\, Calgary\, Alberta\, T2R0E4\, Canada
CATEGORIES:Classes,Cooking,Cooking Class,Food
ATTACH;FMTTYPE=image/png:https://savourcalgary.ca/wp-content/uploads/2024/03/ramen-and-gyoza.png
END:VEVENT
BEGIN:VEVENT
DTSTART;TZID=America/Edmonton:20250921T170000
DTEND;TZID=America/Edmonton:20250921T193000
DTSTAMP:20260419T100201
CREATED:20250907T140744Z
LAST-MODIFIED:20250907T140744Z
UID:34693-1758474000-1758483000@savourcalgary.ca
SUMMARY:OMAKASE Collaboration Dinner
DESCRIPTION:Join Chef Roy and Chef Keisuke on this unforgettable\, one night only event where they will take turns preparing each course for this OMAKASE collaboration night. \nSeats are limited\, so grab your tickets now and don’t miss out on this 5 course cuisine celebration\, only on Sunday\, September 21st. \nDetails and registration @chefkeisuke_calgary
URL:https://savourcalgary.ca/event/omakase-collaboration-dinner/
LOCATION:Shelter Cocktail Bar\, 1210 1 St SW\, Calgary\, Alberta\, T2R 0V4\, Canada
CATEGORIES:Dining Series,Dinner,Family,Friends
ATTACH;FMTTYPE=image/png:https://savourcalgary.ca/wp-content/uploads/2025/09/OMAKASE.png
END:VEVENT
END:VCALENDAR