BEGIN:VCALENDAR
VERSION:2.0
PRODID:-//Savour Calgary - ECPv6.15.17.1//NONSGML v1.0//EN
CALSCALE:GREGORIAN
METHOD:PUBLISH
X-ORIGINAL-URL:https://savourcalgary.ca
X-WR-CALDESC:Events for Savour Calgary
REFRESH-INTERVAL;VALUE=DURATION:PT1H
X-Robots-Tag:noindex
X-PUBLISHED-TTL:PT1H
BEGIN:VTIMEZONE
TZID:America/Edmonton
BEGIN:DAYLIGHT
TZOFFSETFROM:-0700
TZOFFSETTO:-0600
TZNAME:MDT
DTSTART:20240310T090000
END:DAYLIGHT
BEGIN:STANDARD
TZOFFSETFROM:-0600
TZOFFSETTO:-0700
TZNAME:MST
DTSTART:20241103T080000
END:STANDARD
BEGIN:DAYLIGHT
TZOFFSETFROM:-0700
TZOFFSETTO:-0600
TZNAME:MDT
DTSTART:20250309T090000
END:DAYLIGHT
BEGIN:STANDARD
TZOFFSETFROM:-0600
TZOFFSETTO:-0700
TZNAME:MST
DTSTART:20251102T080000
END:STANDARD
BEGIN:DAYLIGHT
TZOFFSETFROM:-0700
TZOFFSETTO:-0600
TZNAME:MDT
DTSTART:20260308T090000
END:DAYLIGHT
BEGIN:STANDARD
TZOFFSETFROM:-0600
TZOFFSETTO:-0700
TZNAME:MST
DTSTART:20261101T080000
END:STANDARD
END:VTIMEZONE
BEGIN:VEVENT
DTSTART;TZID=America/Edmonton:20250803T183000
DTEND;TZID=America/Edmonton:20251002T203000
DTSTAMP:20260419T100202
CREATED:20250803T235938Z
LAST-MODIFIED:20250803T235938Z
UID:34122-1754245800-1759437000@savourcalgary.ca
SUMMARY:Spanish Fiesta
DESCRIPTION:From zesty and crisp Albarino to the rustic power of Rioja\, and beyond! As we sip through six incredible wines\, immerse yourself in the lively culture of the Iberian peninsula\, one glass at a time! \nDetails and registration @ Market Wines
URL:https://savourcalgary.ca/event/spanish-fiesta-4/
LOCATION:Market Wines – University District\, 4109 University Avenue NW\, Calgary\, Alberta\, T3B6K3\, Canada
CATEGORIES:Beverages,Tasting,Wine
ATTACH;FMTTYPE=image/jpeg:https://savourcalgary.ca/wp-content/uploads/2025/08/spanish.jpg
END:VEVENT
BEGIN:VEVENT
DTSTART;TZID=America/Edmonton:20250925T170000
DTEND;TZID=America/Edmonton:20250928T220000
DTSTAMP:20260419T100202
CREATED:20250903T160406Z
LAST-MODIFIED:20251117T044538Z
UID:34656-1758819600-1759096800@savourcalgary.ca
SUMMARY:Modern Steak's La Buca Brings Tuscan Dining to Calgary
DESCRIPTION:Tthroughout the month of September\, Calgary’s iconic Modern Steak invites guests to experience La Buca. This exclusive Tuscan steakhouse pop-up brings the rustic elegance of Florence’s traditional dining culture to Alberta’s premier steakhouse. \nInspired by the time-honoured trattorias of Tuscany\, La Buca offers a rich culinary journey anchored by a menu designed by Chef Michael Scarcelli\, Executive Chef of Lusi. The six-course tasting menu includes handmade pastas and exceptional cuts of Alberta Prime beef\, each dish highlighting the best of authentic Italian cuisine ($159+tax and gratuity). Guests can elevate the experience with optional Tuscan wine pairings ($54)\, thoughtfully selected to complement each course. La Buca runs Thursday to Sunday throughout September at Modern Steak Stephen Avenue (100 8 Ave SE) and Modern Steak Southport (10606 Southport Road SW). \nVisit Modern Steak to make your reservation.
URL:https://savourcalgary.ca/event/modern-steaks-la-buca-brings-tuscan-dining-to-calgary-4/
LOCATION:Alberta
CATEGORIES:Dinner,Pop up,Wine
ATTACH;FMTTYPE=image/png:https://savourcalgary.ca/wp-content/uploads/2025/09/Untitled-design17.png
END:VEVENT
BEGIN:VEVENT
DTSTART;TZID=America/Edmonton:20250926T123000
DTEND;TZID=America/Edmonton:20250926T163000
DTSTAMP:20260419T100202
CREATED:20250507T165523Z
LAST-MODIFIED:20250507T165523Z
UID:32508-1758889800-1758904200@savourcalgary.ca
SUMMARY:Calgary Food Bike Tour
DESCRIPTION:Why ride alone if you can do in the company of bikers who are eager to explore? Get ready to embark on an exciting two-wheel food adventure and join them for brunch on this Food Bike tour! \nCalgary Food Bike Tour is a great way to meet new people and try some incredible local food. Food Bike Tour serves up exploration and exercise with a side of delicious. Be a tourist in your own city and indulge in fine local foods and beverages while touring on a bike around the city. Enjoy different samples of meals from 3 different local establishments. \nNothing compares to the simple pleasure of a bike ride\, food and great company. \nDetails and registration @ Eventbrite \n 
URL:https://savourcalgary.ca/event/calgary-food-bike-tour-2-2025-09-26/
LOCATION:Little Blue Church\, 1110 Gladstone Rd NW\, Calgary\, Alberta\, T2N 3E7\, Canada
CATEGORIES:Family,Food,Food Tours,Friends,Tour
ATTACH;FMTTYPE=image/jpeg:https://savourcalgary.ca/wp-content/uploads/2023/07/Calgary-Food-Bike-Tour.jpg
END:VEVENT
BEGIN:VEVENT
DTSTART;TZID=America/Edmonton:20250926T180000
DTEND;TZID=America/Edmonton:20250926T233000
DTSTAMP:20260419T100202
CREATED:20250808T011411Z
LAST-MODIFIED:20250808T011411Z
UID:34166-1758909600-1758929400@savourcalgary.ca
SUMMARY:Harvest Haus Oktoberfest
DESCRIPTION:After roaring success in BC\, Harvest Haus is coming to Calgary and they’re rolling out all the barrels. Combining modern fare with authentic European harvest traditions\, gather your crew and come let loose at what has become known as one of Vancouver’s most fun events of the year. Join international and local brewers\, vintners\, chefs and entertainers at their best as they showcase new seasonal flavours along with the Oktoberfest classics you love. Tap that keg! \n\n\n\n\n\n\n\nDetails and registration @ Harvest Haus
URL:https://savourcalgary.ca/event/harvest-haus-oktoberfest/
LOCATION:Big Four Roadhouse\, 1801 Big Four Trail SE\, Calgary\, Alberta\, T2G 2W1\, Canada
CATEGORIES:Beer,Beverages,Celebration,Harvest
ATTACH;FMTTYPE=image/jpeg:https://savourcalgary.ca/wp-content/uploads/2025/08/harvest-haus.jpg
END:VEVENT
BEGIN:VEVENT
DTSTART;TZID=America/Edmonton:20250926T183000
DTEND;TZID=America/Edmonton:20250926T210000
DTSTAMP:20260419T100202
CREATED:20250802T212928Z
LAST-MODIFIED:20250802T212928Z
UID:34107-1758911400-1758920400@savourcalgary.ca
SUMMARY:Thai Night: A Couples Class
DESCRIPTION:If you’re looking for a fresh\, exciting idea for the weekend\, find a friend or invite your partner to spend a deliciously different evening adding to your culinary repertoire. Master new recipes and cooking techniques together in a fun\, casual atmosphere\, then enjoy the great food that everyone has made. Sharpen your skills while you get to know like-minded people. Space is limited. Book early for this popular hands-on class! \nDetails and registration @ The Cookbook Co. Cooks
URL:https://savourcalgary.ca/event/thai-night-a-couples-class/
LOCATION:The Cookbook Co. Cooks\, 722 11 Avenue SW\, Calgary\, Alberta\, T2R0E4\, Canada
CATEGORIES:Classes,Cooking,Cooking Class,Date Ideas
ATTACH;FMTTYPE=image/png:https://savourcalgary.ca/wp-content/uploads/2024/02/cookbook-co-thai-cooking.png
END:VEVENT
BEGIN:VEVENT
DTSTART;TZID=America/Edmonton:20250926T190000
DTEND;TZID=America/Edmonton:20250926T210000
DTSTAMP:20260419T100202
CREATED:20250803T235948Z
LAST-MODIFIED:20250803T235948Z
UID:34126-1758913200-1758920400@savourcalgary.ca
SUMMARY:Price Wars: Guess the Splurge
DESCRIPTION:Welcome to Price Wars! In this fun\, interactive style tasting\, Market Wines will lead you through pairs of wines made from the same grape variety – with a twist! One will be a fancy wine\, while the other a budget-friendly gem. They challenge you\, and your palate\, to compare the flavors\, and see if you can tell the splurge from the steal! \nDetails and registration @ Market Wines \n 
URL:https://savourcalgary.ca/event/price-wars-guess-the-splurge/
LOCATION:Market Wines west\, 55 Greenbriar Drive Northwest\, Calgary\, Alberta\, T3B 6M3\, Canada
CATEGORIES:Beverages,Tasting,Wine
ATTACH;FMTTYPE=image/jpeg:https://savourcalgary.ca/wp-content/uploads/2025/08/price-war.jpg
END:VEVENT
BEGIN:VEVENT
DTSTART;TZID=America/Edmonton:20250926T190000
DTEND;TZID=America/Edmonton:20250926T210000
DTSTAMP:20260419T100202
CREATED:20250824T195031Z
LAST-MODIFIED:20250824T195031Z
UID:34494-1758913200-1758920400@savourcalgary.ca
SUMMARY:Spanish Festival
DESCRIPTION:¡Salud! Willow Park is bringing you vibrant wines straight from Spain and Portugal\, two of the world’s most colourful\, diverse countries known for exceptional quality at affordable prices. Sample bold reds and distinctive whites\, paired with tasty bites from their kitchen team. It’s a fiesta in a glass! \nDetails and registration @ Willow Park Wines & Spirits
URL:https://savourcalgary.ca/event/spanish-festival-4/
LOCATION:Willow Park Wines & Spirits – Willow Park Village\, 10801 Bonaventure Drive SE\, Calgary\, Alberta\, T2J 6Z8\, Canada
CATEGORIES:Beverages,Pairing,Tasting,Wine
ATTACH;FMTTYPE=image/png:https://savourcalgary.ca/wp-content/uploads/2024/08/wines.png
END:VEVENT
END:VCALENDAR