BEGIN:VCALENDAR
VERSION:2.0
PRODID:-//Savour Calgary - ECPv6.15.17.1//NONSGML v1.0//EN
CALSCALE:GREGORIAN
METHOD:PUBLISH
X-ORIGINAL-URL:https://savourcalgary.ca
X-WR-CALDESC:Events for Savour Calgary
REFRESH-INTERVAL;VALUE=DURATION:PT1H
X-Robots-Tag:noindex
X-PUBLISHED-TTL:PT1H
BEGIN:VTIMEZONE
TZID:America/Edmonton
BEGIN:DAYLIGHT
TZOFFSETFROM:-0700
TZOFFSETTO:-0600
TZNAME:MDT
DTSTART:20240310T090000
END:DAYLIGHT
BEGIN:STANDARD
TZOFFSETFROM:-0600
TZOFFSETTO:-0700
TZNAME:MST
DTSTART:20241103T080000
END:STANDARD
BEGIN:DAYLIGHT
TZOFFSETFROM:-0700
TZOFFSETTO:-0600
TZNAME:MDT
DTSTART:20250309T090000
END:DAYLIGHT
BEGIN:STANDARD
TZOFFSETFROM:-0600
TZOFFSETTO:-0700
TZNAME:MST
DTSTART:20251102T080000
END:STANDARD
BEGIN:DAYLIGHT
TZOFFSETFROM:-0700
TZOFFSETTO:-0600
TZNAME:MDT
DTSTART:20260308T090000
END:DAYLIGHT
BEGIN:STANDARD
TZOFFSETFROM:-0600
TZOFFSETTO:-0700
TZNAME:MST
DTSTART:20261101T080000
END:STANDARD
END:VTIMEZONE
BEGIN:VEVENT
DTSTART;TZID=America/Edmonton:20251001T170000
DTEND;TZID=America/Edmonton:20251102T000000
DTSTAMP:20260419T081104
CREATED:20251023T165910Z
LAST-MODIFIED:20251023T165910Z
UID:35527-1759338000-1762041600@savourcalgary.ca
SUMMARY:Ricardo’s Nightmare Before Christmas Pop-up
DESCRIPTION:If you’ve ever visited the fun and festive Sippin’ Santa holiday pop-up bar at Ricardo’s Hideaway before\, you’ll be happy to hear the local restaurant offers a Halloween-themed pop-up bar experience as well. Ricardo’s Nightmare Before Christmas pop-up promises plenty of Halloween decor to enjoy while sipping on inventive cocktails. \nDetails @ Ricardo’s Hideaway
URL:https://savourcalgary.ca/event/ricardos-nightmare-before-christmas-pop-up/
LOCATION:Ricardo’s Hideaway\, 1530 5th Street SW\, Calgary\, Alberta\, T2R1K3\, Canada
CATEGORIES:Beverages,Cocktail,Halloween
ATTACH;FMTTYPE=image/png:https://savourcalgary.ca/wp-content/uploads/2025/10/bar.png
ORGANIZER;CN="Ricardo's Hideaway":MAILTO:info@ricardoshideaway.ca
END:VEVENT
BEGIN:VEVENT
DTSTART;TZID=America/Edmonton:20251001T180000
DTEND;TZID=America/Edmonton:20251101T000000
DTSTAMP:20260419T081104
CREATED:20251023T165953Z
LAST-MODIFIED:20251023T165953Z
UID:35535-1759341600-1761955200@savourcalgary.ca
SUMMARY:Black Lagoon Pop-up
DESCRIPTION:The team at Charlie’s Watch Repair\, which is hidden inside Salt & Brick restaurant\, is hosting a special Halloween cocktail pop-up experience. Along with Halloween-themed cocktails\, expect decorations\, actors dressed up in costumes and plenty of music. \nDetails @ Black Lagoon Pop-up
URL:https://savourcalgary.ca/event/black-lagoon-pop-up/
LOCATION:Salt & Brick\, 211 10 Ave. SW\, Calgary\, Alberta\, T2R0A4\, Canada
CATEGORIES:Beverages,Cocktail,Food,Halloween,Music
ATTACH;FMTTYPE=image/png:https://savourcalgary.ca/wp-content/uploads/2025/10/bar.png
END:VEVENT
BEGIN:VEVENT
DTSTART;TZID=America/Edmonton:20251003T170000
DTEND;TZID=America/Edmonton:20251003T220000
DTSTAMP:20260419T081104
CREATED:20250720T203646Z
LAST-MODIFIED:20250720T203646Z
UID:33922-1759510800-1759528800@savourcalgary.ca
SUMMARY:Wild After Hours: ZooDunnit (18+)
DESCRIPTION:The Calgary Zoo need your help to crack the case! Join them this October for a brand-new live murder mystery game. Gather clues\, engage with a shady cast of characters\, and enjoy food and drinks throughout the zoo. \nThis adults-only night will have your team of detectives on your toes as you discover who is ‘lion’. By the end of the night\, you’ll have everything you need to know in order to solve the mystery – dinner and justice will be served! \nDetails and registration @ The Calgary Zoo
URL:https://savourcalgary.ca/event/wild-after-hours-zoodunnit-18-2/
LOCATION:The Calgary Zoo\, 210 St. George's Drive NE\, Calgary\, Alberta\, T2E 7V6\, Canada
CATEGORIES:Dinner,Entertainment,Family,Food,Friends,Game,Halloween
ATTACH;FMTTYPE=image/png:https://savourcalgary.ca/wp-content/uploads/2023/10/Untitled-design520.png
ORGANIZER;CN="The Calgary Zoo":MAILTO:guestrelations@calgaryzoo.com
END:VEVENT
BEGIN:VEVENT
DTSTART;TZID=America/Edmonton:20251003T183000
DTEND;TZID=America/Edmonton:20251003T203000
DTSTAMP:20260419T081104
CREATED:20250803T235933Z
LAST-MODIFIED:20250803T235933Z
UID:34120-1759516200-1759523400@savourcalgary.ca
SUMMARY:Discover Barolo
DESCRIPTION:Tonight Market Wines is pouring Barolo from one of their favorite producers\, and they want to show you why they love them so much. \nSourced from the historical vineyards of La Morra\, Marengo’s wines exemplify elegance\, terroir-driven complexity and the balance between structure and finesse. \nJoin them as they journey through some of the best Barolo wines available. \nDetails and registration @ Market Wines \n 
URL:https://savourcalgary.ca/event/discover-barolo/
LOCATION:Market Wines – University District\, 4109 University Avenue NW\, Calgary\, Alberta\, T3B6K3\, Canada
CATEGORIES:Beverages,Tasting,Wine
ATTACH;FMTTYPE=image/jpeg:https://savourcalgary.ca/wp-content/uploads/2025/08/barolo.jpg
END:VEVENT
BEGIN:VEVENT
DTSTART;TZID=America/Edmonton:20251003T183000
DTEND;TZID=America/Edmonton:20251003T203000
DTSTAMP:20260419T081104
CREATED:20250817T220811Z
LAST-MODIFIED:20250817T220811Z
UID:34448-1759516200-1759523400@savourcalgary.ca
SUMMARY:Discover Barolo
DESCRIPTION:Tonight Market Wines is pouring Barolo from one of their favorite producers\, and they want to show you why they love them so much. \nSourced from the historical vineyards of La Morra\, Marengo’s wines exemplify elegance\, terroir-driven complexity and the balance between structure and finesse. Join them as they journey through some of the best Barolo wines available. \nDetails and registration @ Market Wines
URL:https://savourcalgary.ca/event/discover-barolo-2/
LOCATION:Market Wines – University District\, 4109 University Avenue NW\, Calgary\, Alberta\, T3B6K3\, Canada
CATEGORIES:Beverages,Tasting,Wine
ATTACH;FMTTYPE=image/jpeg:https://savourcalgary.ca/wp-content/uploads/2025/08/barolo-MW.jpg
END:VEVENT
BEGIN:VEVENT
DTSTART;TZID=America/Edmonton:20251003T190000
DTEND;TZID=America/Edmonton:20251003T203000
DTSTAMP:20260419T081104
CREATED:20250831T140454Z
LAST-MODIFIED:20250831T140454Z
UID:34596-1759518000-1759523400@savourcalgary.ca
SUMMARY:Italian Wine & Antipasti
DESCRIPTION:Ciao! Get ready for la bella vita as the Trusted Experts partner with Tesoro Italian Market for a palate-pleasing evening of wine and antipasti. Savour six luscious Italian wines from celebrated regions like Tuscany and Piedmont\, and discover unique grape varieties rich in old-world character. Each wine is served with a selection of small bites and classic appies—highlighting the vibrant flavours and cultural traditions of Italy. A delicious night of sipping\, snacking\, and dolce vita charm awaits! \nDetails and registration @ Willow Park Wines & Spirits
URL:https://savourcalgary.ca/event/italian-wine-antipasti/
LOCATION:Willow Park Wines & Spirits- Windermere\, 1215 175 Street Southwest\, Calgary\, Alberta\, Canada
CATEGORIES:Beverages,Food,Pairing,Tasting,Wine
ATTACH;FMTTYPE=image/png:https://savourcalgary.ca/wp-content/uploads/2024/08/wines.png
END:VEVENT
BEGIN:VEVENT
DTSTART;TZID=America/Edmonton:20251003T190000
DTEND;TZID=America/Edmonton:20251003T210000
DTSTAMP:20260419T081104
CREATED:20250815T212052Z
LAST-MODIFIED:20250815T212052Z
UID:34414-1759518000-1759525200@savourcalgary.ca
SUMMARY:Meet the Winemaker: The Okanagan’s Dirty Landry Vineyard
DESCRIPTION:Join Calgary Co-op for an exclusive evening of wine discovery with Dirty Laundry Wines. Meet the passionate winemaker behind the label and explore a curated selection of their most distinctive and expressive vintages. Learn about the winemaking process\, the stories behind each bottle\, and enjoy guided tastings in a relaxed\, intimate setting. Whether you’re a seasoned connoisseur or a curious newcomer\, this is your chance to sip\, savor\, and connect with the craft behind the wine. \nDetails and registration @ Calgary Co-op Wine Spirits & Beer
URL:https://savourcalgary.ca/event/meet-the-winemaker-the-okanagans-dirty-landry-vineyard-2/
LOCATION:Calgary Co-op Shawnessy Wine Spirits Beer\, 80\, 250 Shawville Boulevard SE\, Calgary\, Alberta\, T2Y 2Z7\, Canada
CATEGORIES:Beverages,Tasting,Wine
ATTACH;FMTTYPE=image/jpeg:https://savourcalgary.ca/wp-content/uploads/2025/08/wine-field-co-op.jpg
END:VEVENT
BEGIN:VEVENT
DTSTART;TZID=America/Edmonton:20251003T190000
DTEND;TZID=America/Edmonton:20251003T210000
DTSTAMP:20260419T081104
CREATED:20250830T225923Z
LAST-MODIFIED:20250830T225923Z
UID:34573-1759518000-1759525200@savourcalgary.ca
SUMMARY:Italian Festival
DESCRIPTION:La Dolce Vita! Willow Park invites you to immerse yourself in the Old World charm of Italian wines and delicious antipasti. These wines are famous for their broad diversity\, rich characteristics\, and suave approachability. They’re showcasing crisp whites\, luscious rosés\, and smooth deep reds. Discover new favourites as you explore ancient vines\, modern and innovative wineries\, and flavours to suit every palate. Their kitchen team will deliver a delicious offering of appetizer bites\, meats\, cheeses\, and sweets worthy of every nonna’s table! \nDetails and registration @ Willow Park Wines & Spirits
URL:https://savourcalgary.ca/event/italian-festival-3/
LOCATION:Willow Park Wines & Spirits – Willow Park Village\, 10801 Bonaventure Drive SE\, Calgary\, Alberta\, T2J 6Z8\, Canada
CATEGORIES:Beverages,Festival,Tasting,Wine
ATTACH;FMTTYPE=image/png:https://savourcalgary.ca/wp-content/uploads/2024/10/wine-pouring.png
END:VEVENT
END:VCALENDAR