BEGIN:VCALENDAR
VERSION:2.0
PRODID:-//Savour Calgary - ECPv6.15.17.1//NONSGML v1.0//EN
CALSCALE:GREGORIAN
METHOD:PUBLISH
X-ORIGINAL-URL:https://savourcalgary.ca
X-WR-CALDESC:Events for Savour Calgary
REFRESH-INTERVAL;VALUE=DURATION:PT1H
X-Robots-Tag:noindex
X-PUBLISHED-TTL:PT1H
BEGIN:VTIMEZONE
TZID:America/Edmonton
BEGIN:DAYLIGHT
TZOFFSETFROM:-0700
TZOFFSETTO:-0600
TZNAME:MDT
DTSTART:20240310T090000
END:DAYLIGHT
BEGIN:STANDARD
TZOFFSETFROM:-0600
TZOFFSETTO:-0700
TZNAME:MST
DTSTART:20241103T080000
END:STANDARD
BEGIN:DAYLIGHT
TZOFFSETFROM:-0700
TZOFFSETTO:-0600
TZNAME:MDT
DTSTART:20250309T090000
END:DAYLIGHT
BEGIN:STANDARD
TZOFFSETFROM:-0600
TZOFFSETTO:-0700
TZNAME:MST
DTSTART:20251102T080000
END:STANDARD
BEGIN:DAYLIGHT
TZOFFSETFROM:-0700
TZOFFSETTO:-0600
TZNAME:MDT
DTSTART:20260308T090000
END:DAYLIGHT
BEGIN:STANDARD
TZOFFSETFROM:-0600
TZOFFSETTO:-0700
TZNAME:MST
DTSTART:20261101T080000
END:STANDARD
END:VTIMEZONE
BEGIN:VEVENT
DTSTART;TZID=America/Edmonton:20251001T170000
DTEND;TZID=America/Edmonton:20251102T000000
DTSTAMP:20260419T094122
CREATED:20251023T165910Z
LAST-MODIFIED:20251023T165910Z
UID:35527-1759338000-1762041600@savourcalgary.ca
SUMMARY:Ricardo’s Nightmare Before Christmas Pop-up
DESCRIPTION:If you’ve ever visited the fun and festive Sippin’ Santa holiday pop-up bar at Ricardo’s Hideaway before\, you’ll be happy to hear the local restaurant offers a Halloween-themed pop-up bar experience as well. Ricardo’s Nightmare Before Christmas pop-up promises plenty of Halloween decor to enjoy while sipping on inventive cocktails. \nDetails @ Ricardo’s Hideaway
URL:https://savourcalgary.ca/event/ricardos-nightmare-before-christmas-pop-up/
LOCATION:Ricardo’s Hideaway\, 1530 5th Street SW\, Calgary\, Alberta\, T2R1K3\, Canada
CATEGORIES:Beverages,Cocktail,Halloween
ATTACH;FMTTYPE=image/png:https://savourcalgary.ca/wp-content/uploads/2025/10/bar.png
ORGANIZER;CN="Ricardo's Hideaway":MAILTO:info@ricardoshideaway.ca
END:VEVENT
BEGIN:VEVENT
DTSTART;TZID=America/Edmonton:20251001T180000
DTEND;TZID=America/Edmonton:20251101T000000
DTSTAMP:20260419T094122
CREATED:20251023T165953Z
LAST-MODIFIED:20251023T165953Z
UID:35535-1759341600-1761955200@savourcalgary.ca
SUMMARY:Black Lagoon Pop-up
DESCRIPTION:The team at Charlie’s Watch Repair\, which is hidden inside Salt & Brick restaurant\, is hosting a special Halloween cocktail pop-up experience. Along with Halloween-themed cocktails\, expect decorations\, actors dressed up in costumes and plenty of music. \nDetails @ Black Lagoon Pop-up
URL:https://savourcalgary.ca/event/black-lagoon-pop-up/
LOCATION:Salt & Brick\, 211 10 Ave. SW\, Calgary\, Alberta\, T2R0A4\, Canada
CATEGORIES:Beverages,Cocktail,Food,Halloween,Music
ATTACH;FMTTYPE=image/png:https://savourcalgary.ca/wp-content/uploads/2025/10/bar.png
END:VEVENT
BEGIN:VEVENT
DTSTART;TZID=America/Edmonton:20251004T100000
DTEND;TZID=America/Edmonton:20251004T113000
DTSTAMP:20260419T094122
CREATED:20250710T184901Z
LAST-MODIFIED:20250710T184901Z
UID:33746-1759572000-1759577400@savourcalgary.ca
SUMMARY:Intro to Espresso
DESCRIPTION:Learn how to use your home espresso machine and grinder to get the most out of your espresso. Explore basic espresso making techniques\, taste various espresso extractions and learn about basic machine care and maintenance. Class runs for 90 minutes at the Simmons Building. Price includes a bag of espresso for you to take home! \nDetails and registration @ Phil & Sebastian Coffee Roasters
URL:https://savourcalgary.ca/event/intro-to-espresso-7-2025-10-04/
LOCATION:Phil & Sebastian Coffee Roasters – Simmons Building and Roasterie\, 618 Confluence Way Southeast\, Calgary\, Alberta\, Canada
CATEGORIES:Baking/ Cooking Class,Beverages,Classes,Coffee,Coffee
ATTACH;FMTTYPE=image/jpeg:https://savourcalgary.ca/wp-content/uploads/2023/12/phil-and-sebastian-espresso.jpg
END:VEVENT
BEGIN:VEVENT
DTSTART;TZID=America/Edmonton:20251004T100000
DTEND;TZID=America/Edmonton:20251004T140000
DTSTAMP:20260419T094122
CREATED:20250815T213338Z
LAST-MODIFIED:20250815T213338Z
UID:34420-1759572000-1759586400@savourcalgary.ca
SUMMARY:Ramen and Gyoza Workshop
DESCRIPTION:In the world of dynamic duos\, it’s hard to beat ramen and gyoza! Join Ching as she teaches you the fine art of making these two delicious foods. Expand your dumpling- and noodle-making skills—life will never be more yummy! \nDetails and registration @ The Cookbook Co. Cooks
URL:https://savourcalgary.ca/event/ramen-and-gyoza-workshop-6/
LOCATION:The Cookbook Co. Cooks\, 722 11 Avenue SW\, Calgary\, Alberta\, T2R0E4\, Canada
CATEGORIES:Classes,Cooking,Cooking Class,Food,Workshop
ATTACH;FMTTYPE=image/png:https://savourcalgary.ca/wp-content/uploads/2024/03/ramen-and-gyoza.png
END:VEVENT
BEGIN:VEVENT
DTSTART;TZID=America/Edmonton:20251004T100000
DTEND;TZID=America/Edmonton:20251004T150000
DTSTAMP:20260419T094122
CREATED:20250907T143146Z
LAST-MODIFIED:20250907T143146Z
UID:34712-1759572000-1759590000@savourcalgary.ca
SUMMARY:Beaulieu Harvest & Artisan Market
DESCRIPTION:They’re taking their beloved artisan market inside this fall with the first-ever Beaulieu Harvest & Artisan Market! There’s no better place to be in sweater weather than inside the historic house of Lougheed House\, so come browse a cozy lineup of vendors\, participate in a free workshop\, or just explore the house – all for free in celebration of their 20th anniversary as a museum! \nDetails and registration @ Lougheed House
URL:https://savourcalgary.ca/event/beaulieu-harvest-artisan-market/
LOCATION:Lougheed House\, 707 13 Ave SW\, Calgary\, Alberta\, T2R 0K8\, Canada
CATEGORIES:Family,Friends,Harvest,Market
ATTACH;FMTTYPE=image/png:https://savourcalgary.ca/wp-content/uploads/2025/09/Lougheed-house.png
END:VEVENT
BEGIN:VEVENT
DTSTART;TZID=America/Edmonton:20251004T123000
DTEND;TZID=America/Edmonton:20251004T143000
DTSTAMP:20260419T094122
CREATED:20250710T184801Z
LAST-MODIFIED:20250710T184801Z
UID:33744-1759581000-1759588200@savourcalgary.ca
SUMMARY:Intro to Latte Art & Steaming
DESCRIPTION:Learn how to steam milk to produce creamy micro-foam and how to pour basic latte art designs. The class runs for two hours at Phil & Sebastian’s Simmons Building . Price includes a bag of espresso for you to take home! \nThey recommend taking the Intro to Espresso class first\, but it is not required. \nDetails and registration @ Phil & Sebastian Coffee Roasters
URL:https://savourcalgary.ca/event/intro-to-latte-art-steaming-6-2025-10-04/
LOCATION:Phil & Sebastian Coffee Roasters – Simmons Building and Roasterie\, 618 Confluence Way Southeast\, Calgary\, Alberta\, Canada
CATEGORIES:Art,Baking/ Cooking Class,Beverages,Classes,Coffee,Coffee
ATTACH;FMTTYPE=image/jpeg:https://savourcalgary.ca/wp-content/uploads/2023/12/phil-and-sebastian-latte-art.jpg
END:VEVENT
BEGIN:VEVENT
DTSTART;TZID=America/Edmonton:20251004T140000
DTEND;TZID=America/Edmonton:20251004T150000
DTSTAMP:20260419T094122
CREATED:20250817T220754Z
LAST-MODIFIED:20250817T220754Z
UID:34446-1759586400-1759590000@savourcalgary.ca
SUMMARY:Autumn Wine Guide
DESCRIPTION:The weather is turning and Market Wines is reaching for their cozy sweaters\, but what pairs best with the season? Join them as they gear you up with the best wines for the season! \nDetails and registration @ Market Wines
URL:https://savourcalgary.ca/event/autumn-wine-guide/
LOCATION:Market Wines – University District\, 4109 University Avenue NW\, Calgary\, Alberta\, T3B6K3\, Canada
CATEGORIES:Beverages,Pairing,Tasting,Wine
ATTACH;FMTTYPE=image/jpeg:https://savourcalgary.ca/wp-content/uploads/2025/08/autumn-MW.jpg
END:VEVENT
BEGIN:VEVENT
DTSTART;TZID=America/Edmonton:20251004T150000
DTEND;TZID=America/Edmonton:20251004T173000
DTSTAMP:20260419T094122
CREATED:20250310T011223Z
LAST-MODIFIED:20250310T011223Z
UID:31246-1759590000-1759599000@savourcalgary.ca
SUMMARY:Iconic Eats of Calgary Food Tour
DESCRIPTION:Eat the iconic foods of Calgary in the heart of downtown on this fully-guided tour. Absorb vivid stories of the blue sky city’s history\, art\, and culture while tasting 4 food and beverage pairings from stellar venues in the heart of the city’s culinary world. Enjoy a 1.5 kilometer easy walking and tasting journey\, exploring diverse food offerings in a 2.5 hour time span. There will be 2 savoury and 2 sweet tastings. The beloved Grande Dame of Calgary Hotels\, The Fairmont Palliser\, anchors the tour with a chef’s demo and three tastings plus a take home recipe. From there stroll historic Stephen Avenue for another satiating savoury tasting followed by a stop at a premiere bean to bar chocolate maker before finishing with a soul satisfying dessert. \n\n\nDetails and registration @ Alberta Food Tours
URL:https://savourcalgary.ca/event/iconic-eats-of-calgary-food-tour-2-2025-10-04/
LOCATION:Alberta
CATEGORIES:Beverages,Food,Food Tours,Tour
ATTACH;FMTTYPE=image/png:https://savourcalgary.ca/wp-content/uploads/2025/03/burger.png
END:VEVENT
BEGIN:VEVENT
DTSTART;TZID=America/Edmonton:20251004T170000
DTEND;TZID=America/Edmonton:20251004T183000
DTSTAMP:20260419T094122
CREATED:20250831T140439Z
LAST-MODIFIED:20250831T140439Z
UID:34594-1759597200-1759602600@savourcalgary.ca
SUMMARY:Timeless Italian Masterclass
DESCRIPTION:Let Willow Park take you back in time. Indulge in a premium tasting of Italy’s most iconic wine regions as they pour standout library vintages that embody the legendary spirit of Italian winemaking. Savour the bold structure of a 2009 Barolo\, sip the age-worthy elegance of a 2013 Valpolicella\, and experience the supple depth of a 2007 Montalcino alongside the refined charm of a 1995 Montepulciano. \nDetails and registration @ Willow Park Wines & Spirits
URL:https://savourcalgary.ca/event/timeless-italian-masterclass/
LOCATION:Willow Park Wines & Spirits – Willow Park Village\, 10801 Bonaventure Drive SE\, Calgary\, Alberta\, T2J 6Z8\, Canada
CATEGORIES:Beverages,Classes,Tasting,Wine
ATTACH;FMTTYPE=image/png:https://savourcalgary.ca/wp-content/uploads/2024/05/red-wine.png
END:VEVENT
END:VCALENDAR