BEGIN:VCALENDAR
VERSION:2.0
PRODID:-//Savour Calgary - ECPv6.15.17.1//NONSGML v1.0//EN
CALSCALE:GREGORIAN
METHOD:PUBLISH
X-WR-CALNAME:Savour Calgary
X-ORIGINAL-URL:https://savourcalgary.ca
X-WR-CALDESC:Events for Savour Calgary
REFRESH-INTERVAL;VALUE=DURATION:PT1H
X-Robots-Tag:noindex
X-PUBLISHED-TTL:PT1H
BEGIN:VTIMEZONE
TZID:America/Edmonton
BEGIN:DAYLIGHT
TZOFFSETFROM:-0700
TZOFFSETTO:-0600
TZNAME:MDT
DTSTART:20240310T090000
END:DAYLIGHT
BEGIN:STANDARD
TZOFFSETFROM:-0600
TZOFFSETTO:-0700
TZNAME:MST
DTSTART:20241103T080000
END:STANDARD
BEGIN:DAYLIGHT
TZOFFSETFROM:-0700
TZOFFSETTO:-0600
TZNAME:MDT
DTSTART:20250309T090000
END:DAYLIGHT
BEGIN:STANDARD
TZOFFSETFROM:-0600
TZOFFSETTO:-0700
TZNAME:MST
DTSTART:20251102T080000
END:STANDARD
BEGIN:DAYLIGHT
TZOFFSETFROM:-0700
TZOFFSETTO:-0600
TZNAME:MDT
DTSTART:20260308T090000
END:DAYLIGHT
BEGIN:STANDARD
TZOFFSETFROM:-0600
TZOFFSETTO:-0700
TZNAME:MST
DTSTART:20261101T080000
END:STANDARD
END:VTIMEZONE
BEGIN:VEVENT
DTSTART;TZID=America/Edmonton:20251001T170000
DTEND;TZID=America/Edmonton:20251102T000000
DTSTAMP:20260419T080436
CREATED:20251023T165910Z
LAST-MODIFIED:20251023T165910Z
UID:35527-1759338000-1762041600@savourcalgary.ca
SUMMARY:Ricardo’s Nightmare Before Christmas Pop-up
DESCRIPTION:If you’ve ever visited the fun and festive Sippin’ Santa holiday pop-up bar at Ricardo’s Hideaway before\, you’ll be happy to hear the local restaurant offers a Halloween-themed pop-up bar experience as well. Ricardo’s Nightmare Before Christmas pop-up promises plenty of Halloween decor to enjoy while sipping on inventive cocktails. \nDetails @ Ricardo’s Hideaway
URL:https://savourcalgary.ca/event/ricardos-nightmare-before-christmas-pop-up/
LOCATION:Ricardo’s Hideaway\, 1530 5th Street SW\, Calgary\, Alberta\, T2R1K3\, Canada
CATEGORIES:Beverages,Cocktail,Halloween
ATTACH;FMTTYPE=image/png:https://savourcalgary.ca/wp-content/uploads/2025/10/bar.png
ORGANIZER;CN="Ricardo's Hideaway":MAILTO:info@ricardoshideaway.ca
END:VEVENT
BEGIN:VEVENT
DTSTART;TZID=America/Edmonton:20251001T180000
DTEND;TZID=America/Edmonton:20251101T000000
DTSTAMP:20260419T080436
CREATED:20251023T165953Z
LAST-MODIFIED:20251023T165953Z
UID:35535-1759341600-1761955200@savourcalgary.ca
SUMMARY:Black Lagoon Pop-up
DESCRIPTION:The team at Charlie’s Watch Repair\, which is hidden inside Salt & Brick restaurant\, is hosting a special Halloween cocktail pop-up experience. Along with Halloween-themed cocktails\, expect decorations\, actors dressed up in costumes and plenty of music. \nDetails @ Black Lagoon Pop-up
URL:https://savourcalgary.ca/event/black-lagoon-pop-up/
LOCATION:Salt & Brick\, 211 10 Ave. SW\, Calgary\, Alberta\, T2R0A4\, Canada
CATEGORIES:Beverages,Cocktail,Food,Halloween,Music
ATTACH;FMTTYPE=image/png:https://savourcalgary.ca/wp-content/uploads/2025/10/bar.png
END:VEVENT
BEGIN:VEVENT
DTSTART;TZID=America/Edmonton:20251018T100000
DTEND;TZID=America/Edmonton:20251018T113000
DTSTAMP:20260419T080436
CREATED:20250710T184845Z
LAST-MODIFIED:20250710T184845Z
UID:33745-1760781600-1760787000@savourcalgary.ca
SUMMARY:Home Brewing
DESCRIPTION:Learn about the effect of grind\, dose and temperature on the taste of your brewed coffee. Explore different brewing methods. Class runs for 90 minutes at Phil & Sebastian’s Simmons Building. Price includes a bag of coffee for you to take home! \nDetails and registration @ Phil & Sebastian Coffee Roasters
URL:https://savourcalgary.ca/event/home-brewing-4-2025-10-18/
LOCATION:Phil & Sebastian Coffee Roasters – Simmons Building and Roasterie\, 618 Confluence Way Southeast\, Calgary\, Alberta\, Canada
CATEGORIES:Baking/ Cooking Class,Beverages,Classes,Coffee,Coffee
ATTACH;FMTTYPE=image/jpeg:https://savourcalgary.ca/wp-content/uploads/2023/08/coffee-brewing.jpg
END:VEVENT
BEGIN:VEVENT
DTSTART;TZID=America/Edmonton:20251018T100000
DTEND;TZID=America/Edmonton:20251018T123000
DTSTAMP:20260419T080436
CREATED:20250914T001345Z
LAST-MODIFIED:20250914T001345Z
UID:34862-1760781600-1760790600@savourcalgary.ca
SUMMARY:A Turkish Meze
DESCRIPTION:The lush cooking of Turkey lends itself well to parties and feasts. Luis loves Turkish cuisine\, specfically meze—platters of intricate and delicious snacks. Join us for a menu that will have you dining on gorgeous dishes inspired by the bounty of the Mediterranean\, Europe\, and Africa. Travel the world via your tastebuds! \nDetails and registration @ The Cookbook Co. Cooks
URL:https://savourcalgary.ca/event/a-turkish-meze/
LOCATION:The Cookbook Co. Cooks\, 722 11 Avenue SW\, Calgary\, Alberta\, T2R0E4\, Canada
CATEGORIES:Cooking,Dining Series,Dinner,Food,Global
ATTACH;FMTTYPE=image/png:https://savourcalgary.ca/wp-content/uploads/2025/09/turkish-meze.png
END:VEVENT
BEGIN:VEVENT
DTSTART;TZID=America/Edmonton:20251018T121500
DTEND;TZID=America/Edmonton:20251018T153000
DTSTAMP:20260419T080436
CREATED:20250928T201122Z
LAST-MODIFIED:20250928T201122Z
UID:35086-1760789700-1760801400@savourcalgary.ca
SUMMARY:Ghost Teas
DESCRIPTION:Join Heritage Park for a spine-chilling twist on our Famous 5 Afternoon Teas! Begin with a 60-minute family-friendly ghost tour through the Park’s haunted sites\, uncovering tales of ghostly sightings and unexplained happenings. Then\, indulge in a spookily delicious menu featuring Petit Frightful Finger Sandwiches\, Mummy Wrapped French Pastries\, and more! \nDetails and registration @ Heritage Park
URL:https://savourcalgary.ca/event/ghost-teas-2025-10-18/
LOCATION:Heritage Park\, 1900 Heritage Dr SW\, Calgary\, Alberta\, T2V 2X3\, Canada
CATEGORIES:Beverages,Halloween,Tea
ATTACH;FMTTYPE=image/png:https://savourcalgary.ca/wp-content/uploads/2024/07/tea.png
END:VEVENT
BEGIN:VEVENT
DTSTART;TZID=America/Edmonton:20251018T140000
DTEND;TZID=America/Edmonton:20251018T150000
DTSTAMP:20260419T080436
CREATED:20250911T211311Z
LAST-MODIFIED:20250911T211311Z
UID:34828-1760796000-1760799600@savourcalgary.ca
SUMMARY:Sober October
DESCRIPTION:Come taste three non-alcoholic wines with Market Wines! \nThe world of non-alcoholic wines is expanding rapidly. Join them for a short 1 hour tasting featuring wines without alcohol. Taste some bubbles\, a white and a red while Matt teaches you all about the exciting world of non-alcoholic beverages. \nDetails and registration @ Market Wines \n 
URL:https://savourcalgary.ca/event/sober-october/
LOCATION:Market Wines – University District\, 4109 University Avenue NW\, Calgary\, Alberta\, T3B6K3\, Canada
CATEGORIES:Beverages,Tasting,Wine
ATTACH;FMTTYPE=image/jpeg:https://savourcalgary.ca/wp-content/uploads/2025/09/sober-MW.jpg
END:VEVENT
BEGIN:VEVENT
DTSTART;TZID=America/Edmonton:20251018T150000
DTEND;TZID=America/Edmonton:20251018T173000
DTSTAMP:20260419T080436
CREATED:20250310T011223Z
LAST-MODIFIED:20250310T011223Z
UID:31248-1760799600-1760808600@savourcalgary.ca
SUMMARY:Iconic Eats of Calgary Food Tour
DESCRIPTION:Eat the iconic foods of Calgary in the heart of downtown on this fully-guided tour. Absorb vivid stories of the blue sky city’s history\, art\, and culture while tasting 4 food and beverage pairings from stellar venues in the heart of the city’s culinary world. Enjoy a 1.5 kilometer easy walking and tasting journey\, exploring diverse food offerings in a 2.5 hour time span. There will be 2 savoury and 2 sweet tastings. The beloved Grande Dame of Calgary Hotels\, The Fairmont Palliser\, anchors the tour with a chef’s demo and three tastings plus a take home recipe. From there stroll historic Stephen Avenue for another satiating savoury tasting followed by a stop at a premiere bean to bar chocolate maker before finishing with a soul satisfying dessert. \n\n\nDetails and registration @ Alberta Food Tours
URL:https://savourcalgary.ca/event/iconic-eats-of-calgary-food-tour-2-2025-10-18/
LOCATION:Alberta
CATEGORIES:Beverages,Food,Food Tours,Tour
ATTACH;FMTTYPE=image/png:https://savourcalgary.ca/wp-content/uploads/2025/03/burger.png
END:VEVENT
END:VCALENDAR