BEGIN:VCALENDAR
VERSION:2.0
PRODID:-//Savour Calgary - ECPv6.15.17.1//NONSGML v1.0//EN
CALSCALE:GREGORIAN
METHOD:PUBLISH
X-ORIGINAL-URL:https://savourcalgary.ca
X-WR-CALDESC:Events for Savour Calgary
REFRESH-INTERVAL;VALUE=DURATION:PT1H
X-Robots-Tag:noindex
X-PUBLISHED-TTL:PT1H
BEGIN:VTIMEZONE
TZID:America/Edmonton
BEGIN:DAYLIGHT
TZOFFSETFROM:-0700
TZOFFSETTO:-0600
TZNAME:MDT
DTSTART:20240310T090000
END:DAYLIGHT
BEGIN:STANDARD
TZOFFSETFROM:-0600
TZOFFSETTO:-0700
TZNAME:MST
DTSTART:20241103T080000
END:STANDARD
BEGIN:DAYLIGHT
TZOFFSETFROM:-0700
TZOFFSETTO:-0600
TZNAME:MDT
DTSTART:20250309T090000
END:DAYLIGHT
BEGIN:STANDARD
TZOFFSETFROM:-0600
TZOFFSETTO:-0700
TZNAME:MST
DTSTART:20251102T080000
END:STANDARD
BEGIN:DAYLIGHT
TZOFFSETFROM:-0700
TZOFFSETTO:-0600
TZNAME:MDT
DTSTART:20260308T090000
END:DAYLIGHT
BEGIN:STANDARD
TZOFFSETFROM:-0600
TZOFFSETTO:-0700
TZNAME:MST
DTSTART:20261101T080000
END:STANDARD
END:VTIMEZONE
BEGIN:VEVENT
DTSTART;TZID=America/Edmonton:20251001T170000
DTEND;TZID=America/Edmonton:20251102T000000
DTSTAMP:20260419T080957
CREATED:20251023T165910Z
LAST-MODIFIED:20251023T165910Z
UID:35527-1759338000-1762041600@savourcalgary.ca
SUMMARY:Ricardo’s Nightmare Before Christmas Pop-up
DESCRIPTION:If you’ve ever visited the fun and festive Sippin’ Santa holiday pop-up bar at Ricardo’s Hideaway before\, you’ll be happy to hear the local restaurant offers a Halloween-themed pop-up bar experience as well. Ricardo’s Nightmare Before Christmas pop-up promises plenty of Halloween decor to enjoy while sipping on inventive cocktails. \nDetails @ Ricardo’s Hideaway
URL:https://savourcalgary.ca/event/ricardos-nightmare-before-christmas-pop-up/
LOCATION:Ricardo’s Hideaway\, 1530 5th Street SW\, Calgary\, Alberta\, T2R1K3\, Canada
CATEGORIES:Beverages,Cocktail,Halloween
ATTACH;FMTTYPE=image/png:https://savourcalgary.ca/wp-content/uploads/2025/10/bar.png
ORGANIZER;CN="Ricardo's Hideaway":MAILTO:info@ricardoshideaway.ca
END:VEVENT
BEGIN:VEVENT
DTSTART;TZID=America/Edmonton:20251001T180000
DTEND;TZID=America/Edmonton:20251101T000000
DTSTAMP:20260419T080957
CREATED:20251023T165953Z
LAST-MODIFIED:20251023T165953Z
UID:35535-1759341600-1761955200@savourcalgary.ca
SUMMARY:Black Lagoon Pop-up
DESCRIPTION:The team at Charlie’s Watch Repair\, which is hidden inside Salt & Brick restaurant\, is hosting a special Halloween cocktail pop-up experience. Along with Halloween-themed cocktails\, expect decorations\, actors dressed up in costumes and plenty of music. \nDetails @ Black Lagoon Pop-up
URL:https://savourcalgary.ca/event/black-lagoon-pop-up/
LOCATION:Salt & Brick\, 211 10 Ave. SW\, Calgary\, Alberta\, T2R0A4\, Canada
CATEGORIES:Beverages,Cocktail,Food,Halloween,Music
ATTACH;FMTTYPE=image/png:https://savourcalgary.ca/wp-content/uploads/2025/10/bar.png
END:VEVENT
BEGIN:VEVENT
DTSTART;TZID=America/Edmonton:20251019T090000
DTEND;TZID=America/Edmonton:20251019T143000
DTSTAMP:20260419T080957
CREATED:20250107T175139Z
LAST-MODIFIED:20250107T175139Z
UID:30217-1760864400-1760884200@savourcalgary.ca
SUMMARY:Sunday Safari Brunch
DESCRIPTION:Join The Calgary Zoo for a unique Calgary brunch experience in the heart of Destination Africa. You can enjoy both gourmet and comfort breakfast foods\, including a free-flowing chocolate fountain with fresh fruit\, eggs benedict with Canadian bacon\, a Belgian waffle bar\, cooked to order omelettes\, and much more. Get your combo brunch and admission tickets today! \nDetails and registration @ The Calgary Zoo
URL:https://savourcalgary.ca/event/sunday-safari-brunch-2-2025-10-19/
LOCATION:The Calgary Zoo\, 210 St. George's Drive NE\, Calgary\, Alberta\, T2E 7V6\, Canada
CATEGORIES:Breakfast,Brunch,Family,Friends,Kids
ATTACH;FMTTYPE=image/jpeg:https://savourcalgary.ca/wp-content/uploads/2025/01/zoo-brunch.jpg
ORGANIZER;CN="The Calgary Zoo":MAILTO:guestrelations@calgaryzoo.com
END:VEVENT
BEGIN:VEVENT
DTSTART;TZID=America/Edmonton:20251019T090000
DTEND;TZID=America/Edmonton:20251019T170000
DTSTAMP:20260419T080957
CREATED:20250907T141700Z
LAST-MODIFIED:20250907T141700Z
UID:34700-1760864400-1760893200@savourcalgary.ca
SUMMARY:Forge Your Own Knife
DESCRIPTION:Discover the fundamentals of knife-making and learn the traditional techniques involved in this single-day class. Their Blacksmith will guide and support you through each process in the design and forging of your own unique knife. \nDetails and registration @ Forge and Farm
URL:https://savourcalgary.ca/event/forge-your-own-knife/
LOCATION:Forge and Farm\, 288100 Parkins Rd W\, Millarville\, Alberta\, T0L 1K0\, Canada
CATEGORIES:Classes,Cooking,Food
ATTACH;FMTTYPE=image/jpeg:https://savourcalgary.ca/wp-content/uploads/2023/10/knifes.jpg
END:VEVENT
BEGIN:VEVENT
DTSTART;TZID=America/Edmonton:20251019T100000
DTEND;TZID=America/Edmonton:20251019T123000
DTSTAMP:20260419T080957
CREATED:20250914T001306Z
LAST-MODIFIED:20250914T001306Z
UID:34860-1760868000-1760877000@savourcalgary.ca
SUMMARY:Pierogi-Making Workshop
DESCRIPTION:Pierogies have come a long way since your Baba stuffed rounds of tender dough with sauerkraut or cottage cheese\, tossed them in melted margarine\, and set them down in front of you with a tub of sour cream—not that there was anything wrong with that! These marvellous parcels can be stuffed with anything and everything\, and in this class\, they are. Rediscover pierogies and the pure pleasure of building them from scratch. Surprise your relatives\, your friends and yourself with a fresh take on the traditional. \nDetails and registration @ The Cookbook Co. Cooks
URL:https://savourcalgary.ca/event/pierogi-making-workshop-2/
LOCATION:The Cookbook Co. Cooks\, 722 11 Avenue SW\, Calgary\, Alberta\, T2R0E4\, Canada
CATEGORIES:Classes,Cooking,Cooking Class,Workshop
ATTACH;FMTTYPE=image/png:https://savourcalgary.ca/wp-content/uploads/2023/12/pierogis.png
END:VEVENT
BEGIN:VEVENT
DTSTART;TZID=America/Edmonton:20251019T121500
DTEND;TZID=America/Edmonton:20251019T153000
DTSTAMP:20260419T080957
CREATED:20250928T201122Z
LAST-MODIFIED:20250928T201122Z
UID:35087-1760876100-1760887800@savourcalgary.ca
SUMMARY:Ghost Teas
DESCRIPTION:Join Heritage Park for a spine-chilling twist on our Famous 5 Afternoon Teas! Begin with a 60-minute family-friendly ghost tour through the Park’s haunted sites\, uncovering tales of ghostly sightings and unexplained happenings. Then\, indulge in a spookily delicious menu featuring Petit Frightful Finger Sandwiches\, Mummy Wrapped French Pastries\, and more! \nDetails and registration @ Heritage Park
URL:https://savourcalgary.ca/event/ghost-teas-2025-10-19/
LOCATION:Heritage Park\, 1900 Heritage Dr SW\, Calgary\, Alberta\, T2V 2X3\, Canada
CATEGORIES:Beverages,Halloween,Tea
ATTACH;FMTTYPE=image/png:https://savourcalgary.ca/wp-content/uploads/2024/07/tea.png
END:VEVENT
BEGIN:VEVENT
DTSTART;TZID=America/Edmonton:20251019T140000
DTEND;TZID=America/Edmonton:20251019T163000
DTSTAMP:20260419T080957
CREATED:20250914T000629Z
LAST-MODIFIED:20250914T000629Z
UID:34858-1760882400-1760891400@savourcalgary.ca
SUMMARY:Grown-Up and Kids' Class (Ages 8+)
DESCRIPTION:The two of you have eaten so many meals together\, and maybe even cooked a few. Now\, it’s time to cook something new\, together! Today\, chef Chris takes you and your child through the creation of a simple meal\, culminating in knowing that there is no “kid” food and ”adult” food\, only good food. \nDetails and registration @ The Cookbook Co. Cooks
URL:https://savourcalgary.ca/event/grown-up-and-kids-class-ages-8-2/
LOCATION:The Cookbook Co. Cooks\, 722 11 Avenue SW\, Calgary\, Alberta\, T2R0E4\, Canada
CATEGORIES:Classes,Cooking,Cooking Class,Family,Kids
ATTACH;FMTTYPE=image/png:https://savourcalgary.ca/wp-content/uploads/2022/04/Untitled-design535.png
END:VEVENT
END:VCALENDAR