BEGIN:VCALENDAR
VERSION:2.0
PRODID:-//Savour Calgary - ECPv6.15.17.1//NONSGML v1.0//EN
CALSCALE:GREGORIAN
METHOD:PUBLISH
X-WR-CALNAME:Savour Calgary
X-ORIGINAL-URL:https://savourcalgary.ca
X-WR-CALDESC:Events for Savour Calgary
REFRESH-INTERVAL;VALUE=DURATION:PT1H
X-Robots-Tag:noindex
X-PUBLISHED-TTL:PT1H
BEGIN:VTIMEZONE
TZID:America/Edmonton
BEGIN:DAYLIGHT
TZOFFSETFROM:-0700
TZOFFSETTO:-0600
TZNAME:MDT
DTSTART:20240310T090000
END:DAYLIGHT
BEGIN:STANDARD
TZOFFSETFROM:-0600
TZOFFSETTO:-0700
TZNAME:MST
DTSTART:20241103T080000
END:STANDARD
BEGIN:DAYLIGHT
TZOFFSETFROM:-0700
TZOFFSETTO:-0600
TZNAME:MDT
DTSTART:20250309T090000
END:DAYLIGHT
BEGIN:STANDARD
TZOFFSETFROM:-0600
TZOFFSETTO:-0700
TZNAME:MST
DTSTART:20251102T080000
END:STANDARD
BEGIN:DAYLIGHT
TZOFFSETFROM:-0700
TZOFFSETTO:-0600
TZNAME:MDT
DTSTART:20260308T090000
END:DAYLIGHT
BEGIN:STANDARD
TZOFFSETFROM:-0600
TZOFFSETTO:-0700
TZNAME:MST
DTSTART:20261101T080000
END:STANDARD
END:VTIMEZONE
BEGIN:VEVENT
DTSTART;TZID=America/Edmonton:20251001T170000
DTEND;TZID=America/Edmonton:20251102T000000
DTSTAMP:20260419T080507
CREATED:20251023T165910Z
LAST-MODIFIED:20251023T165910Z
UID:35527-1759338000-1762041600@savourcalgary.ca
SUMMARY:Ricardo’s Nightmare Before Christmas Pop-up
DESCRIPTION:If you’ve ever visited the fun and festive Sippin’ Santa holiday pop-up bar at Ricardo’s Hideaway before\, you’ll be happy to hear the local restaurant offers a Halloween-themed pop-up bar experience as well. Ricardo’s Nightmare Before Christmas pop-up promises plenty of Halloween decor to enjoy while sipping on inventive cocktails. \nDetails @ Ricardo’s Hideaway
URL:https://savourcalgary.ca/event/ricardos-nightmare-before-christmas-pop-up/
LOCATION:Ricardo’s Hideaway\, 1530 5th Street SW\, Calgary\, Alberta\, T2R1K3\, Canada
CATEGORIES:Beverages,Cocktail,Halloween
ATTACH;FMTTYPE=image/png:https://savourcalgary.ca/wp-content/uploads/2025/10/bar.png
ORGANIZER;CN="Ricardo's Hideaway":MAILTO:info@ricardoshideaway.ca
END:VEVENT
BEGIN:VEVENT
DTSTART;TZID=America/Edmonton:20251001T180000
DTEND;TZID=America/Edmonton:20251101T000000
DTSTAMP:20260419T080507
CREATED:20251023T165953Z
LAST-MODIFIED:20251023T165953Z
UID:35535-1759341600-1761955200@savourcalgary.ca
SUMMARY:Black Lagoon Pop-up
DESCRIPTION:The team at Charlie’s Watch Repair\, which is hidden inside Salt & Brick restaurant\, is hosting a special Halloween cocktail pop-up experience. Along with Halloween-themed cocktails\, expect decorations\, actors dressed up in costumes and plenty of music. \nDetails @ Black Lagoon Pop-up
URL:https://savourcalgary.ca/event/black-lagoon-pop-up/
LOCATION:Salt & Brick\, 211 10 Ave. SW\, Calgary\, Alberta\, T2R0A4\, Canada
CATEGORIES:Beverages,Cocktail,Food,Halloween,Music
ATTACH;FMTTYPE=image/png:https://savourcalgary.ca/wp-content/uploads/2025/10/bar.png
END:VEVENT
BEGIN:VEVENT
DTSTART;TZID=America/Edmonton:20251024T183000
DTEND;TZID=America/Edmonton:20251024T203000
DTSTAMP:20260419T080507
CREATED:20250911T211318Z
LAST-MODIFIED:20250911T211318Z
UID:34831-1761330600-1761337800@savourcalgary.ca
SUMMARY:International Champagne Day
DESCRIPTION:Over the course of 2 hours you will sip a stunning flight of  6 Champagnes. \nLed by Market Wines’ host Katie\, you will learn and discover what makes these bubbles so prestigious and delicious! Learn about the deep history and production techniques connected to this famous style. \nThey will be popping corks to include classic and rare styles of Champagne. \nDetails and registration @ Market Wines
URL:https://savourcalgary.ca/event/international-champagne-day/
LOCATION:Market Wines – University District\, 4109 University Avenue NW\, Calgary\, Alberta\, T3B6K3\, Canada
CATEGORIES:Beverages,Champagne,Tasting,Wine
ATTACH;FMTTYPE=image/jpeg:https://savourcalgary.ca/wp-content/uploads/2025/09/international-MW.jpg
END:VEVENT
BEGIN:VEVENT
DTSTART;TZID=America/Edmonton:20251024T183000
DTEND;TZID=America/Edmonton:20251024T210000
DTSTAMP:20260419T080507
CREATED:20250921T114854Z
LAST-MODIFIED:20250921T114854Z
UID:34964-1761330600-1761339600@savourcalgary.ca
SUMMARY:A Night Out: Couples Class
DESCRIPTION:If you’re looking for a fresh\, exciting idea for the weekend\, find a friend or invite your partner to spend a deliciously different evening that adds to your culinary repertoire. Master new recipes and simple cooking techniques together in a fun\, casual atmosphere\, then enjoy the great food that everyone has made. Sharpen your skills while you get to know like-minded people. Space is limited. Book early for this popular hands-on class! \nDetails and registration @ The Cookbook Co. Cooks
URL:https://savourcalgary.ca/event/a-night-out-couples-class-14/
LOCATION:The Cookbook Co. Cooks\, 722 11 Avenue SW\, Calgary\, Alberta\, T2R0E4\, Canada
CATEGORIES:Classes,Cooking,Cooking Class,Date Ideas
ATTACH;FMTTYPE=image/png:https://savourcalgary.ca/wp-content/uploads/2022/04/Untitled-design533.png
END:VEVENT
BEGIN:VEVENT
DTSTART;TZID=America/Edmonton:20251024T190000
DTEND;TZID=America/Edmonton:20251024T203000
DTSTAMP:20260419T080507
CREATED:20250831T140145Z
LAST-MODIFIED:20250831T140145Z
UID:34591-1761332400-1761337800@savourcalgary.ca
SUMMARY:Wine & Cheese: Fall Flavours
DESCRIPTION:Cozy sweater season is here! As the leaves turn and the air cools\, join Willow Park for a festive tasting that celebrates the rich\, comforting flavours of fall. The Trusted Experts are teaming up with Tesoro Italian Market to present an indulgent seasonal experience. Enjoy a sparkling reception followed by a selection of six rich wines\, served alongside a variety of luxurious cheeses and fresh baguette. Let this flavourful evening be your perfect autumn escape. \nDetails and registration @ Willow Park Wines & Spirits
URL:https://savourcalgary.ca/event/wine-cheese-fall-flavours/
LOCATION:Willow Park Wines & Spirits- Windermere\, 1215 175 Street Southwest\, Calgary\, Alberta\, Canada
CATEGORIES:Beverages,Cheese,Pairing,Tasting,Wine
ATTACH;FMTTYPE=image/png:https://savourcalgary.ca/wp-content/uploads/2024/09/wines.png
END:VEVENT
BEGIN:VEVENT
DTSTART;TZID=America/Edmonton:20251024T190000
DTEND;TZID=America/Edmonton:20251024T210000
DTSTAMP:20260419T080507
CREATED:20250817T215233Z
LAST-MODIFIED:20250817T215233Z
UID:34437-1761332400-1761339600@savourcalgary.ca
SUMMARY:Beer Bash
DESCRIPTION:Get pumped for brews\, bites\, and Calgary’s best Beer Bash! Willow Park’s annual hoppy\, malty\, effervescent extravaganza is back with over 35 tasting stations featuring local breweries and international favourites. Sample delicious pairing bites from their kitchen team and top local food purveyors while enjoying live music and connecting with old friends. With a brew for every palate\, this is their biggest beer tasting of the year—don’t miss out! \nDetails and registration @ Willow Park Wines & Spirits
URL:https://savourcalgary.ca/event/beer-bash-3/
LOCATION:Willow Park Wines & Spirits – Willow Park Village\, 10801 Bonaventure Drive SE\, Calgary\, Alberta\, T2J 6Z8\, Canada
CATEGORIES:Beer,Beverages,Food,Pairing,Tasting
ATTACH;FMTTYPE=image/png:https://savourcalgary.ca/wp-content/uploads/2023/10/beer-glass.png
END:VEVENT
BEGIN:VEVENT
DTSTART;TZID=America/Edmonton:20251024T190000
DTEND;TZID=America/Edmonton:20251024T210000
DTSTAMP:20260419T080507
CREATED:20250820T211557Z
LAST-MODIFIED:20250820T211557Z
UID:34481-1761332400-1761339600@savourcalgary.ca
SUMMARY:Wine Battle: Chile vs. Argentina
DESCRIPTION:Tonight Calgary Co-op is comparing wines from Argentina in the east and Chile in the west of South America. Like their national dances\, both countries have their wine specialties\, tonight you may discover some new favourites to add to your ‘go to list’ or a hidden gem for cellaring. \nDetails and registration @ Calgary Co-op Wine Spirits & Beer
URL:https://savourcalgary.ca/event/wine-battle-chile-vs-argentina/
LOCATION:Calgary Co-op Beddington Wine Spirits Beer\, 8220 Centre Street N.\, Calgary\, Alberta\, T3K 1J7\, Canada
CATEGORIES:Beverages,Game,Tasting,Wine
ATTACH;FMTTYPE=image/jpeg:https://savourcalgary.ca/wp-content/uploads/2025/08/battle-co-op.jpg
END:VEVENT
BEGIN:VEVENT
DTSTART;TZID=America/Edmonton:20251024T190000
DTEND;TZID=America/Edmonton:20251024T210000
DTSTAMP:20260419T080507
CREATED:20250820T211605Z
LAST-MODIFIED:20250820T211605Z
UID:34483-1761332400-1761339600@savourcalgary.ca
SUMMARY:The Indigenous Grapes of Italy
DESCRIPTION:Explore the unique world of Italy’s indigenous grapes—where every village has its own winemaking traditions and distinctive styles. From bold Nero d’Avola to elegant Nebbiolo\, discover wines bursting with character and history. Join Calgary Co-op for a curated tasting that celebrates Italy’s rich diversity\, revealing hidden gems and centuries-old stories in every sip. Perfect for wine-lovers eager to experience authentic Italian craftsmanship like never before. \nDetails and registration @ Calgary Co-op Wine Spirits & Beer
URL:https://savourcalgary.ca/event/the-indigenous-grapes-of-italy/
LOCATION:Calgary Co-op Shawnessy Wine Spirits Beer\, 80\, 250 Shawville Boulevard SE\, Calgary\, Alberta\, T2Y 2Z7\, Canada
CATEGORIES:Beverages,Tasting,Wine
ATTACH;FMTTYPE=image/jpeg:https://savourcalgary.ca/wp-content/uploads/2025/08/co-op-italian-grapes.jpg
END:VEVENT
BEGIN:VEVENT
DTSTART;TZID=America/Edmonton:20251024T190000
DTEND;TZID=America/Edmonton:20251024T210000
DTSTAMP:20260419T080507
CREATED:20250820T211614Z
LAST-MODIFIED:20250820T211614Z
UID:34485-1761332400-1761339600@savourcalgary.ca
SUMMARY:Riedel Glassware Tasting Experience
DESCRIPTION:Riedel has been famous for the art of glass making since 1756\, and produces a style of glass for every style of wine. Differently shaped glasses enhance certain aromas and flavours – as well as your ability to perceive them. Does your vessel matter? Is it the motion of the ocean or the size of the ship? You will NEVER look at a wine glass the same again. \nDetails and registration @ Calgary Co-op Wine Spirits & Beer
URL:https://savourcalgary.ca/event/riedel-glassware-tasting-experience-3/
LOCATION:Calgary Co-op Midtown Wine Spirits Beer\, 102\, 1003 11 Street SW\, Calgary\, Alberta\, T2R 1G2\, Canada
CATEGORIES:Beverages,Tasting,Wine
ATTACH;FMTTYPE=image/jpeg:https://savourcalgary.ca/wp-content/uploads/2025/08/riedel-co-op.jpg
END:VEVENT
BEGIN:VEVENT
DTSTART;TZID=America/Edmonton:20251024T190000
DTEND;TZID=America/Edmonton:20251024T210000
DTSTAMP:20260419T080507
CREATED:20251004T001027Z
LAST-MODIFIED:20251004T001027Z
UID:35140-1761332400-1761339600@savourcalgary.ca
SUMMARY:Cheese Please! Beer Edition
DESCRIPTION:Think wine and cheese are the match made in heaven? Think again\, beer and cheese are each other’s REAL soul mates! This tasting examines their intriguing and hedonistic relationship. \nDetails and registration @ Kensington Wine Market
URL:https://savourcalgary.ca/event/cheese-please-beer-edition/
LOCATION:Kensington Wine Market\, 1257 Kensington Rd. NW\, Calgary\, Alberta\, T2N3P8\, Canada
CATEGORIES:Beer,Beverages,Cheese,Pairing,Tasting
ATTACH;FMTTYPE=image/jpeg:https://savourcalgary.ca/wp-content/uploads/2025/10/cheese-KWM.jpg
END:VEVENT
END:VCALENDAR