BEGIN:VCALENDAR
VERSION:2.0
PRODID:-//Savour Calgary - ECPv6.15.17.1//NONSGML v1.0//EN
CALSCALE:GREGORIAN
METHOD:PUBLISH
X-ORIGINAL-URL:https://savourcalgary.ca
X-WR-CALDESC:Events for Savour Calgary
REFRESH-INTERVAL;VALUE=DURATION:PT1H
X-Robots-Tag:noindex
X-PUBLISHED-TTL:PT1H
BEGIN:VTIMEZONE
TZID:America/Edmonton
BEGIN:DAYLIGHT
TZOFFSETFROM:-0700
TZOFFSETTO:-0600
TZNAME:MDT
DTSTART:20240310T090000
END:DAYLIGHT
BEGIN:STANDARD
TZOFFSETFROM:-0600
TZOFFSETTO:-0700
TZNAME:MST
DTSTART:20241103T080000
END:STANDARD
BEGIN:DAYLIGHT
TZOFFSETFROM:-0700
TZOFFSETTO:-0600
TZNAME:MDT
DTSTART:20250309T090000
END:DAYLIGHT
BEGIN:STANDARD
TZOFFSETFROM:-0600
TZOFFSETTO:-0700
TZNAME:MST
DTSTART:20251102T080000
END:STANDARD
BEGIN:DAYLIGHT
TZOFFSETFROM:-0700
TZOFFSETTO:-0600
TZNAME:MDT
DTSTART:20260308T090000
END:DAYLIGHT
BEGIN:STANDARD
TZOFFSETFROM:-0600
TZOFFSETTO:-0700
TZNAME:MST
DTSTART:20261101T080000
END:STANDARD
END:VTIMEZONE
BEGIN:VEVENT
DTSTART;TZID=America/Edmonton:20251001T170000
DTEND;TZID=America/Edmonton:20251102T000000
DTSTAMP:20260419T064636
CREATED:20251023T165910Z
LAST-MODIFIED:20251023T165910Z
UID:35527-1759338000-1762041600@savourcalgary.ca
SUMMARY:Ricardo’s Nightmare Before Christmas Pop-up
DESCRIPTION:If you’ve ever visited the fun and festive Sippin’ Santa holiday pop-up bar at Ricardo’s Hideaway before\, you’ll be happy to hear the local restaurant offers a Halloween-themed pop-up bar experience as well. Ricardo’s Nightmare Before Christmas pop-up promises plenty of Halloween decor to enjoy while sipping on inventive cocktails. \nDetails @ Ricardo’s Hideaway
URL:https://savourcalgary.ca/event/ricardos-nightmare-before-christmas-pop-up/
LOCATION:Ricardo’s Hideaway\, 1530 5th Street SW\, Calgary\, Alberta\, T2R1K3\, Canada
CATEGORIES:Beverages,Cocktail,Halloween
ATTACH;FMTTYPE=image/png:https://savourcalgary.ca/wp-content/uploads/2025/10/bar.png
ORGANIZER;CN="Ricardo's Hideaway":MAILTO:info@ricardoshideaway.ca
END:VEVENT
BEGIN:VEVENT
DTSTART;TZID=America/Edmonton:20251001T180000
DTEND;TZID=America/Edmonton:20251101T000000
DTSTAMP:20260419T064636
CREATED:20251023T165953Z
LAST-MODIFIED:20251023T165953Z
UID:35535-1759341600-1761955200@savourcalgary.ca
SUMMARY:Black Lagoon Pop-up
DESCRIPTION:The team at Charlie’s Watch Repair\, which is hidden inside Salt & Brick restaurant\, is hosting a special Halloween cocktail pop-up experience. Along with Halloween-themed cocktails\, expect decorations\, actors dressed up in costumes and plenty of music. \nDetails @ Black Lagoon Pop-up
URL:https://savourcalgary.ca/event/black-lagoon-pop-up/
LOCATION:Salt & Brick\, 211 10 Ave. SW\, Calgary\, Alberta\, T2R0A4\, Canada
CATEGORIES:Beverages,Cocktail,Food,Halloween,Music
ATTACH;FMTTYPE=image/png:https://savourcalgary.ca/wp-content/uploads/2025/10/bar.png
END:VEVENT
BEGIN:VEVENT
DTSTART;TZID=America/Edmonton:20251029T093000
DTEND;TZID=America/Edmonton:20251029T173000
DTSTAMP:20260419T064636
CREATED:20250918T024617Z
LAST-MODIFIED:20250922T184416Z
UID:34908-1761730200-1761759000@savourcalgary.ca
SUMMARY:WSET Level 3 in Wines
DESCRIPTION:The WSET Level 3 Award in Wines is a highly respected qualification. It is an advanced course that will teach you the art of tasting to the extent that you can identify wines and quality levels in blind tastings. \nDetails and registration @ Fine Vintage
URL:https://savourcalgary.ca/event/wset-level-3-in-wines-2025-10-29/
LOCATION:University of Calgary Downtown Campus\, 906 8 Ave SW\, Calgary\, Alberta\, T2P 1H9\, Canada
CATEGORIES:Beverages,Classes,Tasting,Wine
ATTACH;FMTTYPE=image/jpeg:https://savourcalgary.ca/wp-content/uploads/2025/09/WSET.jpg
END:VEVENT
BEGIN:VEVENT
DTSTART;TZID=America/Edmonton:20251029T180000
DTEND;TZID=America/Edmonton:20251029T200000
DTSTAMP:20260419T064636
CREATED:20250927T195334Z
LAST-MODIFIED:20250927T195334Z
UID:35062-1761760800-1761768000@savourcalgary.ca
SUMMARY:Hallo-wine Mixology: Spellbound Sips
DESCRIPTION:Double\, double\, wine and trouble—the cauldron is bubbling with spooky-good sips for Hallo-wine Mixology\, a Halloween-inspired night of wine-based cocktails and eerie elixirs. Forget your basic brews—Vine Styles is mixing up a ghoulishly good time with creative concoctions that highlight wine in weird and wonderful ways. \nDetails and registration @ Vine Styles
URL:https://savourcalgary.ca/event/hallo-wine-mixology-spellbound-sips-2/
LOCATION:Vine Styles\, 1127b Kensington Road Northwest
CATEGORIES:Beverages,Halloween,Tasting,Wine
ATTACH;FMTTYPE=image/jpeg:https://savourcalgary.ca/wp-content/uploads/2023/08/vine-styles.jpg
END:VEVENT
BEGIN:VEVENT
DTSTART;TZID=America/Edmonton:20251029T180000
DTEND;TZID=America/Edmonton:20251029T213000
DTSTAMP:20260419T064636
CREATED:20250928T200313Z
LAST-MODIFIED:20250928T200313Z
UID:35078-1761760800-1761773400@savourcalgary.ca
SUMMARY:Ghosts and Gourmet
DESCRIPTION:Start your evening with a delicious three-course dinner inside the Historic Wainwright Hotel\, where a Halloween feast sets the stage for chills and thrills. Once the plates are cleared and the candles burn low\, head out on one of Calgary’s most talked-about ghost tours. \nAs the Village darkens\, you’ll hear spine-tingling stories of haunted halls\, restless spirits and eerie encounters that have lingered for generations. \nDetails and registration @ Heritage Park
URL:https://savourcalgary.ca/event/ghosts-and-gourmet-3-2025-10-29/
LOCATION:Heritage Park\, 1900 Heritage Dr SW\, Calgary\, Alberta\, T2V 2X3\, Canada
CATEGORIES:Dining Series,Dinner,Food,Halloween
ATTACH;FMTTYPE=image/png:https://savourcalgary.ca/wp-content/uploads/2023/09/heritage-park-halloween.png
END:VEVENT
BEGIN:VEVENT
DTSTART;TZID=America/Edmonton:20251029T190000
DTEND;TZID=America/Edmonton:20251029T203000
DTSTAMP:20260419T064636
CREATED:20250831T134256Z
LAST-MODIFIED:20250831T134256Z
UID:34588-1761764400-1761769800@savourcalgary.ca
SUMMARY:Harvest Wine & Cheese
DESCRIPTION:Cozy sweater season is upon us! As the leaves fall and fires crackle\, join Willow Park this Thanksgiving season to indulge in crisp wines and savoury cheese pairings. The Trusted Experts are partnering with Adrian Watters of Springbank Cheese Co. to bring you the ultimate fall tasting experience. Savour six rich wines paired with luxurious cheeses\, beginning with a sparkling reception. Served with fresh baguette. \nDetails and registration @ Willow Park Wines & Spirits
URL:https://savourcalgary.ca/event/harvest-wine-cheese/
LOCATION:Willow Park Wines & Spirits – Willow Park Village\, 10801 Bonaventure Drive SE\, Calgary\, Alberta\, T2J 6Z8\, Canada
CATEGORIES:Beverages,Cheese,Harvest,Pairing,Tasting,Wine
ATTACH;FMTTYPE=image/png:https://savourcalgary.ca/wp-content/uploads/2024/09/wines.png
END:VEVENT
END:VCALENDAR