BEGIN:VCALENDAR
VERSION:2.0
PRODID:-//Savour Calgary - ECPv6.15.17.1//NONSGML v1.0//EN
CALSCALE:GREGORIAN
METHOD:PUBLISH
X-WR-CALNAME:Savour Calgary
X-ORIGINAL-URL:https://savourcalgary.ca
X-WR-CALDESC:Events for Savour Calgary
REFRESH-INTERVAL;VALUE=DURATION:PT1H
X-Robots-Tag:noindex
X-PUBLISHED-TTL:PT1H
BEGIN:VTIMEZONE
TZID:America/Edmonton
BEGIN:DAYLIGHT
TZOFFSETFROM:-0700
TZOFFSETTO:-0600
TZNAME:MDT
DTSTART:20240310T090000
END:DAYLIGHT
BEGIN:STANDARD
TZOFFSETFROM:-0600
TZOFFSETTO:-0700
TZNAME:MST
DTSTART:20241103T080000
END:STANDARD
BEGIN:DAYLIGHT
TZOFFSETFROM:-0700
TZOFFSETTO:-0600
TZNAME:MDT
DTSTART:20250309T090000
END:DAYLIGHT
BEGIN:STANDARD
TZOFFSETFROM:-0600
TZOFFSETTO:-0700
TZNAME:MST
DTSTART:20251102T080000
END:STANDARD
BEGIN:DAYLIGHT
TZOFFSETFROM:-0700
TZOFFSETTO:-0600
TZNAME:MDT
DTSTART:20260308T090000
END:DAYLIGHT
BEGIN:STANDARD
TZOFFSETFROM:-0600
TZOFFSETTO:-0700
TZNAME:MST
DTSTART:20261101T080000
END:STANDARD
END:VTIMEZONE
BEGIN:VEVENT
DTSTART;TZID=America/Edmonton:20251001T170000
DTEND;TZID=America/Edmonton:20251102T000000
DTSTAMP:20260419T063852
CREATED:20251023T165910Z
LAST-MODIFIED:20251023T165910Z
UID:35527-1759338000-1762041600@savourcalgary.ca
SUMMARY:Ricardo’s Nightmare Before Christmas Pop-up
DESCRIPTION:If you’ve ever visited the fun and festive Sippin’ Santa holiday pop-up bar at Ricardo’s Hideaway before\, you’ll be happy to hear the local restaurant offers a Halloween-themed pop-up bar experience as well. Ricardo’s Nightmare Before Christmas pop-up promises plenty of Halloween decor to enjoy while sipping on inventive cocktails. \nDetails @ Ricardo’s Hideaway
URL:https://savourcalgary.ca/event/ricardos-nightmare-before-christmas-pop-up/
LOCATION:Ricardo’s Hideaway\, 1530 5th Street SW\, Calgary\, Alberta\, T2R1K3\, Canada
CATEGORIES:Beverages,Cocktail,Halloween
ATTACH;FMTTYPE=image/png:https://savourcalgary.ca/wp-content/uploads/2025/10/bar.png
ORGANIZER;CN="Ricardo's Hideaway":MAILTO:info@ricardoshideaway.ca
END:VEVENT
BEGIN:VEVENT
DTSTART;TZID=America/Edmonton:20251001T180000
DTEND;TZID=America/Edmonton:20251101T000000
DTSTAMP:20260419T063852
CREATED:20251023T165953Z
LAST-MODIFIED:20251023T165953Z
UID:35535-1759341600-1761955200@savourcalgary.ca
SUMMARY:Black Lagoon Pop-up
DESCRIPTION:The team at Charlie’s Watch Repair\, which is hidden inside Salt & Brick restaurant\, is hosting a special Halloween cocktail pop-up experience. Along with Halloween-themed cocktails\, expect decorations\, actors dressed up in costumes and plenty of music. \nDetails @ Black Lagoon Pop-up
URL:https://savourcalgary.ca/event/black-lagoon-pop-up/
LOCATION:Salt & Brick\, 211 10 Ave. SW\, Calgary\, Alberta\, T2R0A4\, Canada
CATEGORIES:Beverages,Cocktail,Food,Halloween,Music
ATTACH;FMTTYPE=image/png:https://savourcalgary.ca/wp-content/uploads/2025/10/bar.png
END:VEVENT
BEGIN:VEVENT
DTSTART;VALUE=DATE:20251030
DTEND;VALUE=DATE:20251102
DTSTAMP:20260419T063852
CREATED:20251023T164234Z
LAST-MODIFIED:20251023T164234Z
UID:35510-1761782400-1762041599@savourcalgary.ca
SUMMARY:Korilla After Dark
DESCRIPTION:Korilla After Dark is HERE. Enter if you dare. \nFrom October 30 to November 1\, Korilla transforms into a haunted house of sizzling BBQ\, full costume chaos\, and creepy cocktails. Staff in full Halloween costume. Spooky full-store decor. Sinister drink specials only for the brave. \nCalgary’s most delicious haunted house is waiting. Book your table now before the spirits take your seat. \nDetails @korilla.kbbq
URL:https://savourcalgary.ca/event/korilla-after-dark/
LOCATION:Korilla Korean BBQ\, 1410 17 Ave SW\, Calgary\, Alberta\, T2T 5S8\, Canada
CATEGORIES:Barbecue,Beverages,Cocktail,Dining Series,Food,Halloween
ATTACH;FMTTYPE=image/png:https://savourcalgary.ca/wp-content/uploads/2025/10/halloween-events.png
END:VEVENT
BEGIN:VEVENT
DTSTART;VALUE=DATE:20251031
DTEND;VALUE=DATE:20251103
DTSTAMP:20260419T063852
CREATED:20251023T165033Z
LAST-MODIFIED:20251023T165033Z
UID:35522-1761868800-1762127999@savourcalgary.ca
SUMMARY:Noto Gelato Costume Contest
DESCRIPTION:BOO-tiful news! Noto Gelato is excited to announce their Halloween Costume Contest— and it’s for the whole family! \nCome dressed in your spookiest (or silliest) costumes between Oct 31 – Nov 2 for a chance to win sweet prizes for 1st\, 2nd & 3rd place! They’ll have candy for the kiddos and a special Halloween-inspired candy gelato you won’t want to miss. All you have to do is snap a pic at the store\, tag them\, and then obviously have a scoop (or two!) \nDetails @notogelato
URL:https://savourcalgary.ca/event/noto-gelato-costume-contest/
LOCATION:Noto Gelato\, 236 4 St NE\, Calgary\, Alberta\, T2E 3S2\, Canada
CATEGORIES:Family,Food,Halloween,Ice cream,Kids
ATTACH;FMTTYPE=image/png:https://savourcalgary.ca/wp-content/uploads/2025/10/halloween-pumkins.png
END:VEVENT
BEGIN:VEVENT
DTSTART;TZID=America/Edmonton:20251031T180000
DTEND;TZID=America/Edmonton:20251031T180000
DTSTAMP:20260419T063852
CREATED:20251025T045140Z
LAST-MODIFIED:20251025T045140Z
UID:35595-1761933600-1761933600@savourcalgary.ca
SUMMARY:Halloween Bank Heist
DESCRIPTION:Join Bank & Baron P.U.B for an evening of mystery\, decadent dining\, live entertainment\, and mischief at their Halloween Bank Heist! \nSlip on a mask\, dress to steal the show\, and step into their historic vault for a one-night takeover. Halloween Bank Heist is a gilded\, grown-up masquerade where dinner\, illusions\, and late-night beats turn Stephen Ave into your playground. \nDetails and registration @ Bank & Baron P.U.B
URL:https://savourcalgary.ca/event/halloween-bank-heist/
LOCATION:Bank & Baron P.U.B\, 125 8 Avenue Southwest\, Calgary\, Alberta\, T2P 1B4\, Canada
CATEGORIES:Beverages,Dining Series,Dinner,Entertainment,Halloween
ATTACH;FMTTYPE=image/jpeg:https://savourcalgary.ca/wp-content/uploads/2025/10/bank-heist.jpg
END:VEVENT
BEGIN:VEVENT
DTSTART;TZID=America/Edmonton:20251031T190000
DTEND;TZID=America/Edmonton:20251031T210000
DTSTAMP:20260419T063852
CREATED:20250830T223836Z
LAST-MODIFIED:20250830T223836Z
UID:34566-1761937200-1761944400@savourcalgary.ca
SUMMARY:The Cursed Cork: A Halloween Wine Tasting
DESCRIPTION:Beware what you uncork… At The Cursed Cork\, each glass comes with a ghost story\, a regional myth\, or a chilling vineyard legend. Whether it’s a region with a bloody past or ghost workers who still roam the land\, you’ll sip your way through the haunted histories behind the wines. Costumes welcome\, curiosity essential\, and courage recommended. \nDetails and registration @ Market Wines
URL:https://savourcalgary.ca/event/the-cursed-cork-a-halloween-wine-tasting/
LOCATION:Market Wines west\, 55 Greenbriar Drive Northwest\, Calgary\, Alberta\, T3B 6M3\, Canada
CATEGORIES:Beverages,Halloween,Tasting,Wine
ATTACH;FMTTYPE=image/jpeg:https://savourcalgary.ca/wp-content/uploads/2025/08/halloween-MW.jpg
END:VEVENT
BEGIN:VEVENT
DTSTART;TZID=America/Edmonton:20251031T190000
DTEND;TZID=America/Edmonton:20251031T210000
DTSTAMP:20260419T063852
CREATED:20251004T131642Z
LAST-MODIFIED:20251004T131642Z
UID:35152-1761937200-1761944400@savourcalgary.ca
SUMMARY:Cheese Please! Avoiding Trick or Treaters Edition
DESCRIPTION:Yes\, this tasting is on Halloween. No\, Marnie didn’t plan this so that she could avoid answering the door for dozens or even hundreds of costumed up kids high on life and candy. Just like you aren’t planning to attend this tasting for the same reason. Sometimes — okay — maybe all the time — tasting wine paired with cheese is just more of a priority. \nDetails and registration @ Kensington Wine Market 
URL:https://savourcalgary.ca/event/cheese-please-avoiding-trick-or-treaters-edition/
LOCATION:Kensington Wine Market\, 1257 Kensington Rd. NW\, Calgary\, Alberta\, T2N3P8\, Canada
CATEGORIES:Beverages,Cheese,Halloween,Pairing,Tasting,Wine
ATTACH;FMTTYPE=image/jpeg:https://savourcalgary.ca/wp-content/uploads/2025/10/halloween-KWM.jpg
END:VEVENT
BEGIN:VEVENT
DTSTART;TZID=America/Edmonton:20251031T190000
DTEND;TZID=America/Edmonton:20251031T210000
DTSTAMP:20260419T063853
CREATED:20251025T044329Z
LAST-MODIFIED:20251025T044329Z
UID:35589-1761937200-1761944400@savourcalgary.ca
SUMMARY:Halloween Cocktail Class
DESCRIPTION:Create delicious halloween cocktails with friends and leave with some sweet treats! \nHalloween Cocktail Class will be featuring spooky autumn themed cocktails made using Two Rivers Internationally awarded ultra premuim spirits! Dress in your in your favourite costume\, watch scary movies and learn 2 of Two Rivers cocktails! \nDetails and registration @ Two Rivers Distillery
URL:https://savourcalgary.ca/event/halloween-cocktail-class/
LOCATION:Two Rivers Distillery\, 453 42 Ave. S.E.\, Calgary\, Alberta\, T2G1Y3\, Canada
CATEGORIES:Beverages,Classes,Cocktail,Halloween,Tasting
ATTACH;FMTTYPE=image/png:https://savourcalgary.ca/wp-content/uploads/2025/10/halloween-cocktails.png
END:VEVENT
BEGIN:VEVENT
DTSTART;TZID=America/Edmonton:20251031T210000
DTEND;TZID=America/Edmonton:20251031T210000
DTSTAMP:20260419T063853
CREATED:20251016T021104Z
LAST-MODIFIED:20251016T021104Z
UID:35390-1761944400-1761944400@savourcalgary.ca
SUMMARY:Halloween Weekend at Rendesvouz
DESCRIPTION:Rendesvouz is Calgary’s southside Halloween destination with two back-to-back parties on the city’s favourite light-up dance floor: Friday\, October 31\, Freaky Friday Dance Party  and Saturday\, November 1\, Nightmare on Market Street. Both nights feature live music from 9pm–1am\, Halloween drink specials\, and a costume contest with prizes. ($10 cover) \nDetails and registration @ Rendesvouz
URL:https://savourcalgary.ca/event/halloween-weekend-at-rendesvouz/
LOCATION:Rendesvouz\, 3750 Market St SE\, Calgary\, Alberta\, T3M 2J6\, Canada
CATEGORIES:Beverages,Friends,Halloween,Music,Party
ATTACH;FMTTYPE=image/png:https://savourcalgary.ca/wp-content/uploads/2025/10/halloween-event.png
END:VEVENT
BEGIN:VEVENT
DTSTART;TZID=America/Edmonton:20251031T210000
DTEND;TZID=America/Edmonton:20251031T210000
DTSTAMP:20260419T063853
CREATED:20251023T164310Z
LAST-MODIFIED:20251023T164310Z
UID:35511-1761944400-1761944400@savourcalgary.ca
SUMMARY:Calgary’s CRAZIEST Halloween Party
DESCRIPTION:CALGARY! Your Halloween plans are HERE. They’re taking over the entire Simmons Building to throw Calgary’s CRAZIEST Halloween party. Yes — that means the first floor (@charbar_yyc) and the second floor of Simmons. \nNo one’s ever thrown a Halloween party like this. This is a two-floor takeover LFG! \nDetails and registration @tres_beaches
URL:https://savourcalgary.ca/event/calgarys-craziest-halloween-party/
LOCATION:Simmons Building\, 618 Confluence Way Southeast\, Calgary\, Alberta\, T2G 0G1\, Canada
CATEGORIES:Beverages,Food,Halloween,Party
ATTACH;FMTTYPE=image/jpeg:https://savourcalgary.ca/wp-content/uploads/2025/10/tres-beaches.jpg
END:VEVENT
END:VCALENDAR