BEGIN:VCALENDAR
VERSION:2.0
PRODID:-//Savour Calgary - ECPv6.15.17.1//NONSGML v1.0//EN
CALSCALE:GREGORIAN
METHOD:PUBLISH
X-ORIGINAL-URL:https://savourcalgary.ca
X-WR-CALDESC:Events for Savour Calgary
REFRESH-INTERVAL;VALUE=DURATION:PT1H
X-Robots-Tag:noindex
X-PUBLISHED-TTL:PT1H
BEGIN:VTIMEZONE
TZID:America/Edmonton
BEGIN:DAYLIGHT
TZOFFSETFROM:-0700
TZOFFSETTO:-0600
TZNAME:MDT
DTSTART:20240310T090000
END:DAYLIGHT
BEGIN:STANDARD
TZOFFSETFROM:-0600
TZOFFSETTO:-0700
TZNAME:MST
DTSTART:20241103T080000
END:STANDARD
BEGIN:DAYLIGHT
TZOFFSETFROM:-0700
TZOFFSETTO:-0600
TZNAME:MDT
DTSTART:20250309T090000
END:DAYLIGHT
BEGIN:STANDARD
TZOFFSETFROM:-0600
TZOFFSETTO:-0700
TZNAME:MST
DTSTART:20251102T080000
END:STANDARD
BEGIN:DAYLIGHT
TZOFFSETFROM:-0700
TZOFFSETTO:-0600
TZNAME:MDT
DTSTART:20260308T090000
END:DAYLIGHT
BEGIN:STANDARD
TZOFFSETFROM:-0600
TZOFFSETTO:-0700
TZNAME:MST
DTSTART:20261101T080000
END:STANDARD
END:VTIMEZONE
BEGIN:VEVENT
DTSTART;TZID=America/Edmonton:20251001T170000
DTEND;TZID=America/Edmonton:20251102T000000
DTSTAMP:20260419T064525
CREATED:20251023T165910Z
LAST-MODIFIED:20251023T165910Z
UID:35527-1759338000-1762041600@savourcalgary.ca
SUMMARY:Ricardo’s Nightmare Before Christmas Pop-up
DESCRIPTION:If you’ve ever visited the fun and festive Sippin’ Santa holiday pop-up bar at Ricardo’s Hideaway before\, you’ll be happy to hear the local restaurant offers a Halloween-themed pop-up bar experience as well. Ricardo’s Nightmare Before Christmas pop-up promises plenty of Halloween decor to enjoy while sipping on inventive cocktails. \nDetails @ Ricardo’s Hideaway
URL:https://savourcalgary.ca/event/ricardos-nightmare-before-christmas-pop-up/
LOCATION:Ricardo’s Hideaway\, 1530 5th Street SW\, Calgary\, Alberta\, T2R1K3\, Canada
CATEGORIES:Beverages,Cocktail,Halloween
ATTACH;FMTTYPE=image/png:https://savourcalgary.ca/wp-content/uploads/2025/10/bar.png
ORGANIZER;CN="Ricardo's Hideaway":MAILTO:info@ricardoshideaway.ca
END:VEVENT
BEGIN:VEVENT
DTSTART;VALUE=DATE:20251030
DTEND;VALUE=DATE:20251102
DTSTAMP:20260419T064525
CREATED:20251023T164234Z
LAST-MODIFIED:20251023T164234Z
UID:35510-1761782400-1762041599@savourcalgary.ca
SUMMARY:Korilla After Dark
DESCRIPTION:Korilla After Dark is HERE. Enter if you dare. \nFrom October 30 to November 1\, Korilla transforms into a haunted house of sizzling BBQ\, full costume chaos\, and creepy cocktails. Staff in full Halloween costume. Spooky full-store decor. Sinister drink specials only for the brave. \nCalgary’s most delicious haunted house is waiting. Book your table now before the spirits take your seat. \nDetails @korilla.kbbq
URL:https://savourcalgary.ca/event/korilla-after-dark/
LOCATION:Korilla Korean BBQ\, 1410 17 Ave SW\, Calgary\, Alberta\, T2T 5S8\, Canada
CATEGORIES:Barbecue,Beverages,Cocktail,Dining Series,Food,Halloween
ATTACH;FMTTYPE=image/png:https://savourcalgary.ca/wp-content/uploads/2025/10/halloween-events.png
END:VEVENT
BEGIN:VEVENT
DTSTART;VALUE=DATE:20251031
DTEND;VALUE=DATE:20251103
DTSTAMP:20260419T064525
CREATED:20251023T165033Z
LAST-MODIFIED:20251023T165033Z
UID:35522-1761868800-1762127999@savourcalgary.ca
SUMMARY:Noto Gelato Costume Contest
DESCRIPTION:BOO-tiful news! Noto Gelato is excited to announce their Halloween Costume Contest— and it’s for the whole family! \nCome dressed in your spookiest (or silliest) costumes between Oct 31 – Nov 2 for a chance to win sweet prizes for 1st\, 2nd & 3rd place! They’ll have candy for the kiddos and a special Halloween-inspired candy gelato you won’t want to miss. All you have to do is snap a pic at the store\, tag them\, and then obviously have a scoop (or two!) \nDetails @notogelato
URL:https://savourcalgary.ca/event/noto-gelato-costume-contest/
LOCATION:Noto Gelato\, 236 4 St NE\, Calgary\, Alberta\, T2E 3S2\, Canada
CATEGORIES:Family,Food,Halloween,Ice cream,Kids
ATTACH;FMTTYPE=image/png:https://savourcalgary.ca/wp-content/uploads/2025/10/halloween-pumkins.png
END:VEVENT
BEGIN:VEVENT
DTSTART;TZID=America/Edmonton:20251101T100000
DTEND;TZID=America/Edmonton:20251101T113000
DTSTAMP:20260419T064525
CREATED:20250710T184901Z
LAST-MODIFIED:20250710T184901Z
UID:33747-1761991200-1761996600@savourcalgary.ca
SUMMARY:Intro to Espresso
DESCRIPTION:Learn how to use your home espresso machine and grinder to get the most out of your espresso. Explore basic espresso making techniques\, taste various espresso extractions and learn about basic machine care and maintenance. Class runs for 90 minutes at the Simmons Building. Price includes a bag of espresso for you to take home! \nDetails and registration @ Phil & Sebastian Coffee Roasters
URL:https://savourcalgary.ca/event/intro-to-espresso-7-2025-11-01/
LOCATION:Phil & Sebastian Coffee Roasters – Simmons Building and Roasterie\, 618 Confluence Way Southeast\, Calgary\, Alberta\, Canada
CATEGORIES:Baking/ Cooking Class,Beverages,Classes,Coffee,Coffee
ATTACH;FMTTYPE=image/jpeg:https://savourcalgary.ca/wp-content/uploads/2023/12/phil-and-sebastian-espresso.jpg
END:VEVENT
BEGIN:VEVENT
DTSTART;TZID=America/Edmonton:20251101T100000
DTEND;TZID=America/Edmonton:20251101T123000
DTSTAMP:20260419T064525
CREATED:20250921T115338Z
LAST-MODIFIED:20250921T115338Z
UID:34968-1761991200-1762000200@savourcalgary.ca
SUMMARY:A Japanese Table
DESCRIPTION:Fresh\, healthy\, flavourful\, and unique–Japanese cuisine is both comforting and refined. Join chef and Japanese food enthusiast Luis Obregon for a class learning about and preparing authentic Japanese dishes. \nDetails and registration @ The Cookbook Co. Cooks
URL:https://savourcalgary.ca/event/a-japanese-table-3/
LOCATION:The Cookbook Co. Cooks\, 722 11 Avenue SW\, Calgary\, Alberta\, T2R0E4\, Canada
CATEGORIES:Classes,Cooking,Cooking Class
ATTACH;FMTTYPE=image/png:https://savourcalgary.ca/wp-content/uploads/2025/02/japanese-cuisine.png
END:VEVENT
BEGIN:VEVENT
DTSTART;TZID=America/Edmonton:20251101T140000
DTEND;TZID=America/Edmonton:20251101T150000
DTSTAMP:20260419T064525
CREATED:20251009T133414Z
LAST-MODIFIED:20251009T133414Z
UID:35205-1762005600-1762009200@savourcalgary.ca
SUMMARY:Come Taste Syrah
DESCRIPTION:Join Market Wines for 3 delicious sips of Syrah/Shiraz from around the world. \nEver wondered about the difference between Syrah and Shiraz? Or maybe you didn’t even know they were similar! Join Market Wines as they taste these different winemaking approaches from all around the world! \nDetails and registration @ Market Wines
URL:https://savourcalgary.ca/event/come-taste-syrah/
LOCATION:Market Wines – University District\, 4109 University Avenue NW\, Calgary\, Alberta\, T3B6K3\, Canada
CATEGORIES:Beverages,Global,Tasting,Wine
ATTACH;FMTTYPE=image/jpeg:https://savourcalgary.ca/wp-content/uploads/2025/10/syrah-MW.jpg
END:VEVENT
BEGIN:VEVENT
DTSTART;TZID=America/Edmonton:20251101T150000
DTEND;TZID=America/Edmonton:20251101T173000
DTSTAMP:20260419T064525
CREATED:20250310T011223Z
LAST-MODIFIED:20250310T011223Z
UID:31251-1762009200-1762018200@savourcalgary.ca
SUMMARY:Iconic Eats of Calgary Food Tour
DESCRIPTION:Eat the iconic foods of Calgary in the heart of downtown on this fully-guided tour. Absorb vivid stories of the blue sky city’s history\, art\, and culture while tasting 4 food and beverage pairings from stellar venues in the heart of the city’s culinary world. Enjoy a 1.5 kilometer easy walking and tasting journey\, exploring diverse food offerings in a 2.5 hour time span. There will be 2 savoury and 2 sweet tastings. The beloved Grande Dame of Calgary Hotels\, The Fairmont Palliser\, anchors the tour with a chef’s demo and three tastings plus a take home recipe. From there stroll historic Stephen Avenue for another satiating savoury tasting followed by a stop at a premiere bean to bar chocolate maker before finishing with a soul satisfying dessert. \n\n\nDetails and registration @ Alberta Food Tours
URL:https://savourcalgary.ca/event/iconic-eats-of-calgary-food-tour-2-2025-11-01/
LOCATION:Alberta
CATEGORIES:Beverages,Food,Food Tours,Tour
ATTACH;FMTTYPE=image/png:https://savourcalgary.ca/wp-content/uploads/2025/03/burger.png
END:VEVENT
BEGIN:VEVENT
DTSTART;TZID=America/Edmonton:20251101T183000
DTEND;TZID=America/Edmonton:20251101T183000
DTSTAMP:20260419T064525
CREATED:20251025T153527Z
LAST-MODIFIED:20251025T153527Z
UID:35609-1762021800-1762021800@savourcalgary.ca
SUMMARY:Dia de los Muertos Celebration at The Saskatoon Farm!
DESCRIPTION:Dia de los Muertos translates to Day of the Dead and its an important day in Mexican culture. Typically celebrated on November 1st Dia de los Muertos is a celebration of ancestors who have passed away – the festivities that take place are joyful and help people remember the deceased and celebrate their memory. Many of Saskatoon Farm’s team members hail from Mexico\, so it’s very exciting for them to be hosting a Dia de los Muertos celebration at the Saskatoon Farm. Their greenhouse will be glowing with Mexican decor\, lights\, towering tropical plants\, good friends\, and great music. \nDetails and registration @ Saskatoon Farm
URL:https://savourcalgary.ca/event/dia-de-los-muertos-celebration-at-the-saskatoon-farm/
LOCATION:The Saskatoon Farm\, 80181 338 Ave E #20\, Foothills County\, Alberta\, T1S 4S3\, Canada
CATEGORIES:Beverages,Entertainment,Family,Festival,Food,Friends
ATTACH;FMTTYPE=image/jpeg:https://savourcalgary.ca/wp-content/uploads/2025/10/day-of-the-dead.jpg
ORGANIZER;CN="The Saskatoon Farm":MAILTO:hello@saskatoonfarm.com
END:VEVENT
BEGIN:VEVENT
DTSTART;TZID=America/Edmonton:20251101T210000
DTEND;TZID=America/Edmonton:20251101T210000
DTSTAMP:20260419T064525
CREATED:20251016T021047Z
LAST-MODIFIED:20251016T021047Z
UID:35385-1762030800-1762030800@savourcalgary.ca
SUMMARY:Fleetwood Lounge Halloween Party
DESCRIPTION:With its sleek Cadillac-inspired setting\, Fleetwood Lounge is hosting its annual Halloween bash on Saturday\, November 1st. The evening promises energy\, glamour\, and a packed dance floor. \nDetails @ Fleetwood Lounge
URL:https://savourcalgary.ca/event/fleetwood-lounge-halloween-party/
LOCATION:Fleetwood Lounge\, 524 10 Ave SW\, Calgary\, Alberta\, T2R 1L1\, Canada
CATEGORIES:Beverages,Friends,Halloween,Music,Party
ATTACH;FMTTYPE=image/png:https://savourcalgary.ca/wp-content/uploads/2025/10/halloween-events.png
END:VEVENT
BEGIN:VEVENT
DTSTART;TZID=America/Edmonton:20251101T210000
DTEND;TZID=America/Edmonton:20251101T210000
DTSTAMP:20260419T064525
CREATED:20251016T021104Z
LAST-MODIFIED:20251016T021104Z
UID:35401-1762030800-1762030800@savourcalgary.ca
SUMMARY:Halloween Weekend at Rendesvouz
DESCRIPTION:Rendesvouz is Calgary’s southside Halloween destination with two back-to-back parties on the city’s favourite light-up dance floor: Friday\, October 31\, Freaky Friday Dance Party  and Saturday\, November 1\, Nightmare on Market Street. Both nights feature live music from 9pm–1am\, Halloween drink specials\, and a costume contest with prizes. ($10 cover) \nDetails and registration @ Rendesvouz
URL:https://savourcalgary.ca/event/halloween-weekend-at-rendesvouz-2025-11-01/
LOCATION:Rendesvouz\, 3750 Market St SE\, Calgary\, Alberta\, T3M 2J6\, Canada
CATEGORIES:Beverages,Friends,Halloween,Music,Party
ATTACH;FMTTYPE=image/png:https://savourcalgary.ca/wp-content/uploads/2025/10/halloween-event.png
END:VEVENT
END:VCALENDAR