BEGIN:VCALENDAR
VERSION:2.0
PRODID:-//Savour Calgary - ECPv6.15.17.1//NONSGML v1.0//EN
CALSCALE:GREGORIAN
METHOD:PUBLISH
X-ORIGINAL-URL:https://savourcalgary.ca
X-WR-CALDESC:Events for Savour Calgary
REFRESH-INTERVAL;VALUE=DURATION:PT1H
X-Robots-Tag:noindex
X-PUBLISHED-TTL:PT1H
BEGIN:VTIMEZONE
TZID:America/Edmonton
BEGIN:DAYLIGHT
TZOFFSETFROM:-0700
TZOFFSETTO:-0600
TZNAME:MDT
DTSTART:20240310T090000
END:DAYLIGHT
BEGIN:STANDARD
TZOFFSETFROM:-0600
TZOFFSETTO:-0700
TZNAME:MST
DTSTART:20241103T080000
END:STANDARD
BEGIN:DAYLIGHT
TZOFFSETFROM:-0700
TZOFFSETTO:-0600
TZNAME:MDT
DTSTART:20250309T090000
END:DAYLIGHT
BEGIN:STANDARD
TZOFFSETFROM:-0600
TZOFFSETTO:-0700
TZNAME:MST
DTSTART:20251102T080000
END:STANDARD
BEGIN:DAYLIGHT
TZOFFSETFROM:-0700
TZOFFSETTO:-0600
TZNAME:MDT
DTSTART:20260308T090000
END:DAYLIGHT
BEGIN:STANDARD
TZOFFSETFROM:-0600
TZOFFSETTO:-0700
TZNAME:MST
DTSTART:20261101T080000
END:STANDARD
END:VTIMEZONE
BEGIN:VEVENT
DTSTART;TZID=America/Edmonton:20251109T093000
DTEND;TZID=America/Edmonton:20251109T173000
DTSTAMP:20260419T063948
CREATED:20250918T024536Z
LAST-MODIFIED:20250922T184342Z
UID:34903-1762680600-1762709400@savourcalgary.ca
SUMMARY:WSET Level 2 in Wines
DESCRIPTION:The WSET Level 2 Award in Wines is a thrilling two day in-person course. This is the perfect course for all wine lovers because it is straightforward\, educational\, lots of fun and we have a 97% pass rate. \nThe course focuses on the major grape varieties and wine regions of the world\, as well as winemaking and grape growing. You will enjoy a tutored tasting of 24 benchmark wines led by an expert instructor. This course will dramatically increase your confidence when selecting wines\, serving and pairing them. You will also learn how to describe wines and evaluate their quality. \nDetails and registration @ Fine Vintage
URL:https://savourcalgary.ca/event/wset-level-2-in-wines-2025-11-09/
LOCATION:University of Calgary Downtown Campus\, 906 8 Ave SW\, Calgary\, Alberta\, T2P 1H9\, Canada
CATEGORIES:Beverages,Classes,Pairing,Tasting,Wine
ATTACH;FMTTYPE=image/jpeg:https://savourcalgary.ca/wp-content/uploads/2025/09/WSET.jpg
END:VEVENT
BEGIN:VEVENT
DTSTART;TZID=America/Edmonton:20251109T100000
DTEND;TZID=America/Edmonton:20251109T123000
DTSTAMP:20260419T063948
CREATED:20251006T002356Z
LAST-MODIFIED:20251006T002356Z
UID:35166-1762682400-1762691400@savourcalgary.ca
SUMMARY:Vietnamese Classics: Bánh Mì and More!
DESCRIPTION:As a crossroads for travellers and traders between Burma\, Indonesia\, India\, China and Thailand\, Vietnam has developed a cuisine that’s been influenced by the cooking traditions of all those countries as well as those of France. This rich history makes for fascinating and delicious eating\, with an emphasis on freshness.  Ching will show you how to make the classic specialties you’ve grown to love—like bánh mì\, salad rolls\, and more. \n\n\n\n\n\n\nDetails and registration @ The Cookbook Co. Cooks
URL:https://savourcalgary.ca/event/vietnamese-classics-banh-mi-and-more-2/
LOCATION:The Cookbook Co. Cooks\, 722 11 Avenue SW\, Calgary\, Alberta\, T2R0E4\, Canada
CATEGORIES:Classes,Cooking,Cooking Class,Food,Global
ATTACH;FMTTYPE=image/png:https://savourcalgary.ca/wp-content/uploads/2025/07/vietnamese-cooking.png
END:VEVENT
BEGIN:VEVENT
DTSTART;TZID=America/Edmonton:20251109T140000
DTEND;TZID=America/Edmonton:20251109T170000
DTSTAMP:20260419T063948
CREATED:20251006T002401Z
LAST-MODIFIED:20251006T002401Z
UID:35168-1762696800-1762707600@savourcalgary.ca
SUMMARY:Christmas with Crave
DESCRIPTION:Christmastime is synonymous with all sorts of sweets and indulgences\, and many of the recipes we enjoy at this time of year come with a wonderful story. Join Carolyne and Jodi\, co-founders of Crave Bakery\, for this festive baking session. You will hear a few stories about their favourite holiday bakes and make some fabulous treats from the pages of their cookbook. At the end of the class\, you will go home with a copy of the book\, your delicious baked goods\, and perhaps a little inspiration to start a few new traditions! \nDetails and registration @ The Cookbook Co. Cooks
URL:https://savourcalgary.ca/event/christmas-with-crave/
LOCATION:The Cookbook Co. Cooks\, 722 11 Avenue SW\, Calgary\, Alberta\, T2R0E4\, Canada
CATEGORIES:Baking/ Cooking Class,Christmas,Classes,Cooking Class,Dessert
ATTACH;FMTTYPE=image/png:https://savourcalgary.ca/wp-content/uploads/2023/10/christmas-cookies.png
END:VEVENT
BEGIN:VEVENT
DTSTART;TZID=America/Edmonton:20251109T160000
DTEND;TZID=America/Edmonton:20251109T180000
DTSTAMP:20260419T063948
CREATED:20250927T195315Z
LAST-MODIFIED:20250927T195315Z
UID:35056-1762704000-1762711200@savourcalgary.ca
SUMMARY:Souper Sips
DESCRIPTION:Cool weather calls for comfort\, and Vine Styles is serving it pipein’ hot—with wine\, of course. Join them for Souper Sips\, a cozy\, flavour-packed tasting where you’ll explore how wine can elevate everything from creamy bisques to brothy classics. Soup and wine might not be your go-to pairing\, but trust them it should be. \nDetails and registration @ Vine Styles
URL:https://savourcalgary.ca/event/souper-sips/
LOCATION:Vine Styles\, 1127b Kensington Road Northwest
CATEGORIES:Beverages,Pairing,Tasting,Wine
ATTACH;FMTTYPE=image/jpeg:https://savourcalgary.ca/wp-content/uploads/2023/08/vine-styles.jpg
END:VEVENT
END:VCALENDAR