BEGIN:VCALENDAR
VERSION:2.0
PRODID:-//Savour Calgary - ECPv6.15.17.1//NONSGML v1.0//EN
CALSCALE:GREGORIAN
METHOD:PUBLISH
X-ORIGINAL-URL:https://savourcalgary.ca
X-WR-CALDESC:Events for Savour Calgary
REFRESH-INTERVAL;VALUE=DURATION:PT1H
X-Robots-Tag:noindex
X-PUBLISHED-TTL:PT1H
BEGIN:VTIMEZONE
TZID:America/Edmonton
BEGIN:DAYLIGHT
TZOFFSETFROM:-0700
TZOFFSETTO:-0600
TZNAME:MDT
DTSTART:20240310T090000
END:DAYLIGHT
BEGIN:STANDARD
TZOFFSETFROM:-0600
TZOFFSETTO:-0700
TZNAME:MST
DTSTART:20241103T080000
END:STANDARD
BEGIN:DAYLIGHT
TZOFFSETFROM:-0700
TZOFFSETTO:-0600
TZNAME:MDT
DTSTART:20250309T090000
END:DAYLIGHT
BEGIN:STANDARD
TZOFFSETFROM:-0600
TZOFFSETTO:-0700
TZNAME:MST
DTSTART:20251102T080000
END:STANDARD
BEGIN:DAYLIGHT
TZOFFSETFROM:-0700
TZOFFSETTO:-0600
TZNAME:MDT
DTSTART:20260308T090000
END:DAYLIGHT
BEGIN:STANDARD
TZOFFSETFROM:-0600
TZOFFSETTO:-0700
TZNAME:MST
DTSTART:20261101T080000
END:STANDARD
END:VTIMEZONE
BEGIN:VEVENT
DTSTART;TZID=America/Edmonton:20251112T093000
DTEND;TZID=America/Edmonton:20251112T173000
DTSTAMP:20260419T063949
CREATED:20250918T024617Z
LAST-MODIFIED:20250922T184416Z
UID:34910-1762939800-1762968600@savourcalgary.ca
SUMMARY:WSET Level 3 in Wines
DESCRIPTION:The WSET Level 3 Award in Wines is a highly respected qualification. It is an advanced course that will teach you the art of tasting to the extent that you can identify wines and quality levels in blind tastings. \nDetails and registration @ Fine Vintage
URL:https://savourcalgary.ca/event/wset-level-3-in-wines-2025-11-12/
LOCATION:University of Calgary Downtown Campus\, 906 8 Ave SW\, Calgary\, Alberta\, T2P 1H9\, Canada
CATEGORIES:Beverages,Classes,Tasting,Wine
ATTACH;FMTTYPE=image/jpeg:https://savourcalgary.ca/wp-content/uploads/2025/09/WSET.jpg
END:VEVENT
BEGIN:VEVENT
DTSTART;TZID=America/Edmonton:20251112T180000
DTEND;TZID=America/Edmonton:20251112T200000
DTSTAMP:20260419T063949
CREATED:20250928T201138Z
LAST-MODIFIED:20250928T201138Z
UID:35084-1762970400-1762977600@savourcalgary.ca
SUMMARY:Chablis Evenings
DESCRIPTION:Chablis usually gets called a summer wine\, but it really shines in the fall. As the weather cools and our meals turn heartier with creamy pastas\, roasted chicken\, potatoes\, yams\, and all those cozy root vegetables\, it is easy for food to feel a little heavy. That is where Chablis steps in. Bright\, zippy\, and mineral driven\, it cuts through the richness\, keeps your palate refreshed\, and makes every bite taste even better. To make the evening even more special\, we will be tasting a lineup that moves from entry level expressions to premium Cru wines. And trust us\, nothing beats cheese paired with a glass of Chablis\, it is pure autumn magic. \nDetails and registration @ Vine Styles
URL:https://savourcalgary.ca/event/chablis-evenings/
LOCATION:Vine Styles\, 1127b Kensington Road Northwest
CATEGORIES:Beverages,Cheese,Food,Pairing,Tasting,Wine
ATTACH;FMTTYPE=image/jpeg:https://savourcalgary.ca/wp-content/uploads/2023/08/vine-styles.jpg
END:VEVENT
BEGIN:VEVENT
DTSTART;TZID=America/Edmonton:20251112T183000
DTEND;TZID=America/Edmonton:20251112T210000
DTSTAMP:20260419T063949
CREATED:20251006T002433Z
LAST-MODIFIED:20251006T002433Z
UID:35174-1762972200-1762981200@savourcalgary.ca
SUMMARY:Handmade Pasta: Agnolotti\, Tagliatelle\, and More!
DESCRIPTION:Pasta is just so satisfying! Is there a person alive who doesn’t like pasta? If that person exists\, they haven’t tasted Melissa’s handmade delights. In this class\, Melissa will walk students through the proper preparation of fresh pasta dough\, then share some of the many possibilities for creative homemade long and stuffed pasta dishes. This is the perfect way for pasta lovers to while away some time while expanding their repertoires. \nDetails and registration @ The Cookbook Co. Cooks
URL:https://savourcalgary.ca/event/handmade-pasta-agnolotti-tagliatelle-and-more-5/
LOCATION:The Cookbook Co. Cooks\, 722 11 Avenue SW\, Calgary\, Alberta\, T2R0E4\, Canada
CATEGORIES:Classes,Cooking,Cooking Class,Food
ATTACH;FMTTYPE=image/png:https://savourcalgary.ca/wp-content/uploads/2023/10/pasta-class-1.png
END:VEVENT
END:VCALENDAR