BEGIN:VCALENDAR
VERSION:2.0
PRODID:-//Savour Calgary - ECPv6.15.17.1//NONSGML v1.0//EN
CALSCALE:GREGORIAN
METHOD:PUBLISH
X-ORIGINAL-URL:https://savourcalgary.ca
X-WR-CALDESC:Events for Savour Calgary
REFRESH-INTERVAL;VALUE=DURATION:PT1H
X-Robots-Tag:noindex
X-PUBLISHED-TTL:PT1H
BEGIN:VTIMEZONE
TZID:America/Edmonton
BEGIN:DAYLIGHT
TZOFFSETFROM:-0700
TZOFFSETTO:-0600
TZNAME:MDT
DTSTART:20240310T090000
END:DAYLIGHT
BEGIN:STANDARD
TZOFFSETFROM:-0600
TZOFFSETTO:-0700
TZNAME:MST
DTSTART:20241103T080000
END:STANDARD
BEGIN:DAYLIGHT
TZOFFSETFROM:-0700
TZOFFSETTO:-0600
TZNAME:MDT
DTSTART:20250309T090000
END:DAYLIGHT
BEGIN:STANDARD
TZOFFSETFROM:-0600
TZOFFSETTO:-0700
TZNAME:MST
DTSTART:20251102T080000
END:STANDARD
BEGIN:DAYLIGHT
TZOFFSETFROM:-0700
TZOFFSETTO:-0600
TZNAME:MDT
DTSTART:20260308T090000
END:DAYLIGHT
BEGIN:STANDARD
TZOFFSETFROM:-0600
TZOFFSETTO:-0700
TZNAME:MST
DTSTART:20261101T080000
END:STANDARD
END:VTIMEZONE
BEGIN:VEVENT
DTSTART;TZID=America/Edmonton:20251116T100000
DTEND;TZID=America/Edmonton:20251116T123000
DTSTAMP:20260419T063935
CREATED:20251012T171011Z
LAST-MODIFIED:20251012T171011Z
UID:35348-1763287200-1763296200@savourcalgary.ca
SUMMARY:Kids' Christmas Baking - Ages 10+
DESCRIPTION:Kids grow up so fast! Before you know it\, they’ll be wearing ill-fitting clothes\, getting tattoos\, and moving out. Treat them to a sweet morning of baking for the holiday season with chef Stephanie\, who makes some of yummiest treats around. Your youngsters can then show off their newly refined talent at all of your holiday soirées and bake exchanges—a holiday win-win! \nDetails and registration @ The Cookbook Co. Cooks
URL:https://savourcalgary.ca/event/kids-christmas-baking-ages-10/
LOCATION:The Cookbook Co. Cooks\, 722 11 Avenue SW\, Calgary\, Alberta\, T2R0E4\, Canada
CATEGORIES:Baking/ Cooking Class,Christmas,Classes,Cooking Class,Dessert,Kids
ATTACH;FMTTYPE=image/png:https://savourcalgary.ca/wp-content/uploads/2023/10/christmas-cookies.png
END:VEVENT
BEGIN:VEVENT
DTSTART;TZID=America/Edmonton:20251116T140000
DTEND;TZID=America/Edmonton:20251116T163000
DTSTAMP:20260419T063935
CREATED:20251012T171017Z
LAST-MODIFIED:20251012T171017Z
UID:35350-1763301600-1763310600@savourcalgary.ca
SUMMARY:Perfecting Paella
DESCRIPTION:Rice\, saffron and olive oil is a magical combination. Spain knows it\, we know it\, and Gail knows it. In this hands-on class\, she will guide you through the many different variations on a classic dish that can evolve to suit your taste.  If the flavours of the Catalan call your name\, why not answer? \nDetails and registration @ The Cookbook Co. Cooks
URL:https://savourcalgary.ca/event/perfecting-paella-7/
LOCATION:The Cookbook Co. Cooks\, 722 11 Avenue SW\, Calgary\, Alberta\, T2R0E4\, Canada
CATEGORIES:Classes,Cooking,Cooking Class,Food
ATTACH;FMTTYPE=image/png:https://savourcalgary.ca/wp-content/uploads/2023/12/paella.png
END:VEVENT
BEGIN:VEVENT
DTSTART;TZID=America/Edmonton:20251116T170000
DTEND;TZID=America/Edmonton:20251116T210000
DTSTAMP:20260419T063935
CREATED:20251103T020639Z
LAST-MODIFIED:20251103T020639Z
UID:35690-1763312400-1763326800@savourcalgary.ca
SUMMARY:Snow Globes
DESCRIPTION:Make this year’s ZOOLIGHTS\, presented by Olympia Trust Company\, extra magical with a Snow Globe experience! In a private oasis surrounded by twinkling lights\, you’ll make festive memories to make any date night\, friends’ night out\, family celebration\, or special occasion sparkle. Your reservation includes admission to ZOOLIGHTS along with the rental of a Snow Globe and your chosen food and beverage package. \nDetails and registration @ The Calgary Zoo
URL:https://savourcalgary.ca/event/snow-globes-2025-11-16/
LOCATION:The Calgary Zoo\, 210 St. George's Drive NE\, Calgary\, Alberta\, T2E 7V6\, Canada
ATTACH;FMTTYPE=image/jpeg:https://savourcalgary.ca/wp-content/uploads/2025/11/snow-globe-zoo.jpg
ORGANIZER;CN="The Calgary Zoo":MAILTO:guestrelations@calgaryzoo.com
END:VEVENT
END:VCALENDAR