BEGIN:VCALENDAR
VERSION:2.0
PRODID:-//Savour Calgary - ECPv6.15.17.1//NONSGML v1.0//EN
CALSCALE:GREGORIAN
METHOD:PUBLISH
X-ORIGINAL-URL:https://savourcalgary.ca
X-WR-CALDESC:Events for Savour Calgary
REFRESH-INTERVAL;VALUE=DURATION:PT1H
X-Robots-Tag:noindex
X-PUBLISHED-TTL:PT1H
BEGIN:VTIMEZONE
TZID:America/Edmonton
BEGIN:DAYLIGHT
TZOFFSETFROM:-0700
TZOFFSETTO:-0600
TZNAME:MDT
DTSTART:20240310T090000
END:DAYLIGHT
BEGIN:STANDARD
TZOFFSETFROM:-0600
TZOFFSETTO:-0700
TZNAME:MST
DTSTART:20241103T080000
END:STANDARD
BEGIN:DAYLIGHT
TZOFFSETFROM:-0700
TZOFFSETTO:-0600
TZNAME:MDT
DTSTART:20250309T090000
END:DAYLIGHT
BEGIN:STANDARD
TZOFFSETFROM:-0600
TZOFFSETTO:-0700
TZNAME:MST
DTSTART:20251102T080000
END:STANDARD
BEGIN:DAYLIGHT
TZOFFSETFROM:-0700
TZOFFSETTO:-0600
TZNAME:MDT
DTSTART:20260308T090000
END:DAYLIGHT
BEGIN:STANDARD
TZOFFSETFROM:-0600
TZOFFSETTO:-0700
TZNAME:MST
DTSTART:20261101T080000
END:STANDARD
END:VTIMEZONE
BEGIN:VEVENT
DTSTART;TZID=America/Edmonton:20251117T170000
DTEND;TZID=America/Edmonton:20251117T210000
DTSTAMP:20260419T063937
CREATED:20251103T020639Z
LAST-MODIFIED:20251103T020639Z
UID:35691-1763398800-1763413200@savourcalgary.ca
SUMMARY:Snow Globes
DESCRIPTION:Make this year’s ZOOLIGHTS\, presented by Olympia Trust Company\, extra magical with a Snow Globe experience! In a private oasis surrounded by twinkling lights\, you’ll make festive memories to make any date night\, friends’ night out\, family celebration\, or special occasion sparkle. Your reservation includes admission to ZOOLIGHTS along with the rental of a Snow Globe and your chosen food and beverage package. \nDetails and registration @ The Calgary Zoo
URL:https://savourcalgary.ca/event/snow-globes-2025-11-17/
LOCATION:The Calgary Zoo\, 210 St. George's Drive NE\, Calgary\, Alberta\, T2E 7V6\, Canada
ATTACH;FMTTYPE=image/jpeg:https://savourcalgary.ca/wp-content/uploads/2025/11/snow-globe-zoo.jpg
ORGANIZER;CN="The Calgary Zoo":MAILTO:guestrelations@calgaryzoo.com
END:VEVENT
BEGIN:VEVENT
DTSTART;TZID=America/Edmonton:20251117T183000
DTEND;TZID=America/Edmonton:20251117T210000
DTSTAMP:20260419T063937
CREATED:20251012T171030Z
LAST-MODIFIED:20251012T171030Z
UID:35346-1763404200-1763413200@savourcalgary.ca
SUMMARY:The Florentine Cooks Again: An Italian Dinner
DESCRIPTION:Tour Italy with our own Italian food guide Allan Shewchuk. Learn risotto from the north\, stuffed pasta from the centre\, and spicy delights from the south. All served up with travel tips and great recipes to try at home. Come hungry! \nDetails and registration @ The Cookbook Co. Cooks 
URL:https://savourcalgary.ca/event/the-florentine-cooks-again-an-italian-dinner-2/
LOCATION:The Cookbook Co. Cooks\, 722 11 Avenue SW\, Calgary\, Alberta\, T2R0E4\, Canada
CATEGORIES:Cooking,Cooking Class,Dinner,Food
ATTACH;FMTTYPE=image/png:https://savourcalgary.ca/wp-content/uploads/2023/10/pasta-class-1.png
END:VEVENT
END:VCALENDAR