BEGIN:VCALENDAR
VERSION:2.0
PRODID:-//Savour Calgary - ECPv6.15.17.1//NONSGML v1.0//EN
CALSCALE:GREGORIAN
METHOD:PUBLISH
X-ORIGINAL-URL:https://savourcalgary.ca
X-WR-CALDESC:Events for Savour Calgary
REFRESH-INTERVAL;VALUE=DURATION:PT1H
X-Robots-Tag:noindex
X-PUBLISHED-TTL:PT1H
BEGIN:VTIMEZONE
TZID:America/Edmonton
BEGIN:DAYLIGHT
TZOFFSETFROM:-0700
TZOFFSETTO:-0600
TZNAME:MDT
DTSTART:20240310T090000
END:DAYLIGHT
BEGIN:STANDARD
TZOFFSETFROM:-0600
TZOFFSETTO:-0700
TZNAME:MST
DTSTART:20241103T080000
END:STANDARD
BEGIN:DAYLIGHT
TZOFFSETFROM:-0700
TZOFFSETTO:-0600
TZNAME:MDT
DTSTART:20250309T090000
END:DAYLIGHT
BEGIN:STANDARD
TZOFFSETFROM:-0600
TZOFFSETTO:-0700
TZNAME:MST
DTSTART:20251102T080000
END:STANDARD
BEGIN:DAYLIGHT
TZOFFSETFROM:-0700
TZOFFSETTO:-0600
TZNAME:MDT
DTSTART:20260308T090000
END:DAYLIGHT
BEGIN:STANDARD
TZOFFSETFROM:-0600
TZOFFSETTO:-0700
TZNAME:MST
DTSTART:20261101T080000
END:STANDARD
END:VTIMEZONE
BEGIN:VEVENT
DTSTART;TZID=America/Edmonton:20251127T170000
DTEND;TZID=America/Edmonton:20251127T210000
DTSTAMP:20260419T063950
CREATED:20251103T020639Z
LAST-MODIFIED:20251103T020639Z
UID:35701-1764262800-1764277200@savourcalgary.ca
SUMMARY:Snow Globes
DESCRIPTION:Make this year’s ZOOLIGHTS\, presented by Olympia Trust Company\, extra magical with a Snow Globe experience! In a private oasis surrounded by twinkling lights\, you’ll make festive memories to make any date night\, friends’ night out\, family celebration\, or special occasion sparkle. Your reservation includes admission to ZOOLIGHTS along with the rental of a Snow Globe and your chosen food and beverage package. \nDetails and registration @ The Calgary Zoo
URL:https://savourcalgary.ca/event/snow-globes-2025-11-27/
LOCATION:The Calgary Zoo\, 210 St. George's Drive NE\, Calgary\, Alberta\, T2E 7V6\, Canada
ATTACH;FMTTYPE=image/jpeg:https://savourcalgary.ca/wp-content/uploads/2025/11/snow-globe-zoo.jpg
ORGANIZER;CN="The Calgary Zoo":MAILTO:guestrelations@calgaryzoo.com
END:VEVENT
BEGIN:VEVENT
DTSTART;TZID=America/Edmonton:20251127T190000
DTEND;TZID=America/Edmonton:20251127T210000
DTSTAMP:20260419T063950
CREATED:20251016T024412Z
LAST-MODIFIED:20251016T024412Z
UID:35414-1764270000-1764277200@savourcalgary.ca
SUMMARY:Wines From My Travels
DESCRIPTION:Join Calgary Co-op for an intimate evening of stories and sips as we journey through a curated selection of wines that Kevin (Crowfoot Sommelier) has discovered across the globe. They invite you to taste different vintages from obscure and renowned regions alike\, each with a tale to tell. Whether you’re a wine enthusiast or simply curious\, come enjoy good company\, rich flavors\, and the unforgettable memories behind every bottle. \nDetails and registration @ Calgary Co-op Wine Spirits & Beer
URL:https://savourcalgary.ca/event/wines-from-my-travels/
LOCATION:Co-op Crowfoot Wine Spirits Beer\, 39 Crowfoot Way Northwest\, Calgary\, Alberta\, T3G 2L4\, Canada
CATEGORIES:Beverages,Global,Tasting,Wine
ATTACH;FMTTYPE=image/jpeg:https://savourcalgary.ca/wp-content/uploads/2025/08/wine-field-co-op.jpg
END:VEVENT
BEGIN:VEVENT
DTSTART;TZID=America/Edmonton:20251127T190000
DTEND;TZID=America/Edmonton:20251127T210000
DTSTAMP:20260419T063950
CREATED:20251115T163018Z
LAST-MODIFIED:20251115T163018Z
UID:35928-1764270000-1764277200@savourcalgary.ca
SUMMARY:Paint Nite: Holiday in the Sand
DESCRIPTION:Join Paint Nite for a night of creativity and delicious BBQ at Montana’s BBQ & Bar in Airdrie! They are excited to welcome local artist Nessasary_art_inspo as she leads us in a fun and interactive Paint Nite event. Sip on your favorite drink and let your inner artist come to life as we paint a beautiful landscape together. No experience necessary\, just come with an open mind and a desire to have a great time. Bring your friends and make it a night to remember at Montana’s BBQ & Bar with Nessasary_art_inspo! \nDetails and registration @ Paint Nite \n\n\n 
URL:https://savourcalgary.ca/event/paint-nite-holiday-in-the-sand/
LOCATION:Montana’s BBQ & Bar\, 2745 Main st South\, Airdrie\, Alberta\, Canada
CATEGORIES:Art,Beverages,Classes,Food
ATTACH;FMTTYPE=image/png:https://savourcalgary.ca/wp-content/uploads/2024/03/Paint-Nite.png
END:VEVENT
END:VCALENDAR