BEGIN:VCALENDAR
VERSION:2.0
PRODID:-//Savour Calgary - ECPv6.15.17.1//NONSGML v1.0//EN
CALSCALE:GREGORIAN
METHOD:PUBLISH
X-WR-CALNAME:Savour Calgary
X-ORIGINAL-URL:https://savourcalgary.ca
X-WR-CALDESC:Events for Savour Calgary
REFRESH-INTERVAL;VALUE=DURATION:PT1H
X-Robots-Tag:noindex
X-PUBLISHED-TTL:PT1H
BEGIN:VTIMEZONE
TZID:America/Edmonton
BEGIN:DAYLIGHT
TZOFFSETFROM:-0700
TZOFFSETTO:-0600
TZNAME:MDT
DTSTART:20240310T090000
END:DAYLIGHT
BEGIN:STANDARD
TZOFFSETFROM:-0600
TZOFFSETTO:-0700
TZNAME:MST
DTSTART:20241103T080000
END:STANDARD
BEGIN:DAYLIGHT
TZOFFSETFROM:-0700
TZOFFSETTO:-0600
TZNAME:MDT
DTSTART:20250309T090000
END:DAYLIGHT
BEGIN:STANDARD
TZOFFSETFROM:-0600
TZOFFSETTO:-0700
TZNAME:MST
DTSTART:20251102T080000
END:STANDARD
BEGIN:DAYLIGHT
TZOFFSETFROM:-0700
TZOFFSETTO:-0600
TZNAME:MDT
DTSTART:20260308T090000
END:DAYLIGHT
BEGIN:STANDARD
TZOFFSETFROM:-0600
TZOFFSETTO:-0700
TZNAME:MST
DTSTART:20261101T080000
END:STANDARD
END:VTIMEZONE
BEGIN:VEVENT
DTSTART;TZID=America/Edmonton:20251130T090000
DTEND;TZID=America/Edmonton:20251130T170000
DTSTAMP:20260419T063852
CREATED:20251115T160810Z
LAST-MODIFIED:20251115T160810Z
UID:35891-1764493200-1764522000@savourcalgary.ca
SUMMARY:Photos with Santa
DESCRIPTION:Every holiday season\, families make lasting memories with Santa at the Calgary Farmers’ Market. Surrounded by twinkling lights\, festive displays\, and the smell of holiday treats\, these photo sessions capture the joy and warmth of the season. \nFor two incredible weekends\, both CFM West and South locations will have dedicated photo appointments that you can book through their easy-to-use online portal. \nDetails and registration @ Calgary Farmers’ Market
URL:https://savourcalgary.ca/event/photos-with-santa-2025-11-30/
LOCATION:Calgary Farmers’ Market West\, 25 Greenbriar Dr NW\, Calgary\, Alberta\, T3B 6M3\, Canada
CATEGORIES:Christmas,Christmas Market,Family,Holiday
ATTACH;FMTTYPE=image/jpeg:https://savourcalgary.ca/wp-content/uploads/2025/11/santa-CFM.jpg
ORGANIZER;CN="Calgary Farmers' Market":MAILTO:info@calgaryfarmersmarket.ca
END:VEVENT
BEGIN:VEVENT
DTSTART;TZID=America/Edmonton:20251130T120000
DTEND;TZID=America/Edmonton:20251130T140000
DTSTAMP:20260419T063852
CREATED:20251115T162132Z
LAST-MODIFIED:20251115T162132Z
UID:35917-1764504000-1764511200@savourcalgary.ca
SUMMARY:Chicken Butchery Classes
DESCRIPTION:Get the knowledge you need to expertly prepare chicken at home. \nOne of Knifewear’s favourite knife styles is the honesuki or Japanese poultry knife. If you enjoy prepping yakitori or just want to learn how to break down a chicken to make chicken and waffles\, a honesuki\, combined with the knowledge of how to use it\, is a great addition to your arsenal. \nDetails and registration @ Knifewear
URL:https://savourcalgary.ca/event/chicken-butchery-classes-2/
LOCATION:Knifewear\, 1316 9ave SE\, Calgary\, Alberta\, T2G 0T3\, Canada
CATEGORIES:Classes,Cooking,Cooking Class,Food
ATTACH;FMTTYPE=image/jpeg:https://savourcalgary.ca/wp-content/uploads/2023/10/knifes.jpg
END:VEVENT
BEGIN:VEVENT
DTSTART;TZID=America/Edmonton:20251130T150000
DTEND;TZID=America/Edmonton:20251130T170000
DTSTAMP:20260419T063852
CREATED:20251108T150808Z
LAST-MODIFIED:20251108T150808Z
UID:35792-1764514800-1764522000@savourcalgary.ca
SUMMARY:Taste & Create: Holiday Wreaths
DESCRIPTION:Vine Styles asked for your feedback—and you delivered. Their next Taste & Create is officially set\, and they’re excited to share that they’ll be building Holiday Wreaths together. \nYou’ll taste through a lineup of wines perfect for holiday hosting\, from sparkling crowd-pleasers to cozy post-dinner digestifs\, all while creating your very own Holiday Wreath\, in a cozy\, festive atmosphere. \nDetails and registration @ Vine Styles
URL:https://savourcalgary.ca/event/taste-create-holiday-wreaths/
LOCATION:Vine Styles\, 1127b Kensington Road Northwest
CATEGORIES:Beverages,Holiday,Tasting,Wine
ATTACH;FMTTYPE=image/jpeg:https://savourcalgary.ca/wp-content/uploads/2023/08/vine-styles.jpg
END:VEVENT
BEGIN:VEVENT
DTSTART;TZID=America/Edmonton:20251130T170000
DTEND;TZID=America/Edmonton:20251130T210000
DTSTAMP:20260419T063852
CREATED:20251103T020639Z
LAST-MODIFIED:20251103T020639Z
UID:35704-1764522000-1764536400@savourcalgary.ca
SUMMARY:Snow Globes
DESCRIPTION:Make this year’s ZOOLIGHTS\, presented by Olympia Trust Company\, extra magical with a Snow Globe experience! In a private oasis surrounded by twinkling lights\, you’ll make festive memories to make any date night\, friends’ night out\, family celebration\, or special occasion sparkle. Your reservation includes admission to ZOOLIGHTS along with the rental of a Snow Globe and your chosen food and beverage package. \nDetails and registration @ The Calgary Zoo
URL:https://savourcalgary.ca/event/snow-globes-2025-11-30/
LOCATION:The Calgary Zoo\, 210 St. George's Drive NE\, Calgary\, Alberta\, T2E 7V6\, Canada
ATTACH;FMTTYPE=image/jpeg:https://savourcalgary.ca/wp-content/uploads/2025/11/snow-globe-zoo.jpg
ORGANIZER;CN="The Calgary Zoo":MAILTO:guestrelations@calgaryzoo.com
END:VEVENT
BEGIN:VEVENT
DTSTART;TZID=America/Edmonton:20251130T190000
DTEND;TZID=America/Edmonton:20251130T210000
DTSTAMP:20260419T063852
CREATED:20251121T025233Z
LAST-MODIFIED:20251121T025233Z
UID:36446-1764529200-1764536400@savourcalgary.ca
SUMMARY:Paint Nite: My Growing Christmas Heart
DESCRIPTION:Buffalo Bobs; The longest standing venue in PaintNite history\, hosting events since 2015. Come early for lunch or stay late for dinner! No painting experience needed. Even if you “can’t even draw a stickman” you’ll be just fine! \nDetails and registration @ Paint Nite
URL:https://savourcalgary.ca/event/paint-nite-my-growing-christmas-heart/
LOCATION:Buffalo Bobs Pub\, 3715 51 St SW\, Calgary\, Alberta\, Canada
CATEGORIES:Art,Beverages,Christmas,Classes,Food
ATTACH;FMTTYPE=image/png:https://savourcalgary.ca/wp-content/uploads/2024/03/Paint-Nite.png
END:VEVENT
END:VCALENDAR