BEGIN:VCALENDAR
VERSION:2.0
PRODID:-//Savour Calgary - ECPv6.15.17.1//NONSGML v1.0//EN
CALSCALE:GREGORIAN
METHOD:PUBLISH
X-WR-CALNAME:Savour Calgary
X-ORIGINAL-URL:https://savourcalgary.ca
X-WR-CALDESC:Events for Savour Calgary
REFRESH-INTERVAL;VALUE=DURATION:PT1H
X-Robots-Tag:noindex
X-PUBLISHED-TTL:PT1H
BEGIN:VTIMEZONE
TZID:America/Edmonton
BEGIN:DAYLIGHT
TZOFFSETFROM:-0700
TZOFFSETTO:-0600
TZNAME:MDT
DTSTART:20240310T090000
END:DAYLIGHT
BEGIN:STANDARD
TZOFFSETFROM:-0600
TZOFFSETTO:-0700
TZNAME:MST
DTSTART:20241103T080000
END:STANDARD
BEGIN:DAYLIGHT
TZOFFSETFROM:-0700
TZOFFSETTO:-0600
TZNAME:MDT
DTSTART:20250309T090000
END:DAYLIGHT
BEGIN:STANDARD
TZOFFSETFROM:-0600
TZOFFSETTO:-0700
TZNAME:MST
DTSTART:20251102T080000
END:STANDARD
BEGIN:DAYLIGHT
TZOFFSETFROM:-0700
TZOFFSETTO:-0600
TZNAME:MDT
DTSTART:20260308T090000
END:DAYLIGHT
BEGIN:STANDARD
TZOFFSETFROM:-0600
TZOFFSETTO:-0700
TZNAME:MST
DTSTART:20261101T080000
END:STANDARD
END:VTIMEZONE
BEGIN:VEVENT
DTSTART;TZID=America/Edmonton:20251203T093000
DTEND;TZID=America/Edmonton:20251203T173000
DTSTAMP:20260419T063851
CREATED:20250918T024617Z
LAST-MODIFIED:20250922T184418Z
UID:34913-1764754200-1764783000@savourcalgary.ca
SUMMARY:WSET Level 3 in Wines
DESCRIPTION:The WSET Level 3 Award in Wines is a highly respected qualification. It is an advanced course that will teach you the art of tasting to the extent that you can identify wines and quality levels in blind tastings. \nDetails and registration @ Fine Vintage
URL:https://savourcalgary.ca/event/wset-level-3-in-wines-2025-12-03/
LOCATION:University of Calgary Downtown Campus\, 906 8 Ave SW\, Calgary\, Alberta\, T2P 1H9\, Canada
CATEGORIES:Beverages,Classes,Tasting,Wine
ATTACH;FMTTYPE=image/jpeg:https://savourcalgary.ca/wp-content/uploads/2025/09/WSET.jpg
END:VEVENT
BEGIN:VEVENT
DTSTART;TZID=America/Edmonton:20251203T170000
DTEND;TZID=America/Edmonton:20251203T210000
DTSTAMP:20260419T063851
CREATED:20251103T020639Z
LAST-MODIFIED:20251103T020639Z
UID:35707-1764781200-1764795600@savourcalgary.ca
SUMMARY:Snow Globes
DESCRIPTION:Make this year’s ZOOLIGHTS\, presented by Olympia Trust Company\, extra magical with a Snow Globe experience! In a private oasis surrounded by twinkling lights\, you’ll make festive memories to make any date night\, friends’ night out\, family celebration\, or special occasion sparkle. Your reservation includes admission to ZOOLIGHTS along with the rental of a Snow Globe and your chosen food and beverage package. \nDetails and registration @ The Calgary Zoo
URL:https://savourcalgary.ca/event/snow-globes-2025-12-03/
LOCATION:The Calgary Zoo\, 210 St. George's Drive NE\, Calgary\, Alberta\, T2E 7V6\, Canada
ATTACH;FMTTYPE=image/jpeg:https://savourcalgary.ca/wp-content/uploads/2025/11/snow-globe-zoo.jpg
ORGANIZER;CN="The Calgary Zoo":MAILTO:guestrelations@calgaryzoo.com
END:VEVENT
BEGIN:VEVENT
DTSTART;TZID=America/Edmonton:20251203T180000
DTEND;TZID=America/Edmonton:20251203T200000
DTSTAMP:20260419T063851
CREATED:20251031T205111Z
LAST-MODIFIED:20251031T205111Z
UID:35655-1764784800-1764792000@savourcalgary.ca
SUMMARY:Port and Fortified Delights: A Spirited Holiday Soirée
DESCRIPTION:Kick off the holiday season in style at Vine Styles’ Port and Fortified Delights: A Spirited Holiday Soirée! On December 3rd\, join them for a cozy and festive evening dedicated to the rich\, warming world of fortified wines. Whether you’re a port aficionado or just discovering these delightful wines\, this event is sure to excite your palate. \nSlip into your best ugly sweater\, get comfortable\, and prepare to taste a lineup of special fortified delights\, including a few of their staff favourites. Each pour will reveal the deep\, complex flavours that make these wines perfect for the holiday season—and who knows\, you might just discover a new favourite! \nDetails and registration @ Vine Styles
URL:https://savourcalgary.ca/event/port-and-fortified-delights-a-spirited-holiday-soiree-3/
LOCATION:Vine Styles\, 1127b Kensington Road Northwest
CATEGORIES:Beverages,Holiday,Tasting,Wine
ATTACH;FMTTYPE=image/jpeg:https://savourcalgary.ca/wp-content/uploads/2023/08/vine-styles.jpg
END:VEVENT
BEGIN:VEVENT
DTSTART;TZID=America/Edmonton:20251203T190000
DTEND;TZID=America/Edmonton:20251203T210000
DTSTAMP:20260419T063851
CREATED:20251019T194819Z
LAST-MODIFIED:20251019T194819Z
UID:35439-1764788400-1764795600@savourcalgary.ca
SUMMARY:Sparkling Wine & Cheese
DESCRIPTION:Snap\, sparkle\, POP! Say hello to sparkling wine and mouth-watering cheeses as we welcome the holiday season with a pairing fit for a king. Awaken your senses with a bubbly reception before discovering six sensational flavours\, from Cava and Prosecco to Crémant and Champagne. Paired with six delightful cheeses and helpful tips from Adrian Watters of Springbank Cheese Co.\, this tasting will inspire your holiday plans. \nDetails and registration @ Willow Park Wines & Spirits
URL:https://savourcalgary.ca/event/sparkling-wine-cheese-2/
LOCATION:Willow Park Wines & Spirits – Willow Park Village\, 10801 Bonaventure Drive SE\, Calgary\, Alberta\, T2J 6Z8\, Canada
CATEGORIES:Beverages,Cheese,Pairing,Tasting,Wine
ATTACH;FMTTYPE=image/png:https://savourcalgary.ca/wp-content/uploads/2025/09/christmas-wine.png
END:VEVENT
END:VCALENDAR