BEGIN:VCALENDAR
VERSION:2.0
PRODID:-//Savour Calgary - ECPv6.15.17.1//NONSGML v1.0//EN
CALSCALE:GREGORIAN
METHOD:PUBLISH
X-ORIGINAL-URL:https://savourcalgary.ca
X-WR-CALDESC:Events for Savour Calgary
REFRESH-INTERVAL;VALUE=DURATION:PT1H
X-Robots-Tag:noindex
X-PUBLISHED-TTL:PT1H
BEGIN:VTIMEZONE
TZID:America/Edmonton
BEGIN:DAYLIGHT
TZOFFSETFROM:-0700
TZOFFSETTO:-0600
TZNAME:MDT
DTSTART:20240310T090000
END:DAYLIGHT
BEGIN:STANDARD
TZOFFSETFROM:-0600
TZOFFSETTO:-0700
TZNAME:MST
DTSTART:20241103T080000
END:STANDARD
BEGIN:DAYLIGHT
TZOFFSETFROM:-0700
TZOFFSETTO:-0600
TZNAME:MDT
DTSTART:20250309T090000
END:DAYLIGHT
BEGIN:STANDARD
TZOFFSETFROM:-0600
TZOFFSETTO:-0700
TZNAME:MST
DTSTART:20251102T080000
END:STANDARD
BEGIN:DAYLIGHT
TZOFFSETFROM:-0700
TZOFFSETTO:-0600
TZNAME:MDT
DTSTART:20260308T090000
END:DAYLIGHT
BEGIN:STANDARD
TZOFFSETFROM:-0600
TZOFFSETTO:-0700
TZNAME:MST
DTSTART:20261101T080000
END:STANDARD
END:VTIMEZONE
BEGIN:VEVENT
DTSTART;TZID=America/Edmonton:20251205T170000
DTEND;TZID=America/Edmonton:20251205T210000
DTSTAMP:20260419T063935
CREATED:20251103T020639Z
LAST-MODIFIED:20251103T020639Z
UID:35709-1764954000-1764968400@savourcalgary.ca
SUMMARY:Snow Globes
DESCRIPTION:Make this year’s ZOOLIGHTS\, presented by Olympia Trust Company\, extra magical with a Snow Globe experience! In a private oasis surrounded by twinkling lights\, you’ll make festive memories to make any date night\, friends’ night out\, family celebration\, or special occasion sparkle. Your reservation includes admission to ZOOLIGHTS along with the rental of a Snow Globe and your chosen food and beverage package. \nDetails and registration @ The Calgary Zoo
URL:https://savourcalgary.ca/event/snow-globes-2025-12-05/
LOCATION:The Calgary Zoo\, 210 St. George's Drive NE\, Calgary\, Alberta\, T2E 7V6\, Canada
ATTACH;FMTTYPE=image/jpeg:https://savourcalgary.ca/wp-content/uploads/2025/11/snow-globe-zoo.jpg
ORGANIZER;CN="The Calgary Zoo":MAILTO:guestrelations@calgaryzoo.com
END:VEVENT
BEGIN:VEVENT
DTSTART;TZID=America/Edmonton:20251205T190000
DTEND;TZID=America/Edmonton:20251205T210000
DTSTAMP:20260419T063935
CREATED:20251025T154536Z
LAST-MODIFIED:20251025T154536Z
UID:35623-1764961200-1764968400@savourcalgary.ca
SUMMARY:Special Sparkling: Our Favourite Bubbles for the Holiday Season
DESCRIPTION:It’s time to celebrate! No other wine can make your special occasions feel festive like sparkling wine can. Join Calgary Co-op as they indulge in their favourite wines from the famous region of Champagne\, as well as its best imitators from around the wine world. They’ll dig into what makes these wines so special\, while giving you ideas how you can pair these sparklers up with your special holiday plans. Cheers! \nDetails and registration @ Calgary Co-op Wine Spirits & Beer
URL:https://savourcalgary.ca/event/special-sparkling-our-favourite-bubbles-for-the-holiday-season-2/
LOCATION:Calgary Co-op Oakridge\, 2580 Southland Dr SW\, Calgary\, Alberta\, T2V 4J8\, Canada
CATEGORIES:Beverages,Christmas,Global,Holiday,Tequila,Wine
ATTACH;FMTTYPE=image/jpeg:https://savourcalgary.ca/wp-content/uploads/2025/10/sparkling-co-op.jpg
END:VEVENT
BEGIN:VEVENT
DTSTART;TZID=America/Edmonton:20251205T190000
DTEND;TZID=America/Edmonton:20251205T210000
DTSTAMP:20260419T063935
CREATED:20251031T204629Z
LAST-MODIFIED:20251031T204629Z
UID:35651-1764961200-1764968400@savourcalgary.ca
SUMMARY:Champagne Festival
DESCRIPTION:Cheers to the holiday spirit and the pure delight of Champagne! Willow Park is toasting the best bubbles from France\, Italy\, Canada\, and beyond. Featuring true Champagne labels like Piper-Heidsieck\, Taittinger\, Bollinger\, and many more\, they’re showcasing classic and quality sparkling wines from top wine regions around the world. Accompanied by luxurious appetizers\, cheese and charcuterie boards\, desserts\, and other treats from their kitchen team. Celebrate the Season! \nDetails and registration @ Willow Park Wines & Spirits
URL:https://savourcalgary.ca/event/champagne-festival-2/
LOCATION:Willow Park Wines & Spirits – Willow Park Village\, 10801 Bonaventure Drive SE\, Calgary\, Alberta\, T2J 6Z8\, Canada
CATEGORIES:Beverages,Champagne,Cheese,Pairing,Tasting,Wine
ATTACH;FMTTYPE=image/png:https://savourcalgary.ca/wp-content/uploads/2023/11/willow-park-champagne.png
END:VEVENT
BEGIN:VEVENT
DTSTART;TZID=America/Edmonton:20251205T190000
DTEND;TZID=America/Edmonton:20251205T210000
DTSTAMP:20260419T063935
CREATED:20251123T005918Z
LAST-MODIFIED:20251123T005918Z
UID:36484-1764961200-1764968400@savourcalgary.ca
SUMMARY:Paint Nite: Cold Moonlit Mountain
DESCRIPTION:Follow along with MrPaintyPants’ live\, step by step\, demonstration to match what he does. Or do whatever you feel like doing. This picture is sure to inspire so get ready for a great Friday night\, get your painty-pants on\, and come paint! \nMake sure to bring some friends and drink some beers! Or wine.. or come early for dinner and stay late for shots. Just get to The Shark Club!!! \nDetails and registration @ Paint Nite \n 
URL:https://savourcalgary.ca/event/paint-nite-cold-moonlit-mountain/
LOCATION:The Shark Club\, 2493 27 Ave NE\, Calgary\, Alberta\, Canada
CATEGORIES:Art,Beverages,Classes,Food
ATTACH;FMTTYPE=image/png:https://savourcalgary.ca/wp-content/uploads/2024/03/Paint-Nite.png
END:VEVENT
END:VCALENDAR