BEGIN:VCALENDAR
VERSION:2.0
PRODID:-//Savour Calgary - ECPv6.15.17.1//NONSGML v1.0//EN
CALSCALE:GREGORIAN
METHOD:PUBLISH
X-ORIGINAL-URL:https://savourcalgary.ca
X-WR-CALDESC:Events for Savour Calgary
REFRESH-INTERVAL;VALUE=DURATION:PT1H
X-Robots-Tag:noindex
X-PUBLISHED-TTL:PT1H
BEGIN:VTIMEZONE
TZID:America/Edmonton
BEGIN:DAYLIGHT
TZOFFSETFROM:-0700
TZOFFSETTO:-0600
TZNAME:MDT
DTSTART:20240310T090000
END:DAYLIGHT
BEGIN:STANDARD
TZOFFSETFROM:-0600
TZOFFSETTO:-0700
TZNAME:MST
DTSTART:20241103T080000
END:STANDARD
BEGIN:DAYLIGHT
TZOFFSETFROM:-0700
TZOFFSETTO:-0600
TZNAME:MDT
DTSTART:20250309T090000
END:DAYLIGHT
BEGIN:STANDARD
TZOFFSETFROM:-0600
TZOFFSETTO:-0700
TZNAME:MST
DTSTART:20251102T080000
END:STANDARD
BEGIN:DAYLIGHT
TZOFFSETFROM:-0700
TZOFFSETTO:-0600
TZNAME:MDT
DTSTART:20260308T090000
END:DAYLIGHT
BEGIN:STANDARD
TZOFFSETFROM:-0600
TZOFFSETTO:-0700
TZNAME:MST
DTSTART:20261101T080000
END:STANDARD
END:VTIMEZONE
BEGIN:VEVENT
DTSTART;TZID=America/Edmonton:20251206T090000
DTEND;TZID=America/Edmonton:20251206T140000
DTSTAMP:20260419T063431
CREATED:20251121T024357Z
LAST-MODIFIED:20251121T024357Z
UID:36442-1765011600-1765029600@savourcalgary.ca
SUMMARY:Once Upon A Christmas Breakfast Buffet
DESCRIPTION:Ho\, ho\, ho! Are you ready for a festive feast? Calgarian’s favourite holiday tradition\, Once Upon a Christmas Breakfast Buffet\, is back and bursting with holiday cheer and flavour! \nGather with loved ones and cozy up in the historic charm of the Wainwright Hotel or Gunn’s Dairy Barn. Enjoy a delicious buffet selection of fresh pastries from the Alberta Bakery\, fluffy buttermilk pancakes\, Belgian Waffles\, farm-fresh scrambled eggs and all your breakfast favourites. Afterward\, step into the Historical Village’s winter wonderland and discover the magic of Once Upon a Christmas throughout the Park. \nDetails and registration @ Heritage Park
URL:https://savourcalgary.ca/event/once-upon-a-christmas-breakfast-buffet-3/
LOCATION:Heritage Park\, 1900 Heritage Dr SW\, Calgary\, Alberta\, T2V 2X3\, Canada
CATEGORIES:Breakfast,Buffet,Christmas,Family,Friends,Holiday
ATTACH;FMTTYPE=image/jpeg:https://savourcalgary.ca/wp-content/uploads/2024/11/Once-Upon-a-Christmas.jpg
END:VEVENT
BEGIN:VEVENT
DTSTART;TZID=America/Edmonton:20251206T093000
DTEND;TZID=America/Edmonton:20251206T173000
DTSTAMP:20260419T063431
CREATED:20250920T170700Z
LAST-MODIFIED:20250920T170700Z
UID:34918-1765013400-1765042200@savourcalgary.ca
SUMMARY:Spanish Wine Masterclass
DESCRIPTION:This course is a fascinating one day course learning about the major and minor wine regions of Spain. You will taste 12 benchmark wines that exemplify the incredible diversity of Spanish wine. \nYou will taste the classic wines of Rioja\, Ribera del Duero and Priorat\, along with vibrant Alabriño from Rias Biaxas\, Verdejo from Rueda\, and so much more. Fine Vintage will kick off with Spanish Cava and end with Sherry. It’s a tasting extravaganza as you learn about all these regions and more. \nDetails and registration @ Fine Vintage
URL:https://savourcalgary.ca/event/spanish-wine-masterclass/
LOCATION:University of Calgary Downtown Campus\, 906 8 Ave SW\, Calgary\, Alberta\, T2P 1H9\, Canada
CATEGORIES:Beverages,Classes,Tasting,Wine
ATTACH;FMTTYPE=image/jpeg:https://savourcalgary.ca/wp-content/uploads/2025/09/fine-vintage.jpg
END:VEVENT
BEGIN:VEVENT
DTSTART;TZID=America/Edmonton:20251206T100000
DTEND;TZID=America/Edmonton:20251206T160000
DTSTAMP:20260419T063431
CREATED:20251103T020655Z
LAST-MODIFIED:20251103T020655Z
UID:35671-1765015200-1765036800@savourcalgary.ca
SUMMARY:Once Upon A Christmas
DESCRIPTION:Step into a winter wonderland and experience the enchanting magic of Christmas at Heritage Park! Once Upon a Christmas is Calgary’s favourite holiday event\, offering wholesome\, family-friendly fun with festive activities that capture the classic Christmas spirit. Enjoy cozy wagon rides\, merry carolers\, visits with Santa\, a festive Christmas market and beautiful decorations that will have you feeling like you’re in your very own Hallmark movie. \n\n\n\n\nDetails and registration @ Heritage Park
URL:https://savourcalgary.ca/event/once-upon-a-christmas-2/
LOCATION:Heritage Park\, 1900 Heritage Dr SW\, Calgary\, Alberta\, T2V 2X3\, Canada
CATEGORIES:Christmas,Christmas Market,Family,Friends,Market
ATTACH;FMTTYPE=image/jpeg:https://savourcalgary.ca/wp-content/uploads/2024/11/Once-Upon-a-Christmas.jpg
END:VEVENT
BEGIN:VEVENT
DTSTART;TZID=America/Edmonton:20251206T130000
DTEND;TZID=America/Edmonton:20251206T150000
DTSTAMP:20260419T063431
CREATED:20251115T160818Z
LAST-MODIFIED:20251115T160818Z
UID:35892-1765026000-1765033200@savourcalgary.ca
SUMMARY:Tea With Mrs. Claus
DESCRIPTION:A magical afternoon of stories\, treats & holiday cheer! \nGather around for tea and sweets as she shares heartwarming tales from the North Pole and spreads a little Christmas magic. It’s the perfect way to slow down\, sip something warm\, and celebrate the season with family and friends. \nDetails and registration @ Calgary Farmers’ Market
URL:https://savourcalgary.ca/event/tea-with-mrs-claus-12/
LOCATION:Calgary Farmers’ Market West\, 25 Greenbriar Dr NW\, Calgary\, Alberta\, T3B 6M3\, Canada
CATEGORIES:Beverages,Christmas,Christmas Market,Holiday,Tea
ATTACH;FMTTYPE=image/jpeg:https://savourcalgary.ca/wp-content/uploads/2025/11/mrs-claus-tea-CFM-1.jpg
ORGANIZER;CN="Calgary Farmers' Market":MAILTO:info@calgaryfarmersmarket.ca
END:VEVENT
BEGIN:VEVENT
DTSTART;TZID=America/Edmonton:20251206T130000
DTEND;TZID=America/Edmonton:20251206T160000
DTSTAMP:20260419T063431
CREATED:20251115T162205Z
LAST-MODIFIED:20251115T162328Z
UID:35920-1765026000-1765036800@savourcalgary.ca
SUMMARY:Chocolate Making Course
DESCRIPTION:Join Master Chocolat for a three hour hands-on Course of Chocolate-Making and Introduction to Tempering! Learn the history of chocolate\, analyzing ingredients of candy vs. Chocolate bars\, cocoa content and its’ influence\, and the role in flavour profiles. Finally\, covering the most important aspect: Tempering! \nDetails and registration @ Master Chocolat
URL:https://savourcalgary.ca/event/chocolate-making-course-10/
LOCATION:Master Chocolat\, 560 69th Ave SW\, Calgary\, Alberta\, T2V 2H1\, Canada
CATEGORIES:Baking/ Cooking Class,Classes,Cooking,Cooking Class
ATTACH;FMTTYPE=image/png:https://savourcalgary.ca/wp-content/uploads/2024/03/Master-Chocolat.png
END:VEVENT
BEGIN:VEVENT
DTSTART;TZID=America/Edmonton:20251206T140000
DTEND;TZID=America/Edmonton:20251206T160000
DTSTAMP:20260419T063431
CREATED:20251129T014415Z
LAST-MODIFIED:20251129T014415Z
UID:36707-1765029600-1765036800@savourcalgary.ca
SUMMARY:Paint Nite: Jewel of Christmas
DESCRIPTION:Join Paint Nite for an evening of creativity and fun at Boston Pizza West Springs\, Calgary! They are excited to partner with Nessasary_art_inspo for a Paint Nite event where you can unleash your inner artist and enjoy delicious food and drinks. Let your imagination run wild as their talented instructor guides you step-by-step in creating a beautiful painting. No experience is necessary – just bring your enthusiasm and they’ll provide all the materials. Grab your friends\, family\, or come solo and make new friends as you paint\, sip\, and socialize. Don’t miss out on this unique and memorable experience at Boston Pizza West Springs! \n\n\nDetails and registration @ Paint Nite
URL:https://savourcalgary.ca/event/paint-nite-jewel-of-christmas/
LOCATION:Boston Pizza West Springs\, 309-8560 8A Ave SW\, Calgary\, Alberta\, Canada
CATEGORIES:Art,Beverages,Classes,Food
ATTACH;FMTTYPE=image/png:https://savourcalgary.ca/wp-content/uploads/2024/03/Paint-Nite.png
END:VEVENT
BEGIN:VEVENT
DTSTART;TZID=America/Edmonton:20251206T170000
DTEND;TZID=America/Edmonton:20251206T210000
DTSTAMP:20260419T063431
CREATED:20251103T020639Z
LAST-MODIFIED:20251103T020639Z
UID:35710-1765040400-1765054800@savourcalgary.ca
SUMMARY:Snow Globes
DESCRIPTION:Make this year’s ZOOLIGHTS\, presented by Olympia Trust Company\, extra magical with a Snow Globe experience! In a private oasis surrounded by twinkling lights\, you’ll make festive memories to make any date night\, friends’ night out\, family celebration\, or special occasion sparkle. Your reservation includes admission to ZOOLIGHTS along with the rental of a Snow Globe and your chosen food and beverage package. \nDetails and registration @ The Calgary Zoo
URL:https://savourcalgary.ca/event/snow-globes-2025-12-06/
LOCATION:The Calgary Zoo\, 210 St. George's Drive NE\, Calgary\, Alberta\, T2E 7V6\, Canada
ATTACH;FMTTYPE=image/jpeg:https://savourcalgary.ca/wp-content/uploads/2025/11/snow-globe-zoo.jpg
ORGANIZER;CN="The Calgary Zoo":MAILTO:guestrelations@calgaryzoo.com
END:VEVENT
BEGIN:VEVENT
DTSTART;TZID=America/Edmonton:20251206T190000
DTEND;TZID=America/Edmonton:20251206T210000
DTSTAMP:20260419T063431
CREATED:20251030T212305Z
LAST-MODIFIED:20251030T212305Z
UID:35635-1765047600-1765054800@savourcalgary.ca
SUMMARY:Champagne
DESCRIPTION:“I drink Champagne when I’m happy and when I’m sad. When I have company I consider it obligatory.” – Lily Bollinger. This is a genuine Champagne wine tasting. All too often sparkling wine from around the world is referred to as Champagne. Sparkling wine produced in this French region is the only sparkling wine in the world legally allowed to be labeled Champagne. For this evening Calgary Co-op will taste an incredible range of fine bubbly from different house\, sub regions and styles. They concur with Lily\, an obligatory tasting it is. \nDetails and registration @ Calgary Co-op Wine Spirits & Beer
URL:https://savourcalgary.ca/event/champagne/
LOCATION:Calgary Co-op Midtown Wine Spirits Beer\, 102\, 1003 11 Street SW\, Calgary\, Alberta\, T2R 1G2\, Canada
CATEGORIES:Beverages,Champagne,Tasting,Wine
ATTACH;FMTTYPE=image/jpeg:https://savourcalgary.ca/wp-content/uploads/2025/10/champagne-co-op.jpg
END:VEVENT
END:VCALENDAR