BEGIN:VCALENDAR
VERSION:2.0
PRODID:-//Savour Calgary - ECPv6.15.17.1//NONSGML v1.0//EN
CALSCALE:GREGORIAN
METHOD:PUBLISH
X-ORIGINAL-URL:https://savourcalgary.ca
X-WR-CALDESC:Events for Savour Calgary
REFRESH-INTERVAL;VALUE=DURATION:PT1H
X-Robots-Tag:noindex
X-PUBLISHED-TTL:PT1H
BEGIN:VTIMEZONE
TZID:America/Edmonton
BEGIN:DAYLIGHT
TZOFFSETFROM:-0700
TZOFFSETTO:-0600
TZNAME:MDT
DTSTART:20250309T090000
END:DAYLIGHT
BEGIN:STANDARD
TZOFFSETFROM:-0600
TZOFFSETTO:-0700
TZNAME:MST
DTSTART:20251102T080000
END:STANDARD
BEGIN:DAYLIGHT
TZOFFSETFROM:-0700
TZOFFSETTO:-0600
TZNAME:MDT
DTSTART:20260308T090000
END:DAYLIGHT
BEGIN:STANDARD
TZOFFSETFROM:-0600
TZOFFSETTO:-0700
TZNAME:MST
DTSTART:20261101T080000
END:STANDARD
BEGIN:DAYLIGHT
TZOFFSETFROM:-0700
TZOFFSETTO:-0600
TZNAME:MDT
DTSTART:20270314T090000
END:DAYLIGHT
BEGIN:STANDARD
TZOFFSETFROM:-0600
TZOFFSETTO:-0700
TZNAME:MST
DTSTART:20271107T080000
END:STANDARD
END:VTIMEZONE
BEGIN:VEVENT
DTSTART;VALUE=DATE:20260130
DTEND;VALUE=DATE:20260301
DTSTAMP:20260419T110301
CREATED:20260201T201510Z
LAST-MODIFIED:20260201T201510Z
UID:37991-1769731200-1772323199@savourcalgary.ca
SUMMARY:Taste of Chinatown 2026
DESCRIPTION:Taste of Chinatown returns from January 30 to February 28\, 2026\, inviting visitors to explore Calgary’s Chinatown through special $5 food and drink features at participating businesses. Follow along on social media for updates and the full list of vendors. \nLearn more: Taste of Chinatown
URL:https://savourcalgary.ca/event/taste-of-chinatown-2026/
LOCATION:Calgary Chinatown\, 307 - 1st street SE\, Calgary\, Alberta\, Canada
CATEGORIES:Festival
ATTACH;FMTTYPE=image/png:https://savourcalgary.ca/wp-content/uploads/2026/02/Screenshot-2026-02-01-131215.png
END:VEVENT
BEGIN:VEVENT
DTSTART;VALUE=DATE:20260201
DTEND;VALUE=DATE:20260301
DTSTAMP:20260419T110301
CREATED:20260201T193617Z
LAST-MODIFIED:20260201T193617Z
UID:37975-1769904000-1772323199@savourcalgary.ca
SUMMARY:Burger it Forward
DESCRIPTION:Burger It Forward returns this February\, with 357 restaurants across Canada featuring special burgers to help raise funds for local and national food banks. For every campaign burger sold\, Canada Beef donates the equivalent of one meal to Food Banks Canada\, supporting communities facing food insecurity. \nFind participating restaurants and details at burgeritforward.ca.
URL:https://savourcalgary.ca/event/burger-it-forward/
LOCATION:Alberta
CATEGORIES:Burgers,Charity
ATTACH;FMTTYPE=image/png:https://savourcalgary.ca/wp-content/uploads/2026/02/Untitled-design-2026-02-01T123401.943.png
END:VEVENT
BEGIN:VEVENT
DTSTART;VALUE=DATE:20260201
DTEND;VALUE=DATE:20260301
DTSTAMP:20260419T110301
CREATED:20260201T194543Z
LAST-MODIFIED:20260201T194543Z
UID:37981-1769904000-1772323199@savourcalgary.ca
SUMMARY:YYC Hot Chocolate Fest
DESCRIPTION:YYC Hot Chocolate Fest returns this February\, inviting cafés\, restaurants and chocolatiers across Calgary and the surrounding region to create signature hot chocolate drinks and compete for awards like Best Hot Chocolate and Most Creative Hot Chocolate. A portion of proceeds from every cup sold supports Calgary Meals on Wheels\, helping provide nutritious meals for local residents throughout the year. Visitors can taste and rate hot chocolates at participating locations throughout the month. \nLearn more: YYC Hot Chocolate Fest
URL:https://savourcalgary.ca/event/yyc-hot-chocolate-fest/
LOCATION:Alberta
CATEGORIES:Beverages,Charity
ATTACH;FMTTYPE=image/png:https://savourcalgary.ca/wp-content/uploads/2026/02/Untitled-design-2026-02-01T124251.565.png
END:VEVENT
BEGIN:VEVENT
DTSTART;TZID=America/Edmonton:20260206T183000
DTEND;TZID=America/Edmonton:20260330T213000
DTSTAMP:20260419T110301
CREATED:20260206T150601Z
LAST-MODIFIED:20260206T150601Z
UID:38041-1770402600-1774906200@savourcalgary.ca
SUMMARY:Riesling and Roti: A Southeast Asian Specialty Dinner
DESCRIPTION:Riesling can be made into a beautifully diverse selection of styles\, each reflecting their terroir\, vintage\, and the guiding hand of the winemaker. Affectionately referred to as ‘the altruistic foster parent’ of the food and wine pairing world\, examples sing when paired with classic German fare\, crispy roast pork\, summer vegetables\, and of course\, Southeast Asian food. \nThe exotic spice and heat of the food coming from Southeast Asia requires a wine that has fruit\, acidity\, and often a little kiss of sweetness to help offset the chili heat. Join Sarah and Al as they explore the sour\, salty\, spicy\, herbal nuances of Southeast Asian food\, and pairs Riesling to go along with it. \nDetails and registration @ The Cookbook Co. Cooks
URL:https://savourcalgary.ca/event/riesling-and-roti-a-southeast-asian-specialty-dinner-2/
LOCATION:The Cookbook Co. Cooks\, 722 11 Avenue SW\, Calgary\, Alberta\, T2R0E4\, Canada
CATEGORIES:Beverages,Cooking,Cooking Class,Pairing,Wine
ATTACH;FMTTYPE=image/png:https://savourcalgary.ca/wp-content/uploads/2025/04/roti.png
END:VEVENT
BEGIN:VEVENT
DTSTART;TZID=America/Edmonton:20260227T190000
DTEND;TZID=America/Edmonton:20260227T210000
DTSTAMP:20260419T110301
CREATED:20251206T141552Z
LAST-MODIFIED:20251206T141552Z
UID:36973-1772218800-1772226000@savourcalgary.ca
SUMMARY:This & That: Expanding Your Palate
DESCRIPTION:Are you stuck in a wine rut? Want to explore outside your go-to bottle but aren’t sure if the risk will be worth the reward? This is the tasting for you! Calgary Co-op will break down some of the world’s most popular grapes/wine styles and taste you through some great alternatives. They hope that these might help expand your palate and have you feeling a bit more adventurous! \nDetails and registration @ Calgary Co-op Wine Spirits & Beer
URL:https://savourcalgary.ca/event/this-that-expanding-your-palate/
LOCATION:Calgary Co-op Beddington Wine Spirits Beer\, 8220 Centre Street N.\, Calgary\, Alberta\, T3K 1J7\, Canada
CATEGORIES:Beverages,Tasting,Wine
ATTACH;FMTTYPE=image/jpeg:https://savourcalgary.ca/wp-content/uploads/2025/08/pouring-wine-co-op.jpg
END:VEVENT
BEGIN:VEVENT
DTSTART;TZID=America/Edmonton:20260227T190000
DTEND;TZID=America/Edmonton:20260227T210000
DTSTAMP:20260419T110302
CREATED:20251221T015402Z
LAST-MODIFIED:20251221T015402Z
UID:37177-1772218800-1772226000@savourcalgary.ca
SUMMARY:Wine Battle: Canada vs Europe
DESCRIPTION:If you love Canadian wine\, this is your chance to explore how it stacks up against its European counterparts. Discover and taste familiar grape varieties—like Cabernet Sauvignon\, Chardonnay\, and Pinot Noir—from both Canada and Europe\, side by side. Guided by our wine expert\, you’ll experience how different regions bring out unique expressions in the same grapes. A fun\, relaxed evening for curious palates\, with great wines\, small bites\, and a few surprises. \nDetails and registration @ Calgary Co-op Wines Spirits & Beer
URL:https://savourcalgary.ca/event/wine-battle-canada-vs-europe-2/
LOCATION:Calgary Co-op Shawnessy Wine Spirits Beer\, 80\, 250 Shawville Boulevard SE\, Calgary\, Alberta\, T2Y 2Z7\, Canada
CATEGORIES:Beverages,Global,Tasting,Wine
ATTACH;FMTTYPE=image/jpeg:https://savourcalgary.ca/wp-content/uploads/2025/08/wine-field-co-op.jpg
END:VEVENT
BEGIN:VEVENT
DTSTART;TZID=America/Edmonton:20260227T190000
DTEND;TZID=America/Edmonton:20260227T210000
DTSTAMP:20260419T110302
CREATED:20260102T034101Z
LAST-MODIFIED:20260102T034101Z
UID:37249-1772218800-1772226000@savourcalgary.ca
SUMMARY:French Fling Festival
DESCRIPTION:French wine\, s’il vous plaît! Join Willow Park for their annual French wine extravaganza as they celebrate their 32nd anniversary in true joie de vivre style. In honour of this milestone\, they’re paying tribute to all things French with an exceptional lineup of wines from Burgundy\, Bordeaux\, Languedoc\, and the Rhône Valley. Discover timeless classics alongside exciting new favourites in every style and colour. Savour exquisite wines complemented by delightful treats and sweets crafted by their kitchen team. Santé! \nDetails and registration @ Willow Park Wines & Spirits
URL:https://savourcalgary.ca/event/french-fling-festival-3/
LOCATION:Willow Park Wines & Spirits – Willow Park Village\, 10801 Bonaventure Drive SE\, Calgary\, Alberta\, T2J 6Z8\, Canada
CATEGORIES:Beverages,Pairing,Tasting,Wine
ATTACH;FMTTYPE=image/png:https://savourcalgary.ca/wp-content/uploads/2024/08/wines.png
END:VEVENT
BEGIN:VEVENT
DTSTART;TZID=America/Edmonton:20260227T190000
DTEND;TZID=America/Edmonton:20260227T210000
DTSTAMP:20260419T110302
CREATED:20260129T225226Z
LAST-MODIFIED:20260129T225226Z
UID:37887-1772218800-1772226000@savourcalgary.ca
SUMMARY:Canadian Wine with Pizza and Stan
DESCRIPTION:KWM is going with a Canadian theme for this Wine & Pizza tasting. You know what that means – all box wine and Ham and Pineapple! Okay\, not quite. This tasting will feature Stan’s selections for the Canadian wines\, and the Pizza will be made by Peasant Cheese. \nDetails and registration @ Kensington Wine Market
URL:https://savourcalgary.ca/event/canadian-wine-with-pizza-and-stan/
LOCATION:Kensington Wine Market\, 1257 Kensington Rd. NW\, Calgary\, Alberta\, T2N3P8\, Canada
CATEGORIES:Beverages,Food,Pairing,Tasting,Wine
ATTACH;FMTTYPE=image/jpeg:https://savourcalgary.ca/wp-content/uploads/2026/01/pizza-KWM.jpg
END:VEVENT
BEGIN:VEVENT
DTSTART;TZID=America/Edmonton:20260227T190000
DTEND;TZID=America/Edmonton:20260227T210000
DTSTAMP:20260419T110302
CREATED:20260223T133946Z
LAST-MODIFIED:20260223T133946Z
UID:38303-1772218800-1772226000@savourcalgary.ca
SUMMARY:Paint Nite: RAINBOW: The Boho Elephant
DESCRIPTION:This event is at one of the newest PaintNite venues: The Rec Room.  Come out and join MrPaintyPants for a fun night of painting. No experience needed and all supplies provided. Make sure to come early for dinner and drinks\, then stay late to play some games! Events here are sure to sell out so get your tickets now! \nDetails and registration @ Paint Nite
URL:https://savourcalgary.ca/event/paint-nite-rainbow-the-boho-elephant/
LOCATION:The Rec Room
CATEGORIES:Art,Beverages,Classes,Dinner,Food
ATTACH;FMTTYPE=image/png:https://savourcalgary.ca/wp-content/uploads/2024/03/Paint-Nite.png
END:VEVENT
END:VCALENDAR