BEGIN:VCALENDAR
VERSION:2.0
PRODID:-//Savour Calgary - ECPv6.15.17.1//NONSGML v1.0//EN
CALSCALE:GREGORIAN
METHOD:PUBLISH
X-WR-CALNAME:Savour Calgary
X-ORIGINAL-URL:https://savourcalgary.ca
X-WR-CALDESC:Events for Savour Calgary
REFRESH-INTERVAL;VALUE=DURATION:PT1H
X-Robots-Tag:noindex
X-PUBLISHED-TTL:PT1H
BEGIN:VTIMEZONE
TZID:America/Edmonton
BEGIN:DAYLIGHT
TZOFFSETFROM:-0700
TZOFFSETTO:-0600
TZNAME:MDT
DTSTART:20250309T090000
END:DAYLIGHT
BEGIN:STANDARD
TZOFFSETFROM:-0600
TZOFFSETTO:-0700
TZNAME:MST
DTSTART:20251102T080000
END:STANDARD
BEGIN:DAYLIGHT
TZOFFSETFROM:-0700
TZOFFSETTO:-0600
TZNAME:MDT
DTSTART:20260308T090000
END:DAYLIGHT
BEGIN:STANDARD
TZOFFSETFROM:-0600
TZOFFSETTO:-0700
TZNAME:MST
DTSTART:20261101T080000
END:STANDARD
BEGIN:DAYLIGHT
TZOFFSETFROM:-0700
TZOFFSETTO:-0600
TZNAME:MDT
DTSTART:20270314T090000
END:DAYLIGHT
BEGIN:STANDARD
TZOFFSETFROM:-0600
TZOFFSETTO:-0700
TZNAME:MST
DTSTART:20271107T080000
END:STANDARD
END:VTIMEZONE
BEGIN:VEVENT
DTSTART;TZID=America/Edmonton:20260206T183000
DTEND;TZID=America/Edmonton:20260330T213000
DTSTAMP:20260419T093322
CREATED:20260206T150601Z
LAST-MODIFIED:20260206T150601Z
UID:38041-1770402600-1774906200@savourcalgary.ca
SUMMARY:Riesling and Roti: A Southeast Asian Specialty Dinner
DESCRIPTION:Riesling can be made into a beautifully diverse selection of styles\, each reflecting their terroir\, vintage\, and the guiding hand of the winemaker. Affectionately referred to as ‘the altruistic foster parent’ of the food and wine pairing world\, examples sing when paired with classic German fare\, crispy roast pork\, summer vegetables\, and of course\, Southeast Asian food. \nThe exotic spice and heat of the food coming from Southeast Asia requires a wine that has fruit\, acidity\, and often a little kiss of sweetness to help offset the chili heat. Join Sarah and Al as they explore the sour\, salty\, spicy\, herbal nuances of Southeast Asian food\, and pairs Riesling to go along with it. \nDetails and registration @ The Cookbook Co. Cooks
URL:https://savourcalgary.ca/event/riesling-and-roti-a-southeast-asian-specialty-dinner-2/
LOCATION:The Cookbook Co. Cooks\, 722 11 Avenue SW\, Calgary\, Alberta\, T2R0E4\, Canada
CATEGORIES:Beverages,Cooking,Cooking Class,Pairing,Wine
ATTACH;FMTTYPE=image/png:https://savourcalgary.ca/wp-content/uploads/2025/04/roti.png
END:VEVENT
BEGIN:VEVENT
DTSTART;TZID=America/Edmonton:20260304T180000
DTEND;TZID=America/Edmonton:20260304T200000
DTSTAMP:20260419T093322
CREATED:20260218T223226Z
LAST-MODIFIED:20260218T223226Z
UID:38224-1772647200-1772654400@savourcalgary.ca
SUMMARY:Island Restaurant Collective dinner in Calgary
DESCRIPTION:A group of esteemed Vancouver Island chefs and restaurateurs has come together with a shared goal: to strengthen community\, celebrate regional ingredients\, and help define Vancouver Island’s evolving culinary identity. \nThe Island Restaurant Collective (IRC) is a chef-led collaboration founded on friendship\, mutual respect\, and a belief that Vancouver Island has something truly special to offer the world of food. \nThe Island Restaurant Collective is headed to Calgary for its first off-island collaborative dinner event. Hosted by the acclaimed Deane House in partnership with Calgary’s iconic River Café\, the evening will showcase Vancouver Island ingredients and the creativity of the collective’s chefs. \nDetails and registration @ Deane House
URL:https://savourcalgary.ca/event/island-restaurant-collective-dinner-in-calgary/
LOCATION:Deane House\, 806 9 Ave SE\, Calgary\, Alberta\, T2G 0S2\, Canada
CATEGORIES:Dining Series,Dinner,Food
ATTACH;FMTTYPE=image/jpeg:https://savourcalgary.ca/wp-content/uploads/2026/02/Deane-House.jpg
END:VEVENT
BEGIN:VEVENT
DTSTART;TZID=America/Edmonton:20260304T180000
DTEND;TZID=America/Edmonton:20260304T200000
DTSTAMP:20260419T093322
CREATED:20260302T043118Z
LAST-MODIFIED:20260302T043118Z
UID:38453-1772647200-1772654400@savourcalgary.ca
SUMMARY:Paint Nite: Bokeh Fox
DESCRIPTION:Come join Paint Nite for a night of creativity and fun as we welcome artist Christy of Rock Paper Brushes in Flower & Wolf\, Calgary! Grab a drink and unleash your inner artist as Christy guides you step by step in creating a beautiful painting that you can take home and proudly display. No experience necessary – just a willingness to have a good time and get your hands a little messy! So gather your friends\, or come solo and make new ones\, and let’s make some beautiful art together. See you there! \n\n\nDetails and registration @ Paint Nite
URL:https://savourcalgary.ca/event/paint-nite-bokeh-fox/
LOCATION:Flower & Wolf\, 255 Barclay Parade SW\, Calgary\, Alberta\, Canada
CATEGORIES:Art,Beverages,Classes,Food
ATTACH;FMTTYPE=image/png:https://savourcalgary.ca/wp-content/uploads/2024/03/Paint-Nite.png
END:VEVENT
BEGIN:VEVENT
DTSTART;TZID=America/Edmonton:20260304T183000
DTEND;TZID=America/Edmonton:20260304T210000
DTSTAMP:20260419T093322
CREATED:20260103T005224Z
LAST-MODIFIED:20260103T005224Z
UID:37268-1772649000-1772658000@savourcalgary.ca
SUMMARY:Handmade Pasta: Agnolotti\, Tagliatelle\, and More!
DESCRIPTION:Pasta is just so satisfying! Is there a person alive who doesn’t like pasta? If that person exists\, they haven’t tasted Melissa’s handmade delights. In this class\, Melissa will walk students through the proper preparation of fresh pasta dough\, then share some of the many possibilities for creative homemade long and stuffed pasta dishes. This is the perfect way for pasta lovers to while away some time while expanding their repertoires. \nDetails and registration @ The Cookbook Co. Cooks
URL:https://savourcalgary.ca/event/handmade-pasta-agnolotti-tagliatelle-and-more-6/
LOCATION:The Cookbook Co. Cooks\, 722 11 Avenue SW\, Calgary\, Alberta\, T2R0E4\, Canada
CATEGORIES:Classes,Cooking,Cooking Class,Food
ATTACH;FMTTYPE=image/png:https://savourcalgary.ca/wp-content/uploads/2023/10/pasta-class-1.png
END:VEVENT
END:VCALENDAR