BEGIN:VCALENDAR
VERSION:2.0
PRODID:-//Savour Calgary - ECPv6.15.17.1//NONSGML v1.0//EN
CALSCALE:GREGORIAN
METHOD:PUBLISH
X-ORIGINAL-URL:https://savourcalgary.ca
X-WR-CALDESC:Events for Savour Calgary
REFRESH-INTERVAL;VALUE=DURATION:PT1H
X-Robots-Tag:noindex
X-PUBLISHED-TTL:PT1H
BEGIN:VTIMEZONE
TZID:America/Edmonton
BEGIN:DAYLIGHT
TZOFFSETFROM:-0700
TZOFFSETTO:-0600
TZNAME:MDT
DTSTART:20250309T090000
END:DAYLIGHT
BEGIN:STANDARD
TZOFFSETFROM:-0600
TZOFFSETTO:-0700
TZNAME:MST
DTSTART:20251102T080000
END:STANDARD
BEGIN:DAYLIGHT
TZOFFSETFROM:-0700
TZOFFSETTO:-0600
TZNAME:MDT
DTSTART:20260308T090000
END:DAYLIGHT
BEGIN:STANDARD
TZOFFSETFROM:-0600
TZOFFSETTO:-0700
TZNAME:MST
DTSTART:20261101T080000
END:STANDARD
BEGIN:DAYLIGHT
TZOFFSETFROM:-0700
TZOFFSETTO:-0600
TZNAME:MDT
DTSTART:20270314T090000
END:DAYLIGHT
BEGIN:STANDARD
TZOFFSETFROM:-0600
TZOFFSETTO:-0700
TZNAME:MST
DTSTART:20271107T080000
END:STANDARD
END:VTIMEZONE
BEGIN:VEVENT
DTSTART;TZID=America/Edmonton:20260206T183000
DTEND;TZID=America/Edmonton:20260330T213000
DTSTAMP:20260419T104027
CREATED:20260206T150601Z
LAST-MODIFIED:20260206T150601Z
UID:38041-1770402600-1774906200@savourcalgary.ca
SUMMARY:Riesling and Roti: A Southeast Asian Specialty Dinner
DESCRIPTION:Riesling can be made into a beautifully diverse selection of styles\, each reflecting their terroir\, vintage\, and the guiding hand of the winemaker. Affectionately referred to as ‘the altruistic foster parent’ of the food and wine pairing world\, examples sing when paired with classic German fare\, crispy roast pork\, summer vegetables\, and of course\, Southeast Asian food. \nThe exotic spice and heat of the food coming from Southeast Asia requires a wine that has fruit\, acidity\, and often a little kiss of sweetness to help offset the chili heat. Join Sarah and Al as they explore the sour\, salty\, spicy\, herbal nuances of Southeast Asian food\, and pairs Riesling to go along with it. \nDetails and registration @ The Cookbook Co. Cooks
URL:https://savourcalgary.ca/event/riesling-and-roti-a-southeast-asian-specialty-dinner-2/
LOCATION:The Cookbook Co. Cooks\, 722 11 Avenue SW\, Calgary\, Alberta\, T2R0E4\, Canada
CATEGORIES:Beverages,Cooking,Cooking Class,Pairing,Wine
ATTACH;FMTTYPE=image/png:https://savourcalgary.ca/wp-content/uploads/2025/04/roti.png
END:VEVENT
BEGIN:VEVENT
DTSTART;VALUE=DATE:20260313
DTEND;VALUE=DATE:20260330
DTSTAMP:20260419T104027
CREATED:20260226T151735Z
LAST-MODIFIED:20260226T151735Z
UID:38335-1773360000-1774828799@savourcalgary.ca
SUMMARY:YYC Food & Drink Experience
DESCRIPTION:It’s time to celebrate the fabulous culinary scene in Calgary once again. YYC Food & Drink Experience is back\, serving up 17 days of unforgettable dining experiences across the city from March 13 to 29. Enjoy multi-course prix fixe menus at the city’s most inspired restaurants\, exclusive signature culinary events\, and a selection of partner hotel packages. \n\n\n\n\n\n\n\n\n\n\nDetails and registration @ YYC EXP
URL:https://savourcalgary.ca/event/yyc-food-drink-experience/
LOCATION:Alberta
CATEGORIES:Beverages,Dining Series,Dinner,Festival,Food
ATTACH;FMTTYPE=image/jpeg:https://savourcalgary.ca/wp-content/uploads/2026/02/YYC-EXPO-26.jpg
END:VEVENT
BEGIN:VEVENT
DTSTART;TZID=America/Edmonton:20260319T183000
DTEND;TZID=America/Edmonton:20260319T203000
DTSTAMP:20260419T104027
CREATED:20260313T020843Z
LAST-MODIFIED:20260313T020852Z
UID:38612-1773945000-1773952200@savourcalgary.ca
SUMMARY:Alberta Craft Spirits & Culinary Pairing Event
DESCRIPTION:An elevated dining experience featuring locally sourced Canadian dishes and curated cocktail pairings.\n\n\n\n\n\n\n\nJoin Yakima Social Kitchen + Bar for an Alberta Craft Spirits & Culinary Pairing Event\, a refined culinary experience celebrating locally sourced Canadian ingredients and thoughtfully crafted cocktail pairings. \nDetails and registration @ Eventbrite \n\n\n\n\n\n 
URL:https://savourcalgary.ca/event/alberta-craft-spirits-culinary-pairing-event/
LOCATION:Yakima Social Kitchen + Bar\, 2008 Airport Road NE\, Calgary\, Alberta\, T2E3B9\, Canada
CATEGORIES:Beverages,Cocktail,Dining Series,Dinner,Food,Pairing
ATTACH;FMTTYPE=image/jpeg:https://savourcalgary.ca/wp-content/uploads/2026/03/yakima-culinary.jpg
END:VEVENT
BEGIN:VEVENT
DTSTART;TZID=America/Edmonton:20260319T183000
DTEND;TZID=America/Edmonton:20260319T220000
DTSTAMP:20260419T104027
CREATED:20260226T151800Z
LAST-MODIFIED:20260226T151800Z
UID:38344-1773945000-1773957600@savourcalgary.ca
SUMMARY:Charcut
DESCRIPTION:Nonna called… and you’re invited to dinner! You know that inner at your fierce and bold Nonna‘s place is never an invitation to turn down. \nYou enter through the Charcut doors and are transported to Nonna‘s apartment. The vinyl is piled on the table\, and old school Italian house is bumping. \nThe table is set. You don’t know what is on the menu\, and you don’t ask. \nYou sit where Nonna seats you. You eat what Nonna serves you. You “salute” with what Nonna pours for you. \nYou leave full up on love\, laughter\, meat\, cheese\, pasta\, butter\, sauce\, and wine. You can’t wait to return. \nDetails and registration @ YYC EXP
URL:https://savourcalgary.ca/event/charcut/
LOCATION:Charcut\, 899 Centre Street South\, Calgary\, Alberta\, Canada
CATEGORIES:Dining Series,Dinner,Food
ATTACH;FMTTYPE=image/jpeg:https://savourcalgary.ca/wp-content/uploads/2026/02/YYC-EXP-2.jpg
END:VEVENT
BEGIN:VEVENT
DTSTART;TZID=America/Edmonton:20260319T190000
DTEND;TZID=America/Edmonton:20260319T210000
DTSTAMP:20260419T104027
CREATED:20260206T034545Z
LAST-MODIFIED:20260206T034545Z
UID:38033-1773946800-1773954000@savourcalgary.ca
SUMMARY:Springtime Reds
DESCRIPTION:Spring is springing and we are definitely ready for it! This is one of Calgary Co-op’s favourite times of the year and not just for the positive turn in weather. As the weather softens\, we tend to crave slighter lighter foods\, and reds that are also a little breezier and easy-going – not so heavy and rich as those wintertime reds. Join them as they enjoy a range of red wines suited for spring. If this doesn’t get you ready for Spring\, we don’t know what will. \nDetails and registration @ Calgary Co-op Wine Spirits & Beer
URL:https://savourcalgary.ca/event/springtime-reds/
LOCATION:Co-op Crowfoot Wine Spirits Beer\, 39 Crowfoot Way Northwest\, Calgary\, Alberta\, T3G 2L4\, Canada
CATEGORIES:Beverages,Tasting,Wine
ATTACH;FMTTYPE=image/jpeg:https://savourcalgary.ca/wp-content/uploads/2025/12/syrah-co-op.jpg
END:VEVENT
BEGIN:VEVENT
DTSTART;TZID=America/Edmonton:20260319T190000
DTEND;TZID=America/Edmonton:20260319T210000
DTSTAMP:20260419T104027
CREATED:20260222T044256Z
LAST-MODIFIED:20260222T044256Z
UID:38276-1773946800-1773954000@savourcalgary.ca
SUMMARY:Riesling - The King of White Grapes with Geoff
DESCRIPTION:Riesling is the world’s greatest white wine. There\, they said it\, and now KWM is prepared to stand behind those words. What other white grape can age gracefully for decades\, and can be paired with sushi\, Thai food\, Indian cuisine\, shellfish\, Chinese food\, goat cheese\, foie gras\, and sweet desserts? They stock what they believe is the best riesling selection in the city\, with producers that include Wittmann\, St.Antony\, Keller\, Muller Catoir\, Enrich-Shonleber\, Seebrich\, and Peter Lauer. From the bone dry styles (mostly) to the sweet\, this will be a great riesling tasting. \nDetails and registration @ Kensington Wine Market
URL:https://savourcalgary.ca/event/riesling-the-king-of-white-grapes-with-geoff/
LOCATION:Kensington Wine Market\, 1257 Kensington Rd. NW\, Calgary\, Alberta\, T2N3P8\, Canada
CATEGORIES:Beverages,Tasting,Wine
ATTACH;FMTTYPE=image/png:https://savourcalgary.ca/wp-content/uploads/2025/06/eli-KWM.png
END:VEVENT
BEGIN:VEVENT
DTSTART;TZID=America/Edmonton:20260319T190000
DTEND;TZID=America/Edmonton:20260319T210000
DTSTAMP:20260419T104027
CREATED:20260316T015207Z
LAST-MODIFIED:20260316T015207Z
UID:38640-1773946800-1773954000@savourcalgary.ca
SUMMARY:Paint Nite: Sunset Cherry Blossoms
DESCRIPTION:Join artist She Bui for a fun night out painting “Sunset Cherry Blossoms” in Calgary. This beginner-friendly event is the perfect excuse to get together with friends\, enjoy some laughs\, and create your own piece of art. All supplies are included\, and you don’t have to worry about being judged or graded. Just bring your good vibes and maybe a drink or two to sip while you paint. \nDetails and registration @ Paint Nite
URL:https://savourcalgary.ca/event/paint-nite-sunset-cherry-blossoms/
LOCATION:The Cat N’ Fiddle\, 540 16th Ave NW\, Calgary\, Alberta\, Canada
CATEGORIES:Art,Beverages,Family,Friends
ATTACH;FMTTYPE=image/png:https://savourcalgary.ca/wp-content/uploads/2024/03/Paint-Nite.png
END:VEVENT
END:VCALENDAR