BEGIN:VCALENDAR
VERSION:2.0
PRODID:-//Savour Calgary - ECPv6.15.17.1//NONSGML v1.0//EN
CALSCALE:GREGORIAN
METHOD:PUBLISH
X-WR-CALNAME:Savour Calgary
X-ORIGINAL-URL:https://savourcalgary.ca
X-WR-CALDESC:Events for Savour Calgary
REFRESH-INTERVAL;VALUE=DURATION:PT1H
X-Robots-Tag:noindex
X-PUBLISHED-TTL:PT1H
BEGIN:VTIMEZONE
TZID:America/Edmonton
BEGIN:DAYLIGHT
TZOFFSETFROM:-0700
TZOFFSETTO:-0600
TZNAME:MDT
DTSTART:20250309T090000
END:DAYLIGHT
BEGIN:STANDARD
TZOFFSETFROM:-0600
TZOFFSETTO:-0700
TZNAME:MST
DTSTART:20251102T080000
END:STANDARD
BEGIN:DAYLIGHT
TZOFFSETFROM:-0700
TZOFFSETTO:-0600
TZNAME:MDT
DTSTART:20260308T090000
END:DAYLIGHT
BEGIN:STANDARD
TZOFFSETFROM:-0600
TZOFFSETTO:-0700
TZNAME:MST
DTSTART:20261101T080000
END:STANDARD
BEGIN:DAYLIGHT
TZOFFSETFROM:-0700
TZOFFSETTO:-0600
TZNAME:MDT
DTSTART:20270314T090000
END:DAYLIGHT
BEGIN:STANDARD
TZOFFSETFROM:-0600
TZOFFSETTO:-0700
TZNAME:MST
DTSTART:20271107T080000
END:STANDARD
END:VTIMEZONE
BEGIN:VEVENT
DTSTART;TZID=America/Edmonton:20260206T183000
DTEND;TZID=America/Edmonton:20260330T213000
DTSTAMP:20260419T103844
CREATED:20260206T150601Z
LAST-MODIFIED:20260206T150601Z
UID:38041-1770402600-1774906200@savourcalgary.ca
SUMMARY:Riesling and Roti: A Southeast Asian Specialty Dinner
DESCRIPTION:Riesling can be made into a beautifully diverse selection of styles\, each reflecting their terroir\, vintage\, and the guiding hand of the winemaker. Affectionately referred to as ‘the altruistic foster parent’ of the food and wine pairing world\, examples sing when paired with classic German fare\, crispy roast pork\, summer vegetables\, and of course\, Southeast Asian food. \nThe exotic spice and heat of the food coming from Southeast Asia requires a wine that has fruit\, acidity\, and often a little kiss of sweetness to help offset the chili heat. Join Sarah and Al as they explore the sour\, salty\, spicy\, herbal nuances of Southeast Asian food\, and pairs Riesling to go along with it. \nDetails and registration @ The Cookbook Co. Cooks
URL:https://savourcalgary.ca/event/riesling-and-roti-a-southeast-asian-specialty-dinner-2/
LOCATION:The Cookbook Co. Cooks\, 722 11 Avenue SW\, Calgary\, Alberta\, T2R0E4\, Canada
CATEGORIES:Beverages,Cooking,Cooking Class,Pairing,Wine
ATTACH;FMTTYPE=image/png:https://savourcalgary.ca/wp-content/uploads/2025/04/roti.png
END:VEVENT
BEGIN:VEVENT
DTSTART;VALUE=DATE:20260313
DTEND;VALUE=DATE:20260330
DTSTAMP:20260419T103844
CREATED:20260226T151735Z
LAST-MODIFIED:20260226T151735Z
UID:38335-1773360000-1774828799@savourcalgary.ca
SUMMARY:YYC Food & Drink Experience
DESCRIPTION:It’s time to celebrate the fabulous culinary scene in Calgary once again. YYC Food & Drink Experience is back\, serving up 17 days of unforgettable dining experiences across the city from March 13 to 29. Enjoy multi-course prix fixe menus at the city’s most inspired restaurants\, exclusive signature culinary events\, and a selection of partner hotel packages. \n\n\n\n\n\n\n\n\n\n\nDetails and registration @ YYC EXP
URL:https://savourcalgary.ca/event/yyc-food-drink-experience/
LOCATION:Alberta
CATEGORIES:Beverages,Dining Series,Dinner,Festival,Food
ATTACH;FMTTYPE=image/jpeg:https://savourcalgary.ca/wp-content/uploads/2026/02/YYC-EXPO-26.jpg
END:VEVENT
BEGIN:VEVENT
DTSTART;TZID=America/Edmonton:20260320T190000
DTEND;TZID=America/Edmonton:20260320T203000
DTSTAMP:20260419T103844
CREATED:20260117T222302Z
LAST-MODIFIED:20260117T222302Z
UID:37695-1774033200-1774038600@savourcalgary.ca
SUMMARY:Spring Into Cocktails
DESCRIPTION:With floral notes and citrus bursts\, Willow Parks is toasting the new season with light\, refreshing cocktails! Join their Trusted Experts as they share the essentials of crafting the perfect spring-inspired drink. Learn which spirits deserve a spot in your home bar and discover the effortless luxury that comes from balancing fresh flavours and creativity. Savour a taste of sunshine—served with cheese boards and fresh baguette. \nDetails and registration @ Willow Park Wines & Spirits
URL:https://savourcalgary.ca/event/spring-into-cocktails/
LOCATION:Willow Park Wines & Spirits – Willow Park Village\, 10801 Bonaventure Drive SE\, Calgary\, Alberta\, T2J 6Z8\, Canada
CATEGORIES:Beverages,Cheese,Cocktail,Tasting
ATTACH;FMTTYPE=image/png:https://savourcalgary.ca/wp-content/uploads/2024/05/cocktails-and-food.png
END:VEVENT
BEGIN:VEVENT
DTSTART;TZID=America/Edmonton:20260320T190000
DTEND;TZID=America/Edmonton:20260320T210000
DTSTAMP:20260419T103844
CREATED:20260206T034145Z
LAST-MODIFIED:20260206T034145Z
UID:38027-1774033200-1774040400@savourcalgary.ca
SUMMARY:Sips of Spain
DESCRIPTION:Some of the world’s finest wines come from Spain…are you ready to come taste with Market Wines? Most wine lovers know Rioja\, but Spain’s story stretches far beyond its famous reds. \nFrom the Atlantic‑kissed coastlines that produce vibrant\, saline whites to the sun‑soaked interior where bold\, structured reds thrive\, Spain offers a world of character in every glass. \nIn this two-hour tasting\, you will discover the country’s diverse regions\, native grapes\, and distinctive styles and taste just how much more there is to explore. All while nibbling on some delicious cheese and charcuterie. \nDetails and registration @ Market Wines
URL:https://savourcalgary.ca/event/sips-of-spain/
LOCATION:Market Wines west\, 55 Greenbriar Drive Northwest\, Calgary\, Alberta\, T3B 6M3\, Canada
CATEGORIES:Beverages,Cheese,Pairing,Tasting,Wine
ATTACH;FMTTYPE=image/jpeg:https://savourcalgary.ca/wp-content/uploads/2026/02/sips-MW.jpg
END:VEVENT
BEGIN:VEVENT
DTSTART;TZID=America/Edmonton:20260320T190000
DTEND;TZID=America/Edmonton:20260320T210000
DTSTAMP:20260419T103844
CREATED:20260223T133336Z
LAST-MODIFIED:20260223T133336Z
UID:38293-1774033200-1774040400@savourcalgary.ca
SUMMARY:Luck of the Irish - A Belated St. Patrick's Day Tasting
DESCRIPTION:The approach of St. Paddy’s Day means everyone’s feeling a little more Irish\, and it is high time for a focused Irish Whiskey tasting. Come down to Kensington Wine Market and take a wander across the Emerald Isle\, tasting you way through some of the finest whiskey the island has to offer. Find out why Irish Whiskey is booming and taste some whiskey from distilleries both new and old! \nDetails and registration @ Kensington Wine Market
URL:https://savourcalgary.ca/event/luck-of-the-irish-a-belated-st-patricks-day-tasting/
LOCATION:Kensington Wine Market\, 1257 Kensington Rd. NW\, Calgary\, Alberta\, T2N3P8\, Canada
CATEGORIES:Beverages,Holiday,Tasting,Whiskey
ATTACH;FMTTYPE=image/jpeg:https://savourcalgary.ca/wp-content/uploads/2026/02/irish-KWM.jpg
END:VEVENT
BEGIN:VEVENT
DTSTART;TZID=America/Edmonton:20260320T190000
DTEND;TZID=America/Edmonton:20260320T210000
DTSTAMP:20260419T103844
CREATED:20260316T015444Z
LAST-MODIFIED:20260316T015444Z
UID:38645-1774033200-1774040400@savourcalgary.ca
SUMMARY:Paint Nite: Purple Serenity
DESCRIPTION:This event is at one of the newest PaintNite venues: The Rec Room.  Come out and join MrPaintyPants for a fun night of painting. No experience needed and all supplies provided. Make sure to come early for dinner and drinks\, then stay late to play some games! Events here are sure to sell out so get your tickets now! \nDetails and registration @ Paint Nite
URL:https://savourcalgary.ca/event/paint-nite-purple-serenity/
LOCATION:The Rec Room
CATEGORIES:Art,Beverages,Dinner,Food
ATTACH;FMTTYPE=image/png:https://savourcalgary.ca/wp-content/uploads/2024/03/Paint-Nite.png
END:VEVENT
END:VCALENDAR