BEGIN:VCALENDAR
VERSION:2.0
PRODID:-//Savour Calgary - ECPv6.15.17.1//NONSGML v1.0//EN
CALSCALE:GREGORIAN
METHOD:PUBLISH
X-WR-CALNAME:Savour Calgary
X-ORIGINAL-URL:https://savourcalgary.ca
X-WR-CALDESC:Events for Savour Calgary
REFRESH-INTERVAL;VALUE=DURATION:PT1H
X-Robots-Tag:noindex
X-PUBLISHED-TTL:PT1H
BEGIN:VTIMEZONE
TZID:America/Edmonton
BEGIN:DAYLIGHT
TZOFFSETFROM:-0700
TZOFFSETTO:-0600
TZNAME:MDT
DTSTART:20250309T090000
END:DAYLIGHT
BEGIN:STANDARD
TZOFFSETFROM:-0600
TZOFFSETTO:-0700
TZNAME:MST
DTSTART:20251102T080000
END:STANDARD
BEGIN:DAYLIGHT
TZOFFSETFROM:-0700
TZOFFSETTO:-0600
TZNAME:MDT
DTSTART:20260308T090000
END:DAYLIGHT
BEGIN:STANDARD
TZOFFSETFROM:-0600
TZOFFSETTO:-0700
TZNAME:MST
DTSTART:20261101T080000
END:STANDARD
BEGIN:DAYLIGHT
TZOFFSETFROM:-0700
TZOFFSETTO:-0600
TZNAME:MDT
DTSTART:20270314T090000
END:DAYLIGHT
BEGIN:STANDARD
TZOFFSETFROM:-0600
TZOFFSETTO:-0700
TZNAME:MST
DTSTART:20271107T080000
END:STANDARD
END:VTIMEZONE
BEGIN:VEVENT
DTSTART;TZID=America/Edmonton:20260206T183000
DTEND;TZID=America/Edmonton:20260330T213000
DTSTAMP:20260419T115003
CREATED:20260206T150601Z
LAST-MODIFIED:20260206T150601Z
UID:38041-1770402600-1774906200@savourcalgary.ca
SUMMARY:Riesling and Roti: A Southeast Asian Specialty Dinner
DESCRIPTION:Riesling can be made into a beautifully diverse selection of styles\, each reflecting their terroir\, vintage\, and the guiding hand of the winemaker. Affectionately referred to as ‘the altruistic foster parent’ of the food and wine pairing world\, examples sing when paired with classic German fare\, crispy roast pork\, summer vegetables\, and of course\, Southeast Asian food. \nThe exotic spice and heat of the food coming from Southeast Asia requires a wine that has fruit\, acidity\, and often a little kiss of sweetness to help offset the chili heat. Join Sarah and Al as they explore the sour\, salty\, spicy\, herbal nuances of Southeast Asian food\, and pairs Riesling to go along with it. \nDetails and registration @ The Cookbook Co. Cooks
URL:https://savourcalgary.ca/event/riesling-and-roti-a-southeast-asian-specialty-dinner-2/
LOCATION:The Cookbook Co. Cooks\, 722 11 Avenue SW\, Calgary\, Alberta\, T2R0E4\, Canada
CATEGORIES:Beverages,Cooking,Cooking Class,Pairing,Wine
ATTACH;FMTTYPE=image/png:https://savourcalgary.ca/wp-content/uploads/2025/04/roti.png
END:VEVENT
BEGIN:VEVENT
DTSTART;VALUE=DATE:20260313
DTEND;VALUE=DATE:20260330
DTSTAMP:20260419T115003
CREATED:20260226T151735Z
LAST-MODIFIED:20260226T151735Z
UID:38335-1773360000-1774828799@savourcalgary.ca
SUMMARY:YYC Food & Drink Experience
DESCRIPTION:It’s time to celebrate the fabulous culinary scene in Calgary once again. YYC Food & Drink Experience is back\, serving up 17 days of unforgettable dining experiences across the city from March 13 to 29. Enjoy multi-course prix fixe menus at the city’s most inspired restaurants\, exclusive signature culinary events\, and a selection of partner hotel packages. \n\n\n\n\n\n\n\n\n\n\nDetails and registration @ YYC EXP
URL:https://savourcalgary.ca/event/yyc-food-drink-experience/
LOCATION:Alberta
CATEGORIES:Beverages,Dining Series,Dinner,Festival,Food
ATTACH;FMTTYPE=image/jpeg:https://savourcalgary.ca/wp-content/uploads/2026/02/YYC-EXPO-26.jpg
END:VEVENT
BEGIN:VEVENT
DTSTART;TZID=America/Edmonton:20260322T080000
DTEND;TZID=America/Edmonton:20260322T170000
DTSTAMP:20260419T115003
CREATED:20260322T191918Z
LAST-MODIFIED:20260322T191918Z
UID:38808-1774166400-1774198800@savourcalgary.ca
SUMMARY:Paint Nite: Spring Bunny Hop
DESCRIPTION:Join Nessasary_art_inspo for a vibrant Paint Nite featuring “Spring Bunny Hop” and get ready for a night filled with creativity and laughter. This event is not just about painting; it’s about having a blast with friends and making memories. Supplies are included\, so all you need to do is show up and enjoy the fun. Whether you’re a seasoned pro or picking up a brush for the first time\, this is the perfect opportunity to let loose and enjoy a carefree evening. \nDetails and registration @ Paint Nite
URL:https://savourcalgary.ca/event/paint-nite-spring-bunny-hop/
LOCATION:WXYZ Lounge at Aloft Hotel\, 2359 Banff Trail NW Unit 337\, Calgary\, Alberta\, Canada
CATEGORIES:Art,Beverages,Easter,Friends
ATTACH;FMTTYPE=image/png:https://savourcalgary.ca/wp-content/uploads/2024/03/Paint-Nite.png
END:VEVENT
BEGIN:VEVENT
DTSTART;TZID=America/Edmonton:20260322T100000
DTEND;TZID=America/Edmonton:20260322T140000
DTSTAMP:20260419T115003
CREATED:20260201T013653Z
LAST-MODIFIED:20260201T013653Z
UID:37910-1774173600-1774188000@savourcalgary.ca
SUMMARY:Handmade Asian Dumplings
DESCRIPTION:Students from Ching’s classes have loved her dumplings so much they asked for a class just featuring them\, so here it is! Join Ching for a journey of discovery into these delicious little parcels of flavour\, and learn just how weeknight meal-worthy dumplings can be. Expand your dumpling making skills—life will never be more yummy! \n\n\n\n\n\n\nDetails and registration @ The Cookbook Co. Cooks
URL:https://savourcalgary.ca/event/handmade-asian-dumplings/
LOCATION:The Cookbook Co. Cooks\, 722 11 Avenue SW\, Calgary\, Alberta\, T2R0E4\, Canada
CATEGORIES:Classes,Cooking,Cooking Class,Food
ATTACH;FMTTYPE=image/png:https://savourcalgary.ca/wp-content/uploads/2024/02/dumplings-cooking-class.png
END:VEVENT
BEGIN:VEVENT
DTSTART;TZID=America/Edmonton:20260322T173000
DTEND;TZID=America/Edmonton:20260322T210000
DTSTAMP:20260419T115003
CREATED:20260302T040948Z
LAST-MODIFIED:20260302T040948Z
UID:38436-1774200600-1774213200@savourcalgary.ca
SUMMARY:Model Citizen
DESCRIPTION:Enjoy Thai-inspired dining guided by Newfoundland’s bounty\, along with Concorde chefs at this pop-up. \nThis is a pre-set menu\, and will run for 2 nights\, 2 dinner seatings per night. \nDetails and registration @ YYC EXP
URL:https://savourcalgary.ca/event/model-citizen/
LOCATION:Model Milk\, 308 17 Avenue SW\, Calgary\, Alberta\, T2S0A8\, Canada
CATEGORIES:Dining Series,Dinner,Food
ATTACH;FMTTYPE=image/jpeg:https://savourcalgary.ca/wp-content/uploads/2026/02/YYC-EXP-1.jpg
END:VEVENT
END:VCALENDAR