BEGIN:VCALENDAR
VERSION:2.0
PRODID:-//Savour Calgary - ECPv6.15.17.1//NONSGML v1.0//EN
CALSCALE:GREGORIAN
METHOD:PUBLISH
X-WR-CALNAME:Savour Calgary
X-ORIGINAL-URL:https://savourcalgary.ca
X-WR-CALDESC:Events for Savour Calgary
REFRESH-INTERVAL;VALUE=DURATION:PT1H
X-Robots-Tag:noindex
X-PUBLISHED-TTL:PT1H
BEGIN:VTIMEZONE
TZID:America/Edmonton
BEGIN:DAYLIGHT
TZOFFSETFROM:-0700
TZOFFSETTO:-0600
TZNAME:MDT
DTSTART:20250309T090000
END:DAYLIGHT
BEGIN:STANDARD
TZOFFSETFROM:-0600
TZOFFSETTO:-0700
TZNAME:MST
DTSTART:20251102T080000
END:STANDARD
BEGIN:DAYLIGHT
TZOFFSETFROM:-0700
TZOFFSETTO:-0600
TZNAME:MDT
DTSTART:20260308T090000
END:DAYLIGHT
BEGIN:STANDARD
TZOFFSETFROM:-0600
TZOFFSETTO:-0700
TZNAME:MST
DTSTART:20261101T080000
END:STANDARD
BEGIN:DAYLIGHT
TZOFFSETFROM:-0700
TZOFFSETTO:-0600
TZNAME:MDT
DTSTART:20270314T090000
END:DAYLIGHT
BEGIN:STANDARD
TZOFFSETFROM:-0600
TZOFFSETTO:-0700
TZNAME:MST
DTSTART:20271107T080000
END:STANDARD
END:VTIMEZONE
BEGIN:VEVENT
DTSTART;VALUE=DATE:20260401
DTEND;VALUE=DATE:20260501
DTSTAMP:20260419T075710
CREATED:20260321T182425Z
LAST-MODIFIED:20260321T182425Z
UID:38689-1775001600-1777593599@savourcalgary.ca
SUMMARY:Canmore Vegan Chef Challenge
DESCRIPTION:Join them for a month-long celebration of new vegan dishes all over Canmore! \nBusinesses across Canmore will showcase exciting special vegan menu items for an entire month\, giving everyone the opportunity to explore creative plant-based dishes crafted by talented local chefs. \nThis event is open to everyone\, not just vegans! It’s about bringing our community together to celebrate incredible food and support our area’s chefs. \nDetails @ Vegan Chef Challenge
URL:https://savourcalgary.ca/event/canmore-vegan-chef-challenge/
LOCATION:Alberta
CATEGORIES:Dining Series,Food,Vegan
ATTACH;FMTTYPE=image/png:https://savourcalgary.ca/wp-content/uploads/2026/03/Canmore-VCC-Event-Cover-1.png
END:VEVENT
BEGIN:VEVENT
DTSTART;TZID=America/Edmonton:20260402T180000
DTEND;TZID=America/Edmonton:20260402T210000
DTSTAMP:20260419T075710
CREATED:20260214T154608Z
LAST-MODIFIED:20260214T154608Z
UID:38197-1775152800-1775163600@savourcalgary.ca
SUMMARY:Easter Wine Festival
DESCRIPTION:Sip\, stroll\, and savor at the Easter Wine Festival. Explore a curated selection of wines and celebrate the flavors of the season with fellow enthusiasts at a walk-around tasting. Make Easter dinner unforgettable with the perfect wine pairings for family and friends. \nDetails and registration @ Calgary Co-op Wine Spirits & Beer
URL:https://savourcalgary.ca/event/easter-wine-festival/
LOCATION:The Cookbook Co. Cooks\, 722 11 Avenue SW\, Calgary\, Alberta\, T2R0E4\, Canada
CATEGORIES:Beverages,Dinner,Easter,Food,Pairing,Tasting
ATTACH;FMTTYPE=image/jpeg:https://savourcalgary.ca/wp-content/uploads/2026/02/easter-co-op.jpg
END:VEVENT
BEGIN:VEVENT
DTSTART;TZID=America/Edmonton:20260402T190000
DTEND;TZID=America/Edmonton:20260402T210000
DTSTAMP:20260419T075710
CREATED:20260322T191843Z
LAST-MODIFIED:20260322T191843Z
UID:38804-1775156400-1775163600@savourcalgary.ca
SUMMARY:Paint Nite: Spring Melt Down
DESCRIPTION:Join She Bui for an unforgettable night of painting “Spring Melt Down” at The Cat N’ Fiddle. This laid-back event is all about having fun with friends while sipping drinks and creating something together. No pressure\, no judging—just a great atmosphere and the chance to explore your playful side. All supplies are provided\, so you can dive right into the colors of blue\, gray\, and green\, bringing the beauty of trees and water to life on a 16″ x 20″ canvas. \nDetails and registration @ Paint Nite 
URL:https://savourcalgary.ca/event/paint-nite-spring-melt-down/
LOCATION:The Cat N’ Fiddle\, 540 16th Ave NW\, Calgary\, Alberta\, Canada
CATEGORIES:Art,Beverages,Classes,Food
ATTACH;FMTTYPE=image/png:https://savourcalgary.ca/wp-content/uploads/2024/03/Paint-Nite.png
END:VEVENT
END:VCALENDAR