BEGIN:VCALENDAR
VERSION:2.0
PRODID:-//Savour Calgary - ECPv6.15.17.1//NONSGML v1.0//EN
CALSCALE:GREGORIAN
METHOD:PUBLISH
X-ORIGINAL-URL:https://savourcalgary.ca
X-WR-CALDESC:Events for Savour Calgary
REFRESH-INTERVAL;VALUE=DURATION:PT1H
X-Robots-Tag:noindex
X-PUBLISHED-TTL:PT1H
BEGIN:VTIMEZONE
TZID:America/Edmonton
BEGIN:DAYLIGHT
TZOFFSETFROM:-0700
TZOFFSETTO:-0600
TZNAME:MDT
DTSTART:20250309T090000
END:DAYLIGHT
BEGIN:STANDARD
TZOFFSETFROM:-0600
TZOFFSETTO:-0700
TZNAME:MST
DTSTART:20251102T080000
END:STANDARD
BEGIN:DAYLIGHT
TZOFFSETFROM:-0700
TZOFFSETTO:-0600
TZNAME:MDT
DTSTART:20260308T090000
END:DAYLIGHT
BEGIN:STANDARD
TZOFFSETFROM:-0600
TZOFFSETTO:-0700
TZNAME:MST
DTSTART:20261101T080000
END:STANDARD
BEGIN:DAYLIGHT
TZOFFSETFROM:-0700
TZOFFSETTO:-0600
TZNAME:MDT
DTSTART:20270314T090000
END:DAYLIGHT
BEGIN:STANDARD
TZOFFSETFROM:-0600
TZOFFSETTO:-0700
TZNAME:MST
DTSTART:20271107T080000
END:STANDARD
END:VTIMEZONE
BEGIN:VEVENT
DTSTART;VALUE=DATE:20260401
DTEND;VALUE=DATE:20260501
DTSTAMP:20260419T075833
CREATED:20260321T182425Z
LAST-MODIFIED:20260321T182425Z
UID:38689-1775001600-1777593599@savourcalgary.ca
SUMMARY:Canmore Vegan Chef Challenge
DESCRIPTION:Join them for a month-long celebration of new vegan dishes all over Canmore! \nBusinesses across Canmore will showcase exciting special vegan menu items for an entire month\, giving everyone the opportunity to explore creative plant-based dishes crafted by talented local chefs. \nThis event is open to everyone\, not just vegans! It’s about bringing our community together to celebrate incredible food and support our area’s chefs. \nDetails @ Vegan Chef Challenge
URL:https://savourcalgary.ca/event/canmore-vegan-chef-challenge/
LOCATION:Alberta
CATEGORIES:Dining Series,Food,Vegan
ATTACH;FMTTYPE=image/png:https://savourcalgary.ca/wp-content/uploads/2026/03/Canmore-VCC-Event-Cover-1.png
END:VEVENT
BEGIN:VEVENT
DTSTART;TZID=America/Edmonton:20260424T183000
DTEND;TZID=America/Edmonton:20260424T203000
DTSTAMP:20260419T075833
CREATED:20260316T013305Z
LAST-MODIFIED:20260316T013305Z
UID:38633-1777055400-1777062600@savourcalgary.ca
SUMMARY:White Wines of France
DESCRIPTION:Explore the diversity of French white wines right in time for patio season. \n\n\n\n\nThis 2 hour tasting will highlight the diverse approaches to white winemaking across France through a flight of 6 wines. Learn how terroir\, tradition\, and innovation shape the flavors in each glass\, and explore the unique regions that make French whites stand out. \nDetails and registration @ Market Wines
URL:https://savourcalgary.ca/event/white-wines-of-france/
LOCATION:Market Wines – University District\, 4109 University Avenue NW\, Calgary\, Alberta\, T3B6K3\, Canada
CATEGORIES:Beverages,Tasting,Wine
ATTACH;FMTTYPE=image/jpeg:https://savourcalgary.ca/wp-content/uploads/2026/03/white-MW.jpg
END:VEVENT
BEGIN:VEVENT
DTSTART;TZID=America/Edmonton:20260424T190000
DTEND;TZID=America/Edmonton:20260424T210000
DTSTAMP:20260419T075833
CREATED:20260406T035013Z
LAST-MODIFIED:20260406T035013Z
UID:39135-1777057200-1777064400@savourcalgary.ca
SUMMARY:The Undisclosed Orkney Tasting In-Store
DESCRIPTION:Some of the best whiskies coming out of the Orkneys in the last decade have been undisclosed single malts. They are usually from Highland Park\, but some of them trace their origins back to Scapa. Kensington Wine Marker has cobbled together a range of 7 Orkney Malts\, 3 each from Signatory and Old Orkney (Decadent Drinks)\, and another from A.D. Rattray. The whiskies were a hit in the virtual version of this tasting! \nDetails and registration @ Kensington Wine Market \n 
URL:https://savourcalgary.ca/event/the-undisclosed-orkney-tasting-in-store/
LOCATION:Kensington Wine Market\, 1257 Kensington Rd. NW\, Calgary\, Alberta\, T2N3P8\, Canada
CATEGORIES:Beverages,Tasting,Whiskey
ATTACH;FMTTYPE=image/jpeg:https://savourcalgary.ca/wp-content/uploads/2026/04/malt-KWM.jpg
END:VEVENT
END:VCALENDAR