BEGIN:VCALENDAR
VERSION:2.0
PRODID:-//Savour Calgary - ECPv6.15.17.1//NONSGML v1.0//EN
CALSCALE:GREGORIAN
METHOD:PUBLISH
X-ORIGINAL-URL:https://savourcalgary.ca
X-WR-CALDESC:Events for Savour Calgary
REFRESH-INTERVAL;VALUE=DURATION:PT1H
X-Robots-Tag:noindex
X-PUBLISHED-TTL:PT1H
BEGIN:VTIMEZONE
TZID:America/Edmonton
BEGIN:DAYLIGHT
TZOFFSETFROM:-0700
TZOFFSETTO:-0600
TZNAME:MDT
DTSTART:20250309T090000
END:DAYLIGHT
BEGIN:STANDARD
TZOFFSETFROM:-0600
TZOFFSETTO:-0700
TZNAME:MST
DTSTART:20251102T080000
END:STANDARD
BEGIN:DAYLIGHT
TZOFFSETFROM:-0700
TZOFFSETTO:-0600
TZNAME:MDT
DTSTART:20260308T090000
END:DAYLIGHT
BEGIN:STANDARD
TZOFFSETFROM:-0600
TZOFFSETTO:-0700
TZNAME:MST
DTSTART:20261101T080000
END:STANDARD
BEGIN:DAYLIGHT
TZOFFSETFROM:-0700
TZOFFSETTO:-0600
TZNAME:MDT
DTSTART:20270314T090000
END:DAYLIGHT
BEGIN:STANDARD
TZOFFSETFROM:-0600
TZOFFSETTO:-0700
TZNAME:MST
DTSTART:20271107T080000
END:STANDARD
END:VTIMEZONE
BEGIN:VEVENT
DTSTART;TZID=America/Edmonton:20260506T190000
DTEND;TZID=America/Edmonton:20260506T210000
DTSTAMP:20260419T115234
CREATED:20260330T020727Z
LAST-MODIFIED:20260330T020727Z
UID:38964-1778094000-1778101200@savourcalgary.ca
SUMMARY:Sake: Its Intricacies with Sake Samurai Patrick Ellis
DESCRIPTION:Patrick Ellis has the rare distinction of being crowned a ‘Sake Samurai’ by the Junior Brewers Association of Japan. Join Calgary Co-op this evening for an informative and insightful tasting of the makings of Sake\, the taste profile\, how it pairs with food and its path of discovery in Canada through Patrick’s passion and love of all things Sake. \nDetails and registration @ Calgary Co-op Wine Spirts & Beer
URL:https://savourcalgary.ca/event/sake-its-intricacies-with-sake-samurai-patrick-ellis/
LOCATION:Calgary Co-op Oakridge\, 2580 Southland Dr SW\, Calgary\, Alberta\, T2V 4J8\, Canada
CATEGORIES:Beverages,Food,Pairing,Tasting,Wine
ATTACH;FMTTYPE=image/jpeg:https://savourcalgary.ca/wp-content/uploads/2025/10/asia-spirits-sake-co-op.jpg
END:VEVENT
BEGIN:VEVENT
DTSTART;TZID=America/Edmonton:20260506T190000
DTEND;TZID=America/Edmonton:20260506T213000
DTSTAMP:20260419T115234
CREATED:20260417T171422Z
LAST-MODIFIED:20260417T171422Z
UID:39199-1778094000-1778103000@savourcalgary.ca
SUMMARY:Lina's Ravioli Masterclass
DESCRIPTION:Learn how to create the best homemade ravioli…like nonna used to make them! \n\n\n\n\nStep into the world of pasta-making with Lina’s Ravioli Class\, where you’ll learn the timeless art of crafting ravioli from scratch. Led by their pasta master\, this inspiring class will guide you through creating the perfect ravioli\, just like nonna used to make. \nDetails and registration @ Lina’s Italian Market \n 
URL:https://savourcalgary.ca/event/linas-ravioli-masterclass/
LOCATION:Lina’s Italian Market Hall NE\, 901 64th Ave NE\, Calgary\, Alberta\, T2E 7P4\, Canada
ATTACH;FMTTYPE=image/jpeg:https://savourcalgary.ca/wp-content/uploads/2024/01/Ravioli-Linas.jpg
END:VEVENT
END:VCALENDAR