BEGIN:VCALENDAR
VERSION:2.0
PRODID:-//Savour Calgary - ECPv6.15.17.1//NONSGML v1.0//EN
CALSCALE:GREGORIAN
METHOD:PUBLISH
X-ORIGINAL-URL:https://savourcalgary.ca
X-WR-CALDESC:Events for Savour Calgary
REFRESH-INTERVAL;VALUE=DURATION:PT1H
X-Robots-Tag:noindex
X-PUBLISHED-TTL:PT1H
BEGIN:VTIMEZONE
TZID:America/Edmonton
BEGIN:DAYLIGHT
TZOFFSETFROM:-0700
TZOFFSETTO:-0600
TZNAME:MDT
DTSTART:20240310T090000
END:DAYLIGHT
BEGIN:STANDARD
TZOFFSETFROM:-0600
TZOFFSETTO:-0700
TZNAME:MST
DTSTART:20241103T080000
END:STANDARD
BEGIN:DAYLIGHT
TZOFFSETFROM:-0700
TZOFFSETTO:-0600
TZNAME:MDT
DTSTART:20250309T090000
END:DAYLIGHT
BEGIN:STANDARD
TZOFFSETFROM:-0600
TZOFFSETTO:-0700
TZNAME:MST
DTSTART:20251102T080000
END:STANDARD
BEGIN:DAYLIGHT
TZOFFSETFROM:-0700
TZOFFSETTO:-0600
TZNAME:MDT
DTSTART:20260308T090000
END:DAYLIGHT
BEGIN:STANDARD
TZOFFSETFROM:-0600
TZOFFSETTO:-0700
TZNAME:MST
DTSTART:20261101T080000
END:STANDARD
END:VTIMEZONE
BEGIN:VEVENT
DTSTART;TZID=America/Edmonton:20250927T180000
DTEND;TZID=America/Edmonton:20250927T233000
DTSTAMP:20260419T181829
CREATED:20250808T011411Z
LAST-MODIFIED:20250808T011411Z
UID:34172-1758996000-1759015800@savourcalgary.ca
SUMMARY:Harvest Haus Oktoberfest
DESCRIPTION:After roaring success in BC\, Harvest Haus is coming to Calgary and they’re rolling out all the barrels. Combining modern fare with authentic European harvest traditions\, gather your crew and come let loose at what has become known as one of Vancouver’s most fun events of the year. Join international and local brewers\, vintners\, chefs and entertainers at their best as they showcase new seasonal flavours along with the Oktoberfest classics you love. Tap that keg! \n\n\n\n\n\n\n\nDetails and registration @ Harvest Haus
URL:https://savourcalgary.ca/event/harvest-haus-oktoberfest-2025-09-27/
LOCATION:Big Four Roadhouse\, 1801 Big Four Trail SE\, Calgary\, Alberta\, T2G 2W1\, Canada
CATEGORIES:Beer,Beverages,Celebration,Harvest
ATTACH;FMTTYPE=image/jpeg:https://savourcalgary.ca/wp-content/uploads/2025/08/harvest-haus.jpg
END:VEVENT
END:VCALENDAR