BEGIN:VCALENDAR
VERSION:2.0
PRODID:-//Savour Calgary - ECPv6.15.17.1//NONSGML v1.0//EN
CALSCALE:GREGORIAN
METHOD:PUBLISH
X-ORIGINAL-URL:https://savourcalgary.ca
X-WR-CALDESC:Events for Savour Calgary
REFRESH-INTERVAL;VALUE=DURATION:PT1H
X-Robots-Tag:noindex
X-PUBLISHED-TTL:PT1H
BEGIN:VTIMEZONE
TZID:America/Edmonton
BEGIN:DAYLIGHT
TZOFFSETFROM:-0700
TZOFFSETTO:-0600
TZNAME:MDT
DTSTART:20240310T090000
END:DAYLIGHT
BEGIN:STANDARD
TZOFFSETFROM:-0600
TZOFFSETTO:-0700
TZNAME:MST
DTSTART:20241103T080000
END:STANDARD
BEGIN:DAYLIGHT
TZOFFSETFROM:-0700
TZOFFSETTO:-0600
TZNAME:MDT
DTSTART:20250309T090000
END:DAYLIGHT
BEGIN:STANDARD
TZOFFSETFROM:-0600
TZOFFSETTO:-0700
TZNAME:MST
DTSTART:20251102T080000
END:STANDARD
BEGIN:DAYLIGHT
TZOFFSETFROM:-0700
TZOFFSETTO:-0600
TZNAME:MDT
DTSTART:20260308T090000
END:DAYLIGHT
BEGIN:STANDARD
TZOFFSETFROM:-0600
TZOFFSETTO:-0700
TZNAME:MST
DTSTART:20261101T080000
END:STANDARD
END:VTIMEZONE
BEGIN:VEVENT
DTSTART;TZID=America/Edmonton:20251115T190000
DTEND;TZID=America/Edmonton:20251115T203000
DTSTAMP:20260419T070221
CREATED:20250915T154152Z
LAST-MODIFIED:20250915T154152Z
UID:34875-1763233200-1763238600@savourcalgary.ca
SUMMARY:Wine & Holiday Hors D'Oeuvres
DESCRIPTION:As the holiday season approaches\, let the Trusted Experts take the stress away! Willow Park is excited to share tips and pairing techniques to help turn your festive soirée into a showstopper. Discover how to choose the perfect wines for classic cocktail nibbles\, traditional appetizers\, and party finger foods. From smooth\, sultry whites to rich\, vibrant reds\, they’ll awaken your palate with a sparkling reception before guiding you through six delicious\, merry-maker wines paired with bites from Chef Max. \nDetails and registration @ Willow Park Wines & Spirits
URL:https://savourcalgary.ca/event/wine-holiday-hors-doeuvres/
LOCATION:Willow Park Wines & Spirits – Willow Park Village\, 10801 Bonaventure Drive SE\, Calgary\, Alberta\, T2J 6Z8\, Canada
CATEGORIES:Beverages,Christmas,Holiday,Tasting,Wine
ATTACH;FMTTYPE=image/png:https://savourcalgary.ca/wp-content/uploads/2025/09/christmas-wine.png
END:VEVENT
BEGIN:VEVENT
DTSTART;TZID=America/Edmonton:20251121T090000
DTEND;TZID=America/Edmonton:20251121T170000
DTSTAMP:20260419T070221
CREATED:20251115T160808Z
LAST-MODIFIED:20251115T160808Z
UID:35886-1763715600-1763744400@savourcalgary.ca
SUMMARY:Photos with Santa
DESCRIPTION:Every holiday season\, families make lasting memories with Santa at the Calgary Farmers’ Market. Surrounded by twinkling lights\, festive displays\, and the smell of holiday treats\, these photo sessions capture the joy and warmth of the season. \nFor two incredible weekends\, both CFM West and South locations will have dedicated photo appointments that you can book through their easy-to-use online portal. \nDetails and registration @ Calgary Farmers’ Market
URL:https://savourcalgary.ca/event/photos-with-santa/
LOCATION:Calgary Farmers’ Market West\, 25 Greenbriar Dr NW\, Calgary\, Alberta\, T3B 6M3\, Canada
CATEGORIES:Christmas,Christmas Market,Family,Holiday
ATTACH;FMTTYPE=image/jpeg:https://savourcalgary.ca/wp-content/uploads/2025/11/santa-CFM.jpg
ORGANIZER;CN="Calgary Farmers' Market":MAILTO:info@calgaryfarmersmarket.ca
END:VEVENT
BEGIN:VEVENT
DTSTART;TZID=America/Edmonton:20251122T090000
DTEND;TZID=America/Edmonton:20251122T170000
DTSTAMP:20260419T070221
CREATED:20251115T160808Z
LAST-MODIFIED:20251115T160808Z
UID:35887-1763802000-1763830800@savourcalgary.ca
SUMMARY:Photos with Santa
DESCRIPTION:Every holiday season\, families make lasting memories with Santa at the Calgary Farmers’ Market. Surrounded by twinkling lights\, festive displays\, and the smell of holiday treats\, these photo sessions capture the joy and warmth of the season. \nFor two incredible weekends\, both CFM West and South locations will have dedicated photo appointments that you can book through their easy-to-use online portal. \nDetails and registration @ Calgary Farmers’ Market
URL:https://savourcalgary.ca/event/photos-with-santa-2025-11-22/
LOCATION:Calgary Farmers’ Market West\, 25 Greenbriar Dr NW\, Calgary\, Alberta\, T3B 6M3\, Canada
CATEGORIES:Christmas,Christmas Market,Family,Holiday
ATTACH;FMTTYPE=image/jpeg:https://savourcalgary.ca/wp-content/uploads/2025/11/santa-CFM.jpg
ORGANIZER;CN="Calgary Farmers' Market":MAILTO:info@calgaryfarmersmarket.ca
END:VEVENT
BEGIN:VEVENT
DTSTART;TZID=America/Edmonton:20251122T100000
DTEND;TZID=America/Edmonton:20251122T123000
DTSTAMP:20260419T070221
CREATED:20251012T171023Z
LAST-MODIFIED:20251012T171023Z
UID:35352-1763805600-1763814600@savourcalgary.ca
SUMMARY:Fun and Festive: Holiday Appetizers
DESCRIPTION:Who wants to spend their own party in a tizzy\, unable to chat with guests because the appetizers must be monitored and maintained? Get ultimate control by learning how to prep in advance and choosing fabulous nibbles that come together in a flash. Instead of bustling about in a panic at the last minute\, you’ll be pouring yourself a nice drink and casually flipping through your playlists for the perfect mood music. \n\n\n\n\n\n\nDetails and registration @ The Cookbook Co. Cooks
URL:https://savourcalgary.ca/event/fun-and-festive-holiday-appetizers/
LOCATION:The Cookbook Co. Cooks\, 722 11 Avenue SW\, Calgary\, Alberta\, T2R0E4\, Canada
CATEGORIES:Appetizers,Christmas,Classes,Cooking,Cooking Class,Holiday
ATTACH;FMTTYPE=image/png:https://savourcalgary.ca/wp-content/uploads/2025/04/Appetizers.png
END:VEVENT
BEGIN:VEVENT
DTSTART;TZID=America/Edmonton:20251123T090000
DTEND;TZID=America/Edmonton:20251123T170000
DTSTAMP:20260419T070221
CREATED:20251115T160809Z
LAST-MODIFIED:20251115T160809Z
UID:35888-1763888400-1763917200@savourcalgary.ca
SUMMARY:Photos with Santa
DESCRIPTION:Every holiday season\, families make lasting memories with Santa at the Calgary Farmers’ Market. Surrounded by twinkling lights\, festive displays\, and the smell of holiday treats\, these photo sessions capture the joy and warmth of the season. \nFor two incredible weekends\, both CFM West and South locations will have dedicated photo appointments that you can book through their easy-to-use online portal. \nDetails and registration @ Calgary Farmers’ Market
URL:https://savourcalgary.ca/event/photos-with-santa-2025-11-23/
LOCATION:Calgary Farmers’ Market West\, 25 Greenbriar Dr NW\, Calgary\, Alberta\, T3B 6M3\, Canada
CATEGORIES:Christmas,Christmas Market,Family,Holiday
ATTACH;FMTTYPE=image/jpeg:https://savourcalgary.ca/wp-content/uploads/2025/11/santa-CFM.jpg
ORGANIZER;CN="Calgary Farmers' Market":MAILTO:info@calgaryfarmersmarket.ca
END:VEVENT
BEGIN:VEVENT
DTSTART;TZID=America/Edmonton:20251124T183000
DTEND;TZID=America/Edmonton:20251124T210000
DTSTAMP:20260419T070221
CREATED:20251031T204024Z
LAST-MODIFIED:20251031T204024Z
UID:35647-1764009000-1764018000@savourcalgary.ca
SUMMARY:Joyeux Noël: A French Holiday Menu
DESCRIPTION:Judy is mad for the rustic foods of Europe—the dishes family cooks have been making for eons\, based on seasonal\, local ingredients. In this class\, she teaches French cooking\, but with a festive flair! With Judy’s able guidance\, you’ll learn some fabulous recipes that you can make and enjoy year-round (whenever you need a little joie de vivre)\, but can be easily elevated to suit the holiday season\, resulting in a delicious and Joyeux Noël! \n\n\n\n\n\n\nDetails and registration @ The Cookbook Co. Cooks
URL:https://savourcalgary.ca/event/joyeux-noel-a-french-holiday-menu/
LOCATION:The Cookbook Co. Cooks\, 722 11 Avenue SW\, Calgary\, Alberta\, T2R0E4\, Canada
CATEGORIES:Christmas,Classes,Cooking,Cooking Class,Food,Holiday
ATTACH;FMTTYPE=image/png:https://savourcalgary.ca/wp-content/uploads/2023/11/christmas-ornament.png
END:VEVENT
BEGIN:VEVENT
DTSTART;TZID=America/Edmonton:20251128T090000
DTEND;TZID=America/Edmonton:20251128T170000
DTSTAMP:20260419T070221
CREATED:20251115T160809Z
LAST-MODIFIED:20251115T160809Z
UID:35889-1764320400-1764349200@savourcalgary.ca
SUMMARY:Photos with Santa
DESCRIPTION:Every holiday season\, families make lasting memories with Santa at the Calgary Farmers’ Market. Surrounded by twinkling lights\, festive displays\, and the smell of holiday treats\, these photo sessions capture the joy and warmth of the season. \nFor two incredible weekends\, both CFM West and South locations will have dedicated photo appointments that you can book through their easy-to-use online portal. \nDetails and registration @ Calgary Farmers’ Market
URL:https://savourcalgary.ca/event/photos-with-santa-2025-11-28/
LOCATION:Calgary Farmers’ Market West\, 25 Greenbriar Dr NW\, Calgary\, Alberta\, T3B 6M3\, Canada
CATEGORIES:Christmas,Christmas Market,Family,Holiday
ATTACH;FMTTYPE=image/jpeg:https://savourcalgary.ca/wp-content/uploads/2025/11/santa-CFM.jpg
ORGANIZER;CN="Calgary Farmers' Market":MAILTO:info@calgaryfarmersmarket.ca
END:VEVENT
BEGIN:VEVENT
DTSTART;TZID=America/Edmonton:20251129T090000
DTEND;TZID=America/Edmonton:20251129T170000
DTSTAMP:20260419T070221
CREATED:20251115T160810Z
LAST-MODIFIED:20251115T160810Z
UID:35890-1764406800-1764435600@savourcalgary.ca
SUMMARY:Photos with Santa
DESCRIPTION:Every holiday season\, families make lasting memories with Santa at the Calgary Farmers’ Market. Surrounded by twinkling lights\, festive displays\, and the smell of holiday treats\, these photo sessions capture the joy and warmth of the season. \nFor two incredible weekends\, both CFM West and South locations will have dedicated photo appointments that you can book through their easy-to-use online portal. \nDetails and registration @ Calgary Farmers’ Market
URL:https://savourcalgary.ca/event/photos-with-santa-2025-11-29/
LOCATION:Calgary Farmers’ Market West\, 25 Greenbriar Dr NW\, Calgary\, Alberta\, T3B 6M3\, Canada
CATEGORIES:Christmas,Christmas Market,Family,Holiday
ATTACH;FMTTYPE=image/jpeg:https://savourcalgary.ca/wp-content/uploads/2025/11/santa-CFM.jpg
ORGANIZER;CN="Calgary Farmers' Market":MAILTO:info@calgaryfarmersmarket.ca
END:VEVENT
BEGIN:VEVENT
DTSTART;TZID=America/Edmonton:20251130T090000
DTEND;TZID=America/Edmonton:20251130T170000
DTSTAMP:20260419T070221
CREATED:20251115T160810Z
LAST-MODIFIED:20251115T160810Z
UID:35891-1764493200-1764522000@savourcalgary.ca
SUMMARY:Photos with Santa
DESCRIPTION:Every holiday season\, families make lasting memories with Santa at the Calgary Farmers’ Market. Surrounded by twinkling lights\, festive displays\, and the smell of holiday treats\, these photo sessions capture the joy and warmth of the season. \nFor two incredible weekends\, both CFM West and South locations will have dedicated photo appointments that you can book through their easy-to-use online portal. \nDetails and registration @ Calgary Farmers’ Market
URL:https://savourcalgary.ca/event/photos-with-santa-2025-11-30/
LOCATION:Calgary Farmers’ Market West\, 25 Greenbriar Dr NW\, Calgary\, Alberta\, T3B 6M3\, Canada
CATEGORIES:Christmas,Christmas Market,Family,Holiday
ATTACH;FMTTYPE=image/jpeg:https://savourcalgary.ca/wp-content/uploads/2025/11/santa-CFM.jpg
ORGANIZER;CN="Calgary Farmers' Market":MAILTO:info@calgaryfarmersmarket.ca
END:VEVENT
BEGIN:VEVENT
DTSTART;TZID=America/Edmonton:20251130T150000
DTEND;TZID=America/Edmonton:20251130T170000
DTSTAMP:20260419T070221
CREATED:20251108T150808Z
LAST-MODIFIED:20251108T150808Z
UID:35792-1764514800-1764522000@savourcalgary.ca
SUMMARY:Taste & Create: Holiday Wreaths
DESCRIPTION:Vine Styles asked for your feedback—and you delivered. Their next Taste & Create is officially set\, and they’re excited to share that they’ll be building Holiday Wreaths together. \nYou’ll taste through a lineup of wines perfect for holiday hosting\, from sparkling crowd-pleasers to cozy post-dinner digestifs\, all while creating your very own Holiday Wreath\, in a cozy\, festive atmosphere. \nDetails and registration @ Vine Styles
URL:https://savourcalgary.ca/event/taste-create-holiday-wreaths/
LOCATION:Vine Styles\, 1127b Kensington Road Northwest
CATEGORIES:Beverages,Holiday,Tasting,Wine
ATTACH;FMTTYPE=image/jpeg:https://savourcalgary.ca/wp-content/uploads/2023/08/vine-styles.jpg
END:VEVENT
END:VCALENDAR