BEGIN:VCALENDAR
VERSION:2.0
PRODID:-//Savour Calgary - ECPv6.15.17.1//NONSGML v1.0//EN
CALSCALE:GREGORIAN
METHOD:PUBLISH
X-ORIGINAL-URL:https://savourcalgary.ca
X-WR-CALDESC:Events for Savour Calgary
REFRESH-INTERVAL;VALUE=DURATION:PT1H
X-Robots-Tag:noindex
X-PUBLISHED-TTL:PT1H
BEGIN:VTIMEZONE
TZID:America/Edmonton
BEGIN:DAYLIGHT
TZOFFSETFROM:-0700
TZOFFSETTO:-0600
TZNAME:MDT
DTSTART:20240310T090000
END:DAYLIGHT
BEGIN:STANDARD
TZOFFSETFROM:-0600
TZOFFSETTO:-0700
TZNAME:MST
DTSTART:20241103T080000
END:STANDARD
BEGIN:DAYLIGHT
TZOFFSETFROM:-0700
TZOFFSETTO:-0600
TZNAME:MDT
DTSTART:20250309T090000
END:DAYLIGHT
BEGIN:STANDARD
TZOFFSETFROM:-0600
TZOFFSETTO:-0700
TZNAME:MST
DTSTART:20251102T080000
END:STANDARD
BEGIN:DAYLIGHT
TZOFFSETFROM:-0700
TZOFFSETTO:-0600
TZNAME:MDT
DTSTART:20260308T090000
END:DAYLIGHT
BEGIN:STANDARD
TZOFFSETFROM:-0600
TZOFFSETTO:-0700
TZNAME:MST
DTSTART:20261101T080000
END:STANDARD
END:VTIMEZONE
BEGIN:VEVENT
DTSTART;TZID=America/Edmonton:20251213T090000
DTEND;TZID=America/Edmonton:20251213T140000
DTSTAMP:20260419T070217
CREATED:20251121T024357Z
LAST-MODIFIED:20251121T024357Z
UID:36448-1765616400-1765634400@savourcalgary.ca
SUMMARY:Once Upon A Christmas Breakfast Buffet
DESCRIPTION:Ho\, ho\, ho! Are you ready for a festive feast? Calgarian’s favourite holiday tradition\, Once Upon a Christmas Breakfast Buffet\, is back and bursting with holiday cheer and flavour! \nGather with loved ones and cozy up in the historic charm of the Wainwright Hotel or Gunn’s Dairy Barn. Enjoy a delicious buffet selection of fresh pastries from the Alberta Bakery\, fluffy buttermilk pancakes\, Belgian Waffles\, farm-fresh scrambled eggs and all your breakfast favourites. Afterward\, step into the Historical Village’s winter wonderland and discover the magic of Once Upon a Christmas throughout the Park. \nDetails and registration @ Heritage Park
URL:https://savourcalgary.ca/event/once-upon-a-christmas-breakfast-buffet-3-2025-12-13/
LOCATION:Heritage Park\, 1900 Heritage Dr SW\, Calgary\, Alberta\, T2V 2X3\, Canada
CATEGORIES:Breakfast,Buffet,Christmas,Family,Friends,Holiday
ATTACH;FMTTYPE=image/jpeg:https://savourcalgary.ca/wp-content/uploads/2024/11/Once-Upon-a-Christmas.jpg
END:VEVENT
BEGIN:VEVENT
DTSTART;TZID=America/Edmonton:20251213T130000
DTEND;TZID=America/Edmonton:20251213T150000
DTSTAMP:20260419T070217
CREATED:20251115T160814Z
LAST-MODIFIED:20251115T160814Z
UID:35894-1765630800-1765638000@savourcalgary.ca
SUMMARY:Tea With Mrs. Claus
DESCRIPTION:A magical afternoon of stories\, treats & holiday cheer! \nGather around for tea and sweets as she shares heartwarming tales from the North Pole and spreads a little Christmas magic. It’s the perfect way to slow down\, sip something warm\, and celebrate the season with family and friends. \nDetails and registration @ Calgary Farmers’ Market
URL:https://savourcalgary.ca/event/tea-with-mrs-claus-11/
LOCATION:Calgary Farmer’s Market\, 510 77 Ave SE\, Calgary\, Alberta\, T2H 1C3\, Canada
CATEGORIES:Beverages,Christmas,Christmas Market,Holiday,Tea
ATTACH;FMTTYPE=image/jpeg:https://savourcalgary.ca/wp-content/uploads/2025/11/mrs-claus-tea-CFM.jpg
ORGANIZER;CN="Calgary Farmers' Market":MAILTO:info@calgaryfarmersmarket.ca
END:VEVENT
END:VCALENDAR