BEGIN:VCALENDAR
VERSION:2.0
PRODID:-//Savour Calgary - ECPv6.15.17.1//NONSGML v1.0//EN
CALSCALE:GREGORIAN
METHOD:PUBLISH
X-WR-CALNAME:Savour Calgary
X-ORIGINAL-URL:https://savourcalgary.ca
X-WR-CALDESC:Events for Savour Calgary
REFRESH-INTERVAL;VALUE=DURATION:PT1H
X-Robots-Tag:noindex
X-PUBLISHED-TTL:PT1H
BEGIN:VTIMEZONE
TZID:America/Edmonton
BEGIN:DAYLIGHT
TZOFFSETFROM:-0700
TZOFFSETTO:-0600
TZNAME:MDT
DTSTART:20240310T090000
END:DAYLIGHT
BEGIN:STANDARD
TZOFFSETFROM:-0600
TZOFFSETTO:-0700
TZNAME:MST
DTSTART:20241103T080000
END:STANDARD
BEGIN:DAYLIGHT
TZOFFSETFROM:-0700
TZOFFSETTO:-0600
TZNAME:MDT
DTSTART:20250309T090000
END:DAYLIGHT
BEGIN:STANDARD
TZOFFSETFROM:-0600
TZOFFSETTO:-0700
TZNAME:MST
DTSTART:20251102T080000
END:STANDARD
BEGIN:DAYLIGHT
TZOFFSETFROM:-0700
TZOFFSETTO:-0600
TZNAME:MDT
DTSTART:20260308T090000
END:DAYLIGHT
BEGIN:STANDARD
TZOFFSETFROM:-0600
TZOFFSETTO:-0700
TZNAME:MST
DTSTART:20261101T080000
END:STANDARD
BEGIN:DAYLIGHT
TZOFFSETFROM:-0700
TZOFFSETTO:-0600
TZNAME:MDT
DTSTART:20270314T090000
END:DAYLIGHT
BEGIN:STANDARD
TZOFFSETFROM:-0600
TZOFFSETTO:-0700
TZNAME:MST
DTSTART:20271107T080000
END:STANDARD
END:VTIMEZONE
BEGIN:VEVENT
DTSTART;TZID=America/Edmonton:20251214T090000
DTEND;TZID=America/Edmonton:20251214T140000
DTSTAMP:20260419T190307
CREATED:20251121T024357Z
LAST-MODIFIED:20251121T024357Z
UID:36449-1765702800-1765720800@savourcalgary.ca
SUMMARY:Once Upon A Christmas Breakfast Buffet
DESCRIPTION:Ho\, ho\, ho! Are you ready for a festive feast? Calgarian’s favourite holiday tradition\, Once Upon a Christmas Breakfast Buffet\, is back and bursting with holiday cheer and flavour! \nGather with loved ones and cozy up in the historic charm of the Wainwright Hotel or Gunn’s Dairy Barn. Enjoy a delicious buffet selection of fresh pastries from the Alberta Bakery\, fluffy buttermilk pancakes\, Belgian Waffles\, farm-fresh scrambled eggs and all your breakfast favourites. Afterward\, step into the Historical Village’s winter wonderland and discover the magic of Once Upon a Christmas throughout the Park. \nDetails and registration @ Heritage Park
URL:https://savourcalgary.ca/event/once-upon-a-christmas-breakfast-buffet-3-2025-12-14/
LOCATION:Heritage Park\, 1900 Heritage Dr SW\, Calgary\, Alberta\, T2V 2X3\, Canada
CATEGORIES:Breakfast,Buffet,Christmas,Family,Friends,Holiday
ATTACH;FMTTYPE=image/jpeg:https://savourcalgary.ca/wp-content/uploads/2024/11/Once-Upon-a-Christmas.jpg
END:VEVENT
BEGIN:VEVENT
DTSTART;TZID=America/Edmonton:20251214T130000
DTEND;TZID=America/Edmonton:20251214T150000
DTSTAMP:20260419T190307
CREATED:20251115T160814Z
LAST-MODIFIED:20251115T160814Z
UID:35900-1765717200-1765724400@savourcalgary.ca
SUMMARY:Tea With Mrs. Claus
DESCRIPTION:A magical afternoon of stories\, treats & holiday cheer! \nGather around for tea and sweets as she shares heartwarming tales from the North Pole and spreads a little Christmas magic. It’s the perfect way to slow down\, sip something warm\, and celebrate the season with family and friends. \nDetails and registration @ Calgary Farmers’ Market
URL:https://savourcalgary.ca/event/tea-with-mrs-claus-11-2025-12-14/
LOCATION:Calgary Farmer’s Market\, 510 77 Ave SE\, Calgary\, Alberta\, T2H 1C3\, Canada
CATEGORIES:Beverages,Christmas,Christmas Market,Holiday,Tea
ATTACH;FMTTYPE=image/jpeg:https://savourcalgary.ca/wp-content/uploads/2025/11/mrs-claus-tea-CFM.jpg
ORGANIZER;CN="Calgary Farmers' Market":MAILTO:info@calgaryfarmersmarket.ca
END:VEVENT
BEGIN:VEVENT
DTSTART;TZID=America/Edmonton:20251218T170000
DTEND;TZID=America/Edmonton:20251218T200000
DTSTAMP:20260419T190307
CREATED:20251121T024431Z
LAST-MODIFIED:20251121T024431Z
UID:36444-1766077200-1766088000@savourcalgary.ca
SUMMARY:Holiday Cheer at Vine Styles
DESCRIPTION:Step into an evening that feels like a little slice of a German Christmas market right here in Kensington. Warm up with a cozy cup of Glühwein (mulled wine)\, enjoy delicious homemade cookies\, and take in the twinkle-light charm of the season. This is truly a do-not-miss event — it’s going to be unbelievably cozy and so\, so charming. \nDetails and registration @ Vine Styles
URL:https://savourcalgary.ca/event/holiday-cheer-at-vine-styles/
LOCATION:Vine Styles\, 1127b Kensington Road Northwest
CATEGORIES:Beverages,Christmas,Christmas Market,Holiday,Tasting,Wine
ATTACH;FMTTYPE=image/jpeg:https://savourcalgary.ca/wp-content/uploads/2023/08/vine-styles.jpg
END:VEVENT
BEGIN:VEVENT
DTSTART;TZID=America/Edmonton:20251220T090000
DTEND;TZID=America/Edmonton:20251220T140000
DTSTAMP:20260419T190307
CREATED:20251121T024357Z
LAST-MODIFIED:20251121T024357Z
UID:36450-1766221200-1766239200@savourcalgary.ca
SUMMARY:Once Upon A Christmas Breakfast Buffet
DESCRIPTION:Ho\, ho\, ho! Are you ready for a festive feast? Calgarian’s favourite holiday tradition\, Once Upon a Christmas Breakfast Buffet\, is back and bursting with holiday cheer and flavour! \nGather with loved ones and cozy up in the historic charm of the Wainwright Hotel or Gunn’s Dairy Barn. Enjoy a delicious buffet selection of fresh pastries from the Alberta Bakery\, fluffy buttermilk pancakes\, Belgian Waffles\, farm-fresh scrambled eggs and all your breakfast favourites. Afterward\, step into the Historical Village’s winter wonderland and discover the magic of Once Upon a Christmas throughout the Park. \nDetails and registration @ Heritage Park
URL:https://savourcalgary.ca/event/once-upon-a-christmas-breakfast-buffet-3-2025-12-20/
LOCATION:Heritage Park\, 1900 Heritage Dr SW\, Calgary\, Alberta\, T2V 2X3\, Canada
CATEGORIES:Breakfast,Buffet,Christmas,Family,Friends,Holiday
ATTACH;FMTTYPE=image/jpeg:https://savourcalgary.ca/wp-content/uploads/2024/11/Once-Upon-a-Christmas.jpg
END:VEVENT
BEGIN:VEVENT
DTSTART;TZID=America/Edmonton:20251221T090000
DTEND;TZID=America/Edmonton:20251221T140000
DTSTAMP:20260419T190307
CREATED:20251121T024357Z
LAST-MODIFIED:20251121T024357Z
UID:36451-1766307600-1766325600@savourcalgary.ca
SUMMARY:Once Upon A Christmas Breakfast Buffet
DESCRIPTION:Ho\, ho\, ho! Are you ready for a festive feast? Calgarian’s favourite holiday tradition\, Once Upon a Christmas Breakfast Buffet\, is back and bursting with holiday cheer and flavour! \nGather with loved ones and cozy up in the historic charm of the Wainwright Hotel or Gunn’s Dairy Barn. Enjoy a delicious buffet selection of fresh pastries from the Alberta Bakery\, fluffy buttermilk pancakes\, Belgian Waffles\, farm-fresh scrambled eggs and all your breakfast favourites. Afterward\, step into the Historical Village’s winter wonderland and discover the magic of Once Upon a Christmas throughout the Park. \nDetails and registration @ Heritage Park
URL:https://savourcalgary.ca/event/once-upon-a-christmas-breakfast-buffet-3-2025-12-21/
LOCATION:Heritage Park\, 1900 Heritage Dr SW\, Calgary\, Alberta\, T2V 2X3\, Canada
CATEGORIES:Breakfast,Buffet,Christmas,Family,Friends,Holiday
ATTACH;FMTTYPE=image/jpeg:https://savourcalgary.ca/wp-content/uploads/2024/11/Once-Upon-a-Christmas.jpg
END:VEVENT
BEGIN:VEVENT
DTSTART;TZID=America/Edmonton:20251221T090000
DTEND;TZID=America/Edmonton:20251221T153000
DTSTAMP:20260419T190307
CREATED:20251108T151335Z
LAST-MODIFIED:20251108T151335Z
UID:35794-1766307600-1766331000@savourcalgary.ca
SUMMARY:Holiday Brunch
DESCRIPTION:Celebrate the festive season in style with Holiday Brunch! Join The Calgary Zoo for a cozy winter day exploring the zoo\, preceded by a delicious Holiday Brunch. The best part? You’ll spend the day with family and friends – instead of being stuck in the kitchen! \nDetails and registration @ The Calgary Zoo
URL:https://savourcalgary.ca/event/holiday-brunch-2/
LOCATION:The Calgary Zoo\, 210 St. George's Drive NE\, Calgary\, Alberta\, T2E 7V6\, Canada
CATEGORIES:Brunch,Christmas,Family,Food,Holiday,Kids
ATTACH;FMTTYPE=image/jpeg:https://savourcalgary.ca/wp-content/uploads/2025/04/zoo-brunch.jpg
ORGANIZER;CN="The Calgary Zoo":MAILTO:guestrelations@calgaryzoo.com
END:VEVENT
BEGIN:VEVENT
DTSTART;TZID=America/Edmonton:20251222T090000
DTEND;TZID=America/Edmonton:20251222T153000
DTSTAMP:20260419T190307
CREATED:20251108T151335Z
LAST-MODIFIED:20251108T151335Z
UID:35798-1766394000-1766417400@savourcalgary.ca
SUMMARY:Holiday Brunch
DESCRIPTION:Celebrate the festive season in style with Holiday Brunch! Join The Calgary Zoo for a cozy winter day exploring the zoo\, preceded by a delicious Holiday Brunch. The best part? You’ll spend the day with family and friends – instead of being stuck in the kitchen! \nDetails and registration @ The Calgary Zoo
URL:https://savourcalgary.ca/event/holiday-brunch-2-2025-12-22/
LOCATION:The Calgary Zoo\, 210 St. George's Drive NE\, Calgary\, Alberta\, T2E 7V6\, Canada
CATEGORIES:Brunch,Christmas,Family,Food,Holiday,Kids
ATTACH;FMTTYPE=image/jpeg:https://savourcalgary.ca/wp-content/uploads/2025/04/zoo-brunch.jpg
ORGANIZER;CN="The Calgary Zoo":MAILTO:guestrelations@calgaryzoo.com
END:VEVENT
BEGIN:VEVENT
DTSTART;TZID=America/Edmonton:20251222T190000
DTEND;TZID=America/Edmonton:20251222T210000
DTSTAMP:20260419T190307
CREATED:20251221T233414Z
LAST-MODIFIED:20251221T233414Z
UID:37190-1766430000-1766437200@savourcalgary.ca
SUMMARY:Paint Nite: Merry Mouse Visitor
DESCRIPTION:Join Paint Nite for a night of Christmas season creativity and fun at Nixx Pub with their talented instructor\, Sheri B! Grab a drink and unleash your inner artist as Sheri guides you step-by-step in creating a beautiful painting. No experience or artistic skills necessary – just come ready to have a good time! Bring your friends\, family\, or come solo and make new friends while you paint. Don’t miss out on this Paint Nite event at Nixx Pub with Sheri B! \nDetails and registration @ Paint Nite \n\n\n 
URL:https://savourcalgary.ca/event/paint-nite-merry-mouse-visitor/
LOCATION:Nixx Pub\, 2418 Edmonton Trail N.E.\, Calgary\, Alberta\, Canada
CATEGORIES:Art,Beverages,Christmas,Classes,Food,Holiday
ATTACH;FMTTYPE=image/png:https://savourcalgary.ca/wp-content/uploads/2024/03/Paint-Nite.png
END:VEVENT
BEGIN:VEVENT
DTSTART;TZID=America/Edmonton:20251223T090000
DTEND;TZID=America/Edmonton:20251223T153000
DTSTAMP:20260419T190307
CREATED:20251108T151335Z
LAST-MODIFIED:20251108T151335Z
UID:35799-1766480400-1766503800@savourcalgary.ca
SUMMARY:Holiday Brunch
DESCRIPTION:Celebrate the festive season in style with Holiday Brunch! Join The Calgary Zoo for a cozy winter day exploring the zoo\, preceded by a delicious Holiday Brunch. The best part? You’ll spend the day with family and friends – instead of being stuck in the kitchen! \nDetails and registration @ The Calgary Zoo
URL:https://savourcalgary.ca/event/holiday-brunch-2-2025-12-23/
LOCATION:The Calgary Zoo\, 210 St. George's Drive NE\, Calgary\, Alberta\, T2E 7V6\, Canada
CATEGORIES:Brunch,Christmas,Family,Food,Holiday,Kids
ATTACH;FMTTYPE=image/jpeg:https://savourcalgary.ca/wp-content/uploads/2025/04/zoo-brunch.jpg
ORGANIZER;CN="The Calgary Zoo":MAILTO:guestrelations@calgaryzoo.com
END:VEVENT
BEGIN:VEVENT
DTSTART;TZID=America/Edmonton:20251224T090000
DTEND;TZID=America/Edmonton:20251224T153000
DTSTAMP:20260419T190307
CREATED:20251108T151335Z
LAST-MODIFIED:20251108T151335Z
UID:35800-1766566800-1766590200@savourcalgary.ca
SUMMARY:Holiday Brunch
DESCRIPTION:Celebrate the festive season in style with Holiday Brunch! Join The Calgary Zoo for a cozy winter day exploring the zoo\, preceded by a delicious Holiday Brunch. The best part? You’ll spend the day with family and friends – instead of being stuck in the kitchen! \nDetails and registration @ The Calgary Zoo
URL:https://savourcalgary.ca/event/holiday-brunch-2-2025-12-24/
LOCATION:The Calgary Zoo\, 210 St. George's Drive NE\, Calgary\, Alberta\, T2E 7V6\, Canada
CATEGORIES:Brunch,Christmas,Family,Food,Holiday,Kids
ATTACH;FMTTYPE=image/jpeg:https://savourcalgary.ca/wp-content/uploads/2025/04/zoo-brunch.jpg
ORGANIZER;CN="The Calgary Zoo":MAILTO:guestrelations@calgaryzoo.com
END:VEVENT
BEGIN:VEVENT
DTSTART;TZID=America/Edmonton:20251225T090000
DTEND;TZID=America/Edmonton:20251225T153000
DTSTAMP:20260419T190307
CREATED:20251108T151335Z
LAST-MODIFIED:20251108T151335Z
UID:35801-1766653200-1766676600@savourcalgary.ca
SUMMARY:Holiday Brunch
DESCRIPTION:Celebrate the festive season in style with Holiday Brunch! Join The Calgary Zoo for a cozy winter day exploring the zoo\, preceded by a delicious Holiday Brunch. The best part? You’ll spend the day with family and friends – instead of being stuck in the kitchen! \nDetails and registration @ The Calgary Zoo
URL:https://savourcalgary.ca/event/holiday-brunch-2-2025-12-25/
LOCATION:The Calgary Zoo\, 210 St. George's Drive NE\, Calgary\, Alberta\, T2E 7V6\, Canada
CATEGORIES:Brunch,Christmas,Family,Food,Holiday,Kids
ATTACH;FMTTYPE=image/jpeg:https://savourcalgary.ca/wp-content/uploads/2025/04/zoo-brunch.jpg
ORGANIZER;CN="The Calgary Zoo":MAILTO:guestrelations@calgaryzoo.com
END:VEVENT
BEGIN:VEVENT
DTSTART;TZID=America/Edmonton:20251226T090000
DTEND;TZID=America/Edmonton:20251226T153000
DTSTAMP:20260419T190307
CREATED:20251108T151335Z
LAST-MODIFIED:20251108T151335Z
UID:35802-1766739600-1766763000@savourcalgary.ca
SUMMARY:Holiday Brunch
DESCRIPTION:Celebrate the festive season in style with Holiday Brunch! Join The Calgary Zoo for a cozy winter day exploring the zoo\, preceded by a delicious Holiday Brunch. The best part? You’ll spend the day with family and friends – instead of being stuck in the kitchen! \nDetails and registration @ The Calgary Zoo
URL:https://savourcalgary.ca/event/holiday-brunch-2-2025-12-26/
LOCATION:The Calgary Zoo\, 210 St. George's Drive NE\, Calgary\, Alberta\, T2E 7V6\, Canada
CATEGORIES:Brunch,Christmas,Family,Food,Holiday,Kids
ATTACH;FMTTYPE=image/jpeg:https://savourcalgary.ca/wp-content/uploads/2025/04/zoo-brunch.jpg
ORGANIZER;CN="The Calgary Zoo":MAILTO:guestrelations@calgaryzoo.com
END:VEVENT
BEGIN:VEVENT
DTSTART;TZID=America/Edmonton:20251227T090000
DTEND;TZID=America/Edmonton:20251227T153000
DTSTAMP:20260419T190307
CREATED:20251108T151335Z
LAST-MODIFIED:20251108T151335Z
UID:35803-1766826000-1766849400@savourcalgary.ca
SUMMARY:Holiday Brunch
DESCRIPTION:Celebrate the festive season in style with Holiday Brunch! Join The Calgary Zoo for a cozy winter day exploring the zoo\, preceded by a delicious Holiday Brunch. The best part? You’ll spend the day with family and friends – instead of being stuck in the kitchen! \nDetails and registration @ The Calgary Zoo
URL:https://savourcalgary.ca/event/holiday-brunch-2-2025-12-27/
LOCATION:The Calgary Zoo\, 210 St. George's Drive NE\, Calgary\, Alberta\, T2E 7V6\, Canada
CATEGORIES:Brunch,Christmas,Family,Food,Holiday,Kids
ATTACH;FMTTYPE=image/jpeg:https://savourcalgary.ca/wp-content/uploads/2025/04/zoo-brunch.jpg
ORGANIZER;CN="The Calgary Zoo":MAILTO:guestrelations@calgaryzoo.com
END:VEVENT
BEGIN:VEVENT
DTSTART;TZID=America/Edmonton:20251228T090000
DTEND;TZID=America/Edmonton:20251228T153000
DTSTAMP:20260419T190307
CREATED:20251108T151335Z
LAST-MODIFIED:20251108T151335Z
UID:35804-1766912400-1766935800@savourcalgary.ca
SUMMARY:Holiday Brunch
DESCRIPTION:Celebrate the festive season in style with Holiday Brunch! Join The Calgary Zoo for a cozy winter day exploring the zoo\, preceded by a delicious Holiday Brunch. The best part? You’ll spend the day with family and friends – instead of being stuck in the kitchen! \nDetails and registration @ The Calgary Zoo
URL:https://savourcalgary.ca/event/holiday-brunch-2-2025-12-28/
LOCATION:The Calgary Zoo\, 210 St. George's Drive NE\, Calgary\, Alberta\, T2E 7V6\, Canada
CATEGORIES:Brunch,Christmas,Family,Food,Holiday,Kids
ATTACH;FMTTYPE=image/jpeg:https://savourcalgary.ca/wp-content/uploads/2025/04/zoo-brunch.jpg
ORGANIZER;CN="The Calgary Zoo":MAILTO:guestrelations@calgaryzoo.com
END:VEVENT
BEGIN:VEVENT
DTSTART;TZID=America/Edmonton:20260317T190000
DTEND;TZID=America/Edmonton:20260317T210000
DTSTAMP:20260419T190307
CREATED:20260123T204723Z
LAST-MODIFIED:20260123T204723Z
UID:37722-1773774000-1773781200@savourcalgary.ca
SUMMARY:A St. Patrick’s Day Blind Tasting: Irish vs Scotch Whisky
DESCRIPTION:With the ever expanding offerings of Irish whiskey and Scotch whisky\, do you have a preference? Let’s see if Calgary Co-op knows which country the whiskey/whisky comes from\, as you test your palate knowledge in this Paddy’s Day blind tasting. \nDetails and registration @ Calgary Co-op Wine Spirits & Beer
URL:https://savourcalgary.ca/event/a-st-patricks-day-blind-tasting-irish-vs-scotch-whisky/
LOCATION:Calgary Co-op Oakridge\, 2580 Southland Dr SW\, Calgary\, Alberta\, T2V 4J8\, Canada
CATEGORIES:Beverages,Holiday,Tasting,Whiskey
ATTACH;FMTTYPE=image/jpeg:https://savourcalgary.ca/wp-content/uploads/2026/01/co-op-paddy-whisky.jpg
END:VEVENT
BEGIN:VEVENT
DTSTART;TZID=America/Edmonton:20260320T190000
DTEND;TZID=America/Edmonton:20260320T210000
DTSTAMP:20260419T190307
CREATED:20260223T133336Z
LAST-MODIFIED:20260223T133336Z
UID:38293-1774033200-1774040400@savourcalgary.ca
SUMMARY:Luck of the Irish - A Belated St. Patrick's Day Tasting
DESCRIPTION:The approach of St. Paddy’s Day means everyone’s feeling a little more Irish\, and it is high time for a focused Irish Whiskey tasting. Come down to Kensington Wine Market and take a wander across the Emerald Isle\, tasting you way through some of the finest whiskey the island has to offer. Find out why Irish Whiskey is booming and taste some whiskey from distilleries both new and old! \nDetails and registration @ Kensington Wine Market
URL:https://savourcalgary.ca/event/luck-of-the-irish-a-belated-st-patricks-day-tasting/
LOCATION:Kensington Wine Market\, 1257 Kensington Rd. NW\, Calgary\, Alberta\, T2N3P8\, Canada
CATEGORIES:Beverages,Holiday,Tasting,Whiskey
ATTACH;FMTTYPE=image/jpeg:https://savourcalgary.ca/wp-content/uploads/2026/02/irish-KWM.jpg
END:VEVENT
END:VCALENDAR