BEGIN:VCALENDAR
VERSION:2.0
PRODID:-//Savour Calgary - ECPv6.15.17.1//NONSGML v1.0//EN
CALSCALE:GREGORIAN
METHOD:PUBLISH
X-WR-CALNAME:Savour Calgary
X-ORIGINAL-URL:https://savourcalgary.ca
X-WR-CALDESC:Events for Savour Calgary
REFRESH-INTERVAL;VALUE=DURATION:PT1H
X-Robots-Tag:noindex
X-PUBLISHED-TTL:PT1H
BEGIN:VTIMEZONE
TZID:America/Edmonton
BEGIN:DAYLIGHT
TZOFFSETFROM:-0700
TZOFFSETTO:-0600
TZNAME:MDT
DTSTART:20240310T090000
END:DAYLIGHT
BEGIN:STANDARD
TZOFFSETFROM:-0600
TZOFFSETTO:-0700
TZNAME:MST
DTSTART:20241103T080000
END:STANDARD
BEGIN:DAYLIGHT
TZOFFSETFROM:-0700
TZOFFSETTO:-0600
TZNAME:MDT
DTSTART:20250309T090000
END:DAYLIGHT
BEGIN:STANDARD
TZOFFSETFROM:-0600
TZOFFSETTO:-0700
TZNAME:MST
DTSTART:20251102T080000
END:STANDARD
BEGIN:DAYLIGHT
TZOFFSETFROM:-0700
TZOFFSETTO:-0600
TZNAME:MDT
DTSTART:20260308T090000
END:DAYLIGHT
BEGIN:STANDARD
TZOFFSETFROM:-0600
TZOFFSETTO:-0700
TZNAME:MST
DTSTART:20261101T080000
END:STANDARD
BEGIN:DAYLIGHT
TZOFFSETFROM:-0700
TZOFFSETTO:-0600
TZNAME:MDT
DTSTART:20270314T090000
END:DAYLIGHT
BEGIN:STANDARD
TZOFFSETFROM:-0600
TZOFFSETTO:-0700
TZNAME:MST
DTSTART:20271107T080000
END:STANDARD
END:VTIMEZONE
BEGIN:VEVENT
DTSTART;TZID=America/Edmonton:20251227T090000
DTEND;TZID=America/Edmonton:20251227T153000
DTSTAMP:20260419T171503
CREATED:20251108T151335Z
LAST-MODIFIED:20251108T151335Z
UID:35803-1766826000-1766849400@savourcalgary.ca
SUMMARY:Holiday Brunch
DESCRIPTION:Celebrate the festive season in style with Holiday Brunch! Join The Calgary Zoo for a cozy winter day exploring the zoo\, preceded by a delicious Holiday Brunch. The best part? You’ll spend the day with family and friends – instead of being stuck in the kitchen! \nDetails and registration @ The Calgary Zoo
URL:https://savourcalgary.ca/event/holiday-brunch-2-2025-12-27/
LOCATION:The Calgary Zoo\, 210 St. George's Drive NE\, Calgary\, Alberta\, T2E 7V6\, Canada
CATEGORIES:Brunch,Christmas,Family,Food,Holiday,Kids
ATTACH;FMTTYPE=image/jpeg:https://savourcalgary.ca/wp-content/uploads/2025/04/zoo-brunch.jpg
ORGANIZER;CN="The Calgary Zoo":MAILTO:guestrelations@calgaryzoo.com
END:VEVENT
BEGIN:VEVENT
DTSTART;TZID=America/Edmonton:20251228T090000
DTEND;TZID=America/Edmonton:20251228T153000
DTSTAMP:20260419T171503
CREATED:20251108T151335Z
LAST-MODIFIED:20251108T151335Z
UID:35804-1766912400-1766935800@savourcalgary.ca
SUMMARY:Holiday Brunch
DESCRIPTION:Celebrate the festive season in style with Holiday Brunch! Join The Calgary Zoo for a cozy winter day exploring the zoo\, preceded by a delicious Holiday Brunch. The best part? You’ll spend the day with family and friends – instead of being stuck in the kitchen! \nDetails and registration @ The Calgary Zoo
URL:https://savourcalgary.ca/event/holiday-brunch-2-2025-12-28/
LOCATION:The Calgary Zoo\, 210 St. George's Drive NE\, Calgary\, Alberta\, T2E 7V6\, Canada
CATEGORIES:Brunch,Christmas,Family,Food,Holiday,Kids
ATTACH;FMTTYPE=image/jpeg:https://savourcalgary.ca/wp-content/uploads/2025/04/zoo-brunch.jpg
ORGANIZER;CN="The Calgary Zoo":MAILTO:guestrelations@calgaryzoo.com
END:VEVENT
BEGIN:VEVENT
DTSTART;TZID=America/Edmonton:20260317T190000
DTEND;TZID=America/Edmonton:20260317T210000
DTSTAMP:20260419T171503
CREATED:20260123T204723Z
LAST-MODIFIED:20260123T204723Z
UID:37722-1773774000-1773781200@savourcalgary.ca
SUMMARY:A St. Patrick’s Day Blind Tasting: Irish vs Scotch Whisky
DESCRIPTION:With the ever expanding offerings of Irish whiskey and Scotch whisky\, do you have a preference? Let’s see if Calgary Co-op knows which country the whiskey/whisky comes from\, as you test your palate knowledge in this Paddy’s Day blind tasting. \nDetails and registration @ Calgary Co-op Wine Spirits & Beer
URL:https://savourcalgary.ca/event/a-st-patricks-day-blind-tasting-irish-vs-scotch-whisky/
LOCATION:Calgary Co-op Oakridge\, 2580 Southland Dr SW\, Calgary\, Alberta\, T2V 4J8\, Canada
CATEGORIES:Beverages,Holiday,Tasting,Whiskey
ATTACH;FMTTYPE=image/jpeg:https://savourcalgary.ca/wp-content/uploads/2026/01/co-op-paddy-whisky.jpg
END:VEVENT
BEGIN:VEVENT
DTSTART;TZID=America/Edmonton:20260320T190000
DTEND;TZID=America/Edmonton:20260320T210000
DTSTAMP:20260419T171503
CREATED:20260223T133336Z
LAST-MODIFIED:20260223T133336Z
UID:38293-1774033200-1774040400@savourcalgary.ca
SUMMARY:Luck of the Irish - A Belated St. Patrick's Day Tasting
DESCRIPTION:The approach of St. Paddy’s Day means everyone’s feeling a little more Irish\, and it is high time for a focused Irish Whiskey tasting. Come down to Kensington Wine Market and take a wander across the Emerald Isle\, tasting you way through some of the finest whiskey the island has to offer. Find out why Irish Whiskey is booming and taste some whiskey from distilleries both new and old! \nDetails and registration @ Kensington Wine Market
URL:https://savourcalgary.ca/event/luck-of-the-irish-a-belated-st-patricks-day-tasting/
LOCATION:Kensington Wine Market\, 1257 Kensington Rd. NW\, Calgary\, Alberta\, T2N3P8\, Canada
CATEGORIES:Beverages,Holiday,Tasting,Whiskey
ATTACH;FMTTYPE=image/jpeg:https://savourcalgary.ca/wp-content/uploads/2026/02/irish-KWM.jpg
END:VEVENT
END:VCALENDAR