BEGIN:VCALENDAR
VERSION:2.0
PRODID:-//Savour Calgary - ECPv6.15.17.1//NONSGML v1.0//EN
CALSCALE:GREGORIAN
METHOD:PUBLISH
X-WR-CALNAME:Savour Calgary
X-ORIGINAL-URL:https://savourcalgary.ca
X-WR-CALDESC:Events for Savour Calgary
REFRESH-INTERVAL;VALUE=DURATION:PT1H
X-Robots-Tag:noindex
X-PUBLISHED-TTL:PT1H
BEGIN:VTIMEZONE
TZID:America/Edmonton
BEGIN:DAYLIGHT
TZOFFSETFROM:-0700
TZOFFSETTO:-0600
TZNAME:MDT
DTSTART:20250309T090000
END:DAYLIGHT
BEGIN:STANDARD
TZOFFSETFROM:-0600
TZOFFSETTO:-0700
TZNAME:MST
DTSTART:20251102T080000
END:STANDARD
BEGIN:DAYLIGHT
TZOFFSETFROM:-0700
TZOFFSETTO:-0600
TZNAME:MDT
DTSTART:20260308T090000
END:DAYLIGHT
BEGIN:STANDARD
TZOFFSETFROM:-0600
TZOFFSETTO:-0700
TZNAME:MST
DTSTART:20261101T080000
END:STANDARD
BEGIN:DAYLIGHT
TZOFFSETFROM:-0700
TZOFFSETTO:-0600
TZNAME:MDT
DTSTART:20270314T090000
END:DAYLIGHT
BEGIN:STANDARD
TZOFFSETFROM:-0600
TZOFFSETTO:-0700
TZNAME:MST
DTSTART:20271107T080000
END:STANDARD
END:VTIMEZONE
BEGIN:VEVENT
DTSTART;TZID=America/Edmonton:20260525T183000
DTEND;TZID=America/Edmonton:20260525T213000
DTSTAMP:20260419T120717
CREATED:20260412T191602Z
LAST-MODIFIED:20260412T191602Z
UID:39162-1779733800-1779744600@savourcalgary.ca
SUMMARY:A Spring Celebration of Food and Wine
DESCRIPTION:Sarah has impeccable taste\, and is incredibly talented when it comes to pairing food and wine. Join her for a special dinner that celebrates the transition from spring to summer\, highlighting some incredibly fresh ingredients. The food and wine will shine together\, and you’ll go home with a full belly and a happy heart! \nDetails and registration @ The Cookbook Co. Cooks
URL:https://savourcalgary.ca/event/a-spring-celebration-of-food-and-wine/
LOCATION:The Cookbook Co. Cooks\, 722 11 Avenue SW\, Calgary\, Alberta\, T2R0E4\, Canada
CATEGORIES:Beverages,Food,Pairing,Tasting,Wine
ATTACH;FMTTYPE=image/png:https://savourcalgary.ca/wp-content/uploads/2024/09/wines.png
END:VEVENT
BEGIN:VEVENT
DTSTART;TZID=America/Edmonton:20260527T183000
DTEND;TZID=America/Edmonton:20260527T210000
DTSTAMP:20260419T120717
CREATED:20260412T191558Z
LAST-MODIFIED:20260412T191558Z
UID:39160-1779906600-1779915600@savourcalgary.ca
SUMMARY:Vietnamese Cooking
DESCRIPTION:As a crossroads for travellers and traders between Burma\, Indonesia\, India\, China and Thailand\, Vietnam has developed a cuisine that’s been influenced by the cooking traditions of all those countries as well as those of France. This rich history makes for fascinating and delicious eating\, with an emphasis on freshness. \nDetails and registration @ The Cookbook Co. Cooks
URL:https://savourcalgary.ca/event/vietnamese-cooking/
LOCATION:The Cookbook Co. Cooks\, 722 11 Avenue SW\, Calgary\, Alberta\, T2R0E4\, Canada
CATEGORIES:Classes,Cooking,Cooking Class,Food
ATTACH;FMTTYPE=image/png:https://savourcalgary.ca/wp-content/uploads/2025/07/vietnamese-cooking.png
END:VEVENT
BEGIN:VEVENT
DTSTART;TZID=America/Edmonton:20260528T183000
DTEND;TZID=America/Edmonton:20260528T203000
DTSTAMP:20260419T120717
CREATED:20260408T173259Z
LAST-MODIFIED:20260408T173259Z
UID:39151-1779993000-1780000200@savourcalgary.ca
SUMMARY:Chill Reds
DESCRIPTION:Red wine is known for its power and structure – but what about the softer side… dare we say the chill side? \n\n\n\n\nJoin Market Wines for a laid-back event all about reds that are softer and more approachable\, they are even going to pop a few in the fridge to show you how and when to chill! Over two hours\, they will sip and swirl 6 different styles of reds and learn about what makes up the flavours and structures of red wines. \nDetails and registration @ Market Wines
URL:https://savourcalgary.ca/event/chill-reds/
LOCATION:Market Wines – University District\, 4109 University Avenue NW\, Calgary\, Alberta\, T3B6K3\, Canada
CATEGORIES:Beverages,Tasting,Wine
ATTACH;FMTTYPE=image/jpeg:https://savourcalgary.ca/wp-content/uploads/2026/04/chill-MW.jpg
END:VEVENT
BEGIN:VEVENT
DTSTART;TZID=America/Edmonton:20260528T190000
DTEND;TZID=America/Edmonton:20260528T210000
DTSTAMP:20260419T120717
CREATED:20260417T173645Z
LAST-MODIFIED:20260417T173645Z
UID:39215-1779994800-1780002000@savourcalgary.ca
SUMMARY:Feis Ile @KWM Part II - Ardnahoe\, Bunnahabhain\, & Caol Ila
DESCRIPTION:Rather than put on an Islay Festival this year\, KWM is putting on a series of 3 in-store Islay tastings\, each featuring three distilleries. The second will feature two whiskies each from the distilleries of the north-east coast: Ardnahoe\, Bunnahabhain\, and Caol Ila\, as well as a surprise 7th whisky. Will it be a Mystery Malt or an Islayternative? You’ll have to turn up to find out. \nDetails and registration @ Kensington Wine Market
URL:https://savourcalgary.ca/event/feis-ile-kwm-part-ii-ardnahoe-bunnahabhain-caol-ila/
LOCATION:Kensington Wine Market\, 1257 Kensington Rd. NW\, Calgary\, Alberta\, T2N3P8\, Canada
CATEGORIES:Beverages,Tasting,Whiskey
ATTACH;FMTTYPE=image/jpeg:https://savourcalgary.ca/wp-content/uploads/2026/04/feis-KWM.jpg
END:VEVENT
END:VCALENDAR