BEGIN:VCALENDAR
VERSION:2.0
PRODID:-//Savour Calgary - ECPv6.15.17.1//NONSGML v1.0//EN
CALSCALE:GREGORIAN
METHOD:PUBLISH
X-ORIGINAL-URL:https://savourcalgary.ca
X-WR-CALDESC:Events for Savour Calgary
REFRESH-INTERVAL;VALUE=DURATION:PT1H
X-Robots-Tag:noindex
X-PUBLISHED-TTL:PT1H
BEGIN:VTIMEZONE
TZID:America/Edmonton
BEGIN:DAYLIGHT
TZOFFSETFROM:-0700
TZOFFSETTO:-0600
TZNAME:MDT
DTSTART:20250309T090000
END:DAYLIGHT
BEGIN:STANDARD
TZOFFSETFROM:-0600
TZOFFSETTO:-0700
TZNAME:MST
DTSTART:20251102T080000
END:STANDARD
BEGIN:DAYLIGHT
TZOFFSETFROM:-0700
TZOFFSETTO:-0600
TZNAME:MDT
DTSTART:20260308T090000
END:DAYLIGHT
BEGIN:STANDARD
TZOFFSETFROM:-0600
TZOFFSETTO:-0700
TZNAME:MST
DTSTART:20261101T080000
END:STANDARD
BEGIN:DAYLIGHT
TZOFFSETFROM:-0700
TZOFFSETTO:-0600
TZNAME:MDT
DTSTART:20270314T090000
END:DAYLIGHT
BEGIN:STANDARD
TZOFFSETFROM:-0600
TZOFFSETTO:-0700
TZNAME:MST
DTSTART:20271107T080000
END:STANDARD
END:VTIMEZONE
BEGIN:VEVENT
DTSTART;TZID=America/Edmonton:20260520T190000
DTEND;TZID=America/Edmonton:20260520T203000
DTSTAMP:20260419T180058
CREATED:20260328T214611Z
LAST-MODIFIED:20260328T214611Z
UID:38940-1779303600-1779309000@savourcalgary.ca
SUMMARY:Canadian Wine & Cheese
DESCRIPTION:Celebrate Canada from coast to coast! Our country is home to an incredible array of expressive wines and exceptional cheeses. Raise a glass to this great land as you explore top Canadian vineyards and artisan cheesemakers. Co-hosted by Adrian Watters of Springbank Cheese Co. alongside the Trusted Experts\, this tasting features six Canadian wines in a variety of styles\, paired with six delicious cheeses and fresh baguette.  \nDetails and registration @ Willow Park Wines & Spirits
URL:https://savourcalgary.ca/event/canadian-wine-cheese/
LOCATION:Willow Park Wines & Spirits – Willow Park Village\, 10801 Bonaventure Drive SE\, Calgary\, Alberta\, T2J 6Z8\, Canada
CATEGORIES:Beverages,Cheese,Pairing,Tasting,Wine
ATTACH;FMTTYPE=image/jpeg:https://savourcalgary.ca/wp-content/uploads/2025/04/cheese-WP.jpg
END:VEVENT
BEGIN:VEVENT
DTSTART;TZID=America/Edmonton:20260521T183000
DTEND;TZID=America/Edmonton:20260521T203000
DTSTAMP:20260419T180058
CREATED:20260408T173254Z
LAST-MODIFIED:20260408T173254Z
UID:39149-1779388200-1779395400@savourcalgary.ca
SUMMARY:Burgers & Wine
DESCRIPTION:Food and wine pairings don’t have to be fussy – sometimes you just need a Burger and Wine! \n\n\n\n\nMarket Wines will sample 6 wines alongside food from Five Guys. Need they say more? This tasting includes a burger and fries for each attendee. \nDetails and registration @ Market Wines
URL:https://savourcalgary.ca/event/burgers-wine/
LOCATION:Market Wines – University District\, 4109 University Avenue NW\, Calgary\, Alberta\, T3B6K3\, Canada
CATEGORIES:Beverages,Food,Pairing,Tasting,Wine
ATTACH;FMTTYPE=image/jpeg:https://savourcalgary.ca/wp-content/uploads/2026/04/burgers-MW.jpg
END:VEVENT
BEGIN:VEVENT
DTSTART;TZID=America/Edmonton:20260521T183000
DTEND;TZID=America/Edmonton:20260521T210000
DTSTAMP:20260419T180058
CREATED:20260412T192902Z
LAST-MODIFIED:20260412T192902Z
UID:39176-1779388200-1779397200@savourcalgary.ca
SUMMARY:Consider the Lobster: Two Classic Dishes
DESCRIPTION:Come join celebrate Lobster season with a cooking class designed to teach you how to be a pro with this delicacy from the ocean. Learn everything from how to properly process them\, to make use of every part\, and to create a menu inspired by lobster! \nDetails and registration @ The Cookbook Co. Cooks
URL:https://savourcalgary.ca/event/consider-the-lobster-two-classic-dishes/
LOCATION:The Cookbook Co. Cooks\, 722 11 Avenue SW\, Calgary\, Alberta\, T2R0E4\, Canada
CATEGORIES:Classes,Cooking,Cooking Class,Seafood
ATTACH;FMTTYPE=image/png:https://savourcalgary.ca/wp-content/uploads/2023/06/lobster.png
END:VEVENT
BEGIN:VEVENT
DTSTART;TZID=America/Edmonton:20260521T190000
DTEND;TZID=America/Edmonton:20260521T210000
DTSTAMP:20260419T180058
CREATED:20260330T021421Z
LAST-MODIFIED:20260330T021421Z
UID:38966-1779390000-1779397200@savourcalgary.ca
SUMMARY:Choose Your Own Adventure: Red Wine Edition
DESCRIPTION:This event is one that we have run a few times\, and it’s been met with terrific feedback. Get ready to take control of the evening\, and perhaps throw your host Sommelier for a loop. In this tasting\, Calgary Co-op  is turning the power over to you! You’ll be split into groups at the beginning of the evening\, then you’ll be given a price range and a time limit\, and you get to select what wines we’ll be tasting during the evening. The ball is in your court! \nDetails and registration @ Calgary Co-op Wine Spirits & Beer
URL:https://savourcalgary.ca/event/choose-your-own-adventure-red-wine-edition/
LOCATION:Calgary Co-op Shawnessy Wine Spirits Beer\, 80\, 250 Shawville Boulevard SE\, Calgary\, Alberta\, T2Y 2Z7\, Canada
CATEGORIES:Beverages,Tasting,Wine
ATTACH;FMTTYPE=image/jpeg:https://savourcalgary.ca/wp-content/uploads/2025/08/expensive-wine-co-op.jpg
END:VEVENT
BEGIN:VEVENT
DTSTART;TZID=America/Edmonton:20260522T190000
DTEND;TZID=America/Edmonton:20260522T210000
DTSTAMP:20260419T180058
CREATED:20260417T173636Z
LAST-MODIFIED:20260417T173636Z
UID:39213-1779476400-1779483600@savourcalgary.ca
SUMMARY:Feis Ile @KWM Part I - Bowmore\, Bruichladdich\, & Kilchoman
DESCRIPTION:Rather than put on an Islay Festival this year\, KWM is putting on a series of 3 in-store Islay tastings\, each featuring three distilleries. The first will feature two whiskies each from the three westernmost distilleries\, Bowmore\, Bruichladdich\, and Kilchoman\, as well as a surprise 7th whisky. Will it be a Mystery Malt or an Islayternative? You’ll have to turn up to find out. \nDetails and registration @ Kensington Wine Market
URL:https://savourcalgary.ca/event/feis-ile-kwm-part-i-bowmore-bruichladdich-kilchoman/
LOCATION:Kensington Wine Market\, 1257 Kensington Rd. NW\, Calgary\, Alberta\, T2N3P8\, Canada
CATEGORIES:Beverages,Tasting,Whiskey
ATTACH;FMTTYPE=image/jpeg:https://savourcalgary.ca/wp-content/uploads/2026/04/KWM-feis.jpg
END:VEVENT
BEGIN:VEVENT
DTSTART;TZID=America/Edmonton:20260523T183000
DTEND;TZID=America/Edmonton:20260523T210000
DTSTAMP:20260419T180058
CREATED:20260412T191655Z
LAST-MODIFIED:20260412T191655Z
UID:39163-1779561000-1779570000@savourcalgary.ca
SUMMARY:Spring Fling: Fabulous Appetizers and A Cocktail
DESCRIPTION:Join Daphne—culinary creative and former island restaurant owner—for an evening of tantalizing appetizers inspired by spring flavours. Known for her curated menus and effortless entertaining style\, Daphne will guide you through a selection of stylish small bites designed to impress. Easy to prepare\, you’ll explore seasonal ingredients paired with globally inspired techniques\, and learn how thoughtful presentation can elevate any gathering. Add a fun cocktail to the mix\, and the party can begin. Come for the flavour\, stay for the inspiration\, and leave ready to host with confidence. \n\n\n\n\n\n\nDetails and registration @ The Cookbook Co. Cooks
URL:https://savourcalgary.ca/event/spring-fling-fabulous-appetizers-and-a-cocktail/
LOCATION:The Cookbook Co. Cooks\, 722 11 Avenue SW\, Calgary\, Alberta\, T2R0E4\, Canada
CATEGORIES:Appetizers,Beverages,Cocktail,Food,Pairing,Tasting
ATTACH;FMTTYPE=image/png:https://savourcalgary.ca/wp-content/uploads/2024/05/drinks.png
END:VEVENT
BEGIN:VEVENT
DTSTART;TZID=America/Edmonton:20260524T100000
DTEND;TZID=America/Edmonton:20260524T123000
DTSTAMP:20260419T180058
CREATED:20260412T192227Z
LAST-MODIFIED:20260412T192227Z
UID:39166-1779616800-1779625800@savourcalgary.ca
SUMMARY:Off the Pages of Samin Nosrat
DESCRIPTION:Samin Nosrat is one of the great recipe writers and culinary teachers out there. Her books are filled with information about ingredients and cooking methods—not just the what\, but also the why and how. It’s this type of sharing that builds knowledge and helps us all become better in the kitchen. One of the things chef Adam especially loves about her newest book\, Good Things\, is her pantry staples section. In this class\, he will highlight a homemade pantry staple and then showcase how she uses it in her book. \n\n\n\n\n\n\nDetails and registration @ The Cookbook Co. Cooks
URL:https://savourcalgary.ca/event/off-the-pages-of-samin-nosrat/
LOCATION:The Cookbook Co. Cooks\, 722 11 Avenue SW\, Calgary\, Alberta\, T2R0E4\, Canada
CATEGORIES:Classes,Cooking,Cooking Class
ATTACH;FMTTYPE=image/png:https://savourcalgary.ca/wp-content/uploads/2024/02/cookbook.png
END:VEVENT
BEGIN:VEVENT
DTSTART;TZID=America/Edmonton:20260525T183000
DTEND;TZID=America/Edmonton:20260525T213000
DTSTAMP:20260419T180058
CREATED:20260412T191602Z
LAST-MODIFIED:20260412T191602Z
UID:39162-1779733800-1779744600@savourcalgary.ca
SUMMARY:A Spring Celebration of Food and Wine
DESCRIPTION:Sarah has impeccable taste\, and is incredibly talented when it comes to pairing food and wine. Join her for a special dinner that celebrates the transition from spring to summer\, highlighting some incredibly fresh ingredients. The food and wine will shine together\, and you’ll go home with a full belly and a happy heart! \nDetails and registration @ The Cookbook Co. Cooks
URL:https://savourcalgary.ca/event/a-spring-celebration-of-food-and-wine/
LOCATION:The Cookbook Co. Cooks\, 722 11 Avenue SW\, Calgary\, Alberta\, T2R0E4\, Canada
CATEGORIES:Beverages,Food,Pairing,Tasting,Wine
ATTACH;FMTTYPE=image/png:https://savourcalgary.ca/wp-content/uploads/2024/09/wines.png
END:VEVENT
BEGIN:VEVENT
DTSTART;TZID=America/Edmonton:20260527T183000
DTEND;TZID=America/Edmonton:20260527T210000
DTSTAMP:20260419T180058
CREATED:20260412T191558Z
LAST-MODIFIED:20260412T191558Z
UID:39160-1779906600-1779915600@savourcalgary.ca
SUMMARY:Vietnamese Cooking
DESCRIPTION:As a crossroads for travellers and traders between Burma\, Indonesia\, India\, China and Thailand\, Vietnam has developed a cuisine that’s been influenced by the cooking traditions of all those countries as well as those of France. This rich history makes for fascinating and delicious eating\, with an emphasis on freshness. \nDetails and registration @ The Cookbook Co. Cooks
URL:https://savourcalgary.ca/event/vietnamese-cooking/
LOCATION:The Cookbook Co. Cooks\, 722 11 Avenue SW\, Calgary\, Alberta\, T2R0E4\, Canada
CATEGORIES:Classes,Cooking,Cooking Class,Food
ATTACH;FMTTYPE=image/png:https://savourcalgary.ca/wp-content/uploads/2025/07/vietnamese-cooking.png
END:VEVENT
BEGIN:VEVENT
DTSTART;TZID=America/Edmonton:20260528T183000
DTEND;TZID=America/Edmonton:20260528T203000
DTSTAMP:20260419T180058
CREATED:20260408T173259Z
LAST-MODIFIED:20260408T173259Z
UID:39151-1779993000-1780000200@savourcalgary.ca
SUMMARY:Chill Reds
DESCRIPTION:Red wine is known for its power and structure – but what about the softer side… dare we say the chill side? \n\n\n\n\nJoin Market Wines for a laid-back event all about reds that are softer and more approachable\, they are even going to pop a few in the fridge to show you how and when to chill! Over two hours\, they will sip and swirl 6 different styles of reds and learn about what makes up the flavours and structures of red wines. \nDetails and registration @ Market Wines
URL:https://savourcalgary.ca/event/chill-reds/
LOCATION:Market Wines – University District\, 4109 University Avenue NW\, Calgary\, Alberta\, T3B6K3\, Canada
CATEGORIES:Beverages,Tasting,Wine
ATTACH;FMTTYPE=image/jpeg:https://savourcalgary.ca/wp-content/uploads/2026/04/chill-MW.jpg
END:VEVENT
BEGIN:VEVENT
DTSTART;TZID=America/Edmonton:20260528T190000
DTEND;TZID=America/Edmonton:20260528T210000
DTSTAMP:20260419T180058
CREATED:20260417T173645Z
LAST-MODIFIED:20260417T173645Z
UID:39215-1779994800-1780002000@savourcalgary.ca
SUMMARY:Feis Ile @KWM Part II - Ardnahoe\, Bunnahabhain\, & Caol Ila
DESCRIPTION:Rather than put on an Islay Festival this year\, KWM is putting on a series of 3 in-store Islay tastings\, each featuring three distilleries. The second will feature two whiskies each from the distilleries of the north-east coast: Ardnahoe\, Bunnahabhain\, and Caol Ila\, as well as a surprise 7th whisky. Will it be a Mystery Malt or an Islayternative? You’ll have to turn up to find out. \nDetails and registration @ Kensington Wine Market
URL:https://savourcalgary.ca/event/feis-ile-kwm-part-ii-ardnahoe-bunnahabhain-caol-ila/
LOCATION:Kensington Wine Market\, 1257 Kensington Rd. NW\, Calgary\, Alberta\, T2N3P8\, Canada
CATEGORIES:Beverages,Tasting,Whiskey
ATTACH;FMTTYPE=image/jpeg:https://savourcalgary.ca/wp-content/uploads/2026/04/feis-KWM.jpg
END:VEVENT
END:VCALENDAR