BEGIN:VCALENDAR
VERSION:2.0
PRODID:-//Savour Calgary - ECPv6.15.17.1//NONSGML v1.0//EN
CALSCALE:GREGORIAN
METHOD:PUBLISH
X-ORIGINAL-URL:https://savourcalgary.ca
X-WR-CALDESC:Events for Savour Calgary
REFRESH-INTERVAL;VALUE=DURATION:PT1H
X-Robots-Tag:noindex
X-PUBLISHED-TTL:PT1H
BEGIN:VTIMEZONE
TZID:America/Edmonton
BEGIN:DAYLIGHT
TZOFFSETFROM:-0700
TZOFFSETTO:-0600
TZNAME:MDT
DTSTART:20240310T090000
END:DAYLIGHT
BEGIN:STANDARD
TZOFFSETFROM:-0600
TZOFFSETTO:-0700
TZNAME:MST
DTSTART:20241103T080000
END:STANDARD
BEGIN:DAYLIGHT
TZOFFSETFROM:-0700
TZOFFSETTO:-0600
TZNAME:MDT
DTSTART:20250309T090000
END:DAYLIGHT
BEGIN:STANDARD
TZOFFSETFROM:-0600
TZOFFSETTO:-0700
TZNAME:MST
DTSTART:20251102T080000
END:STANDARD
BEGIN:DAYLIGHT
TZOFFSETFROM:-0700
TZOFFSETTO:-0600
TZNAME:MDT
DTSTART:20260308T090000
END:DAYLIGHT
BEGIN:STANDARD
TZOFFSETFROM:-0600
TZOFFSETTO:-0700
TZNAME:MST
DTSTART:20261101T080000
END:STANDARD
END:VTIMEZONE
BEGIN:VEVENT
DTSTART;TZID=America/Edmonton:20250818T180000
DTEND;TZID=America/Edmonton:20250818T200000
DTSTAMP:20260422T134007
CREATED:20250729T223104Z
LAST-MODIFIED:20250729T223104Z
UID:34032-1755540000-1755547200@savourcalgary.ca
SUMMARY:Paint Nite: Tropical Beach Walk
DESCRIPTION:Paint Nite with Rock Paper Brushes in Brewsters\, Airdrie is the perfect way to get creative and have a blast! Join Paint Nite for an evening of painting\, sipping and socializing as Christy provides step-by-step instructions to help you create a masterpiece. Bring your friends and get ready to unleash your inner artist! All materials  are provided\, so all you have to do is show up and enjoy the night! \nDetails and registration @ Paint Nite \n\n\n 
URL:https://savourcalgary.ca/event/paint-nite-tropical-beach-walk/
LOCATION:Brewsters- Stonegate\, 200 3 Stonegate Drive NW\, Airdrie\, Alberta\, Canada
CATEGORIES:Art,Classes,Food
ATTACH;FMTTYPE=image/png:https://savourcalgary.ca/wp-content/uploads/2024/03/Paint-Nite.png
END:VEVENT
END:VCALENDAR