BEGIN:VCALENDAR
VERSION:2.0
PRODID:-//Savour Calgary - ECPv6.15.17.1//NONSGML v1.0//EN
CALSCALE:GREGORIAN
METHOD:PUBLISH
X-WR-CALNAME:Savour Calgary
X-ORIGINAL-URL:https://savourcalgary.ca
X-WR-CALDESC:Events for Savour Calgary
REFRESH-INTERVAL;VALUE=DURATION:PT1H
X-Robots-Tag:noindex
X-PUBLISHED-TTL:PT1H
BEGIN:VTIMEZONE
TZID:America/Edmonton
BEGIN:DAYLIGHT
TZOFFSETFROM:-0700
TZOFFSETTO:-0600
TZNAME:MDT
DTSTART:20240310T090000
END:DAYLIGHT
BEGIN:STANDARD
TZOFFSETFROM:-0600
TZOFFSETTO:-0700
TZNAME:MST
DTSTART:20241103T080000
END:STANDARD
BEGIN:DAYLIGHT
TZOFFSETFROM:-0700
TZOFFSETTO:-0600
TZNAME:MDT
DTSTART:20250309T090000
END:DAYLIGHT
BEGIN:STANDARD
TZOFFSETFROM:-0600
TZOFFSETTO:-0700
TZNAME:MST
DTSTART:20251102T080000
END:STANDARD
BEGIN:DAYLIGHT
TZOFFSETFROM:-0700
TZOFFSETTO:-0600
TZNAME:MDT
DTSTART:20260308T090000
END:DAYLIGHT
BEGIN:STANDARD
TZOFFSETFROM:-0600
TZOFFSETTO:-0700
TZNAME:MST
DTSTART:20261101T080000
END:STANDARD
END:VTIMEZONE
BEGIN:VEVENT
DTSTART;TZID=America/Edmonton:20250807T123000
DTEND;TZID=America/Edmonton:20250807T163000
DTSTAMP:20260419T131729
CREATED:20250507T165523Z
LAST-MODIFIED:20250507T165523Z
UID:32486-1754569800-1754584200@savourcalgary.ca
SUMMARY:Calgary Food Bike Tour
DESCRIPTION:Why ride alone if you can do in the company of bikers who are eager to explore? Get ready to embark on an exciting two-wheel food adventure and join them for brunch on this Food Bike tour! \nCalgary Food Bike Tour is a great way to meet new people and try some incredible local food. Food Bike Tour serves up exploration and exercise with a side of delicious. Be a tourist in your own city and indulge in fine local foods and beverages while touring on a bike around the city. Enjoy different samples of meals from 3 different local establishments. \nNothing compares to the simple pleasure of a bike ride\, food and great company. \nDetails and registration @ Eventbrite \n 
URL:https://savourcalgary.ca/event/calgary-food-bike-tour-2-2025-08-07/
LOCATION:Little Blue Church\, 1110 Gladstone Rd NW\, Calgary\, Alberta\, T2N 3E7\, Canada
CATEGORIES:Family,Food,Food Tours,Friends,Tour
ATTACH;FMTTYPE=image/jpeg:https://savourcalgary.ca/wp-content/uploads/2023/07/Calgary-Food-Bike-Tour.jpg
END:VEVENT
END:VCALENDAR