BEGIN:VCALENDAR
VERSION:2.0
PRODID:-//Savour Calgary - ECPv6.15.17.1//NONSGML v1.0//EN
CALSCALE:GREGORIAN
METHOD:PUBLISH
X-WR-CALNAME:Savour Calgary
X-ORIGINAL-URL:https://savourcalgary.ca
X-WR-CALDESC:Events for Savour Calgary
REFRESH-INTERVAL;VALUE=DURATION:PT1H
X-Robots-Tag:noindex
X-PUBLISHED-TTL:PT1H
BEGIN:VTIMEZONE
TZID:America/Edmonton
BEGIN:DAYLIGHT
TZOFFSETFROM:-0700
TZOFFSETTO:-0600
TZNAME:MDT
DTSTART:20240310T090000
END:DAYLIGHT
BEGIN:STANDARD
TZOFFSETFROM:-0600
TZOFFSETTO:-0700
TZNAME:MST
DTSTART:20241103T080000
END:STANDARD
BEGIN:DAYLIGHT
TZOFFSETFROM:-0700
TZOFFSETTO:-0600
TZNAME:MDT
DTSTART:20250309T090000
END:DAYLIGHT
BEGIN:STANDARD
TZOFFSETFROM:-0600
TZOFFSETTO:-0700
TZNAME:MST
DTSTART:20251102T080000
END:STANDARD
BEGIN:DAYLIGHT
TZOFFSETFROM:-0700
TZOFFSETTO:-0600
TZNAME:MDT
DTSTART:20260308T090000
END:DAYLIGHT
BEGIN:STANDARD
TZOFFSETFROM:-0600
TZOFFSETTO:-0700
TZNAME:MST
DTSTART:20261101T080000
END:STANDARD
END:VTIMEZONE
BEGIN:VEVENT
DTSTART;TZID=America/Edmonton:20250904T123000
DTEND;TZID=America/Edmonton:20250904T163000
DTSTAMP:20260419T100158
CREATED:20250507T165523Z
LAST-MODIFIED:20250507T165523Z
UID:32498-1756989000-1757003400@savourcalgary.ca
SUMMARY:Calgary Food Bike Tour
DESCRIPTION:Why ride alone if you can do in the company of bikers who are eager to explore? Get ready to embark on an exciting two-wheel food adventure and join them for brunch on this Food Bike tour! \nCalgary Food Bike Tour is a great way to meet new people and try some incredible local food. Food Bike Tour serves up exploration and exercise with a side of delicious. Be a tourist in your own city and indulge in fine local foods and beverages while touring on a bike around the city. Enjoy different samples of meals from 3 different local establishments. \nNothing compares to the simple pleasure of a bike ride\, food and great company. \nDetails and registration @ Eventbrite \n 
URL:https://savourcalgary.ca/event/calgary-food-bike-tour-2-2025-09-04/
LOCATION:Little Blue Church\, 1110 Gladstone Rd NW\, Calgary\, Alberta\, T2N 3E7\, Canada
CATEGORIES:Family,Food,Food Tours,Friends,Tour
ATTACH;FMTTYPE=image/jpeg:https://savourcalgary.ca/wp-content/uploads/2023/07/Calgary-Food-Bike-Tour.jpg
END:VEVENT
BEGIN:VEVENT
DTSTART;TZID=America/Edmonton:20250905T123000
DTEND;TZID=America/Edmonton:20250905T163000
DTSTAMP:20260419T100158
CREATED:20250507T165523Z
LAST-MODIFIED:20250507T165523Z
UID:32499-1757075400-1757089800@savourcalgary.ca
SUMMARY:Calgary Food Bike Tour
DESCRIPTION:Why ride alone if you can do in the company of bikers who are eager to explore? Get ready to embark on an exciting two-wheel food adventure and join them for brunch on this Food Bike tour! \nCalgary Food Bike Tour is a great way to meet new people and try some incredible local food. Food Bike Tour serves up exploration and exercise with a side of delicious. Be a tourist in your own city and indulge in fine local foods and beverages while touring on a bike around the city. Enjoy different samples of meals from 3 different local establishments. \nNothing compares to the simple pleasure of a bike ride\, food and great company. \nDetails and registration @ Eventbrite \n 
URL:https://savourcalgary.ca/event/calgary-food-bike-tour-2-2025-09-05/
LOCATION:Little Blue Church\, 1110 Gladstone Rd NW\, Calgary\, Alberta\, T2N 3E7\, Canada
CATEGORIES:Family,Food,Food Tours,Friends,Tour
ATTACH;FMTTYPE=image/jpeg:https://savourcalgary.ca/wp-content/uploads/2023/07/Calgary-Food-Bike-Tour.jpg
END:VEVENT
BEGIN:VEVENT
DTSTART;TZID=America/Edmonton:20250906T123000
DTEND;TZID=America/Edmonton:20250906T163000
DTSTAMP:20260419T100158
CREATED:20250507T165523Z
LAST-MODIFIED:20250507T165523Z
UID:32500-1757161800-1757176200@savourcalgary.ca
SUMMARY:Calgary Food Bike Tour
DESCRIPTION:Why ride alone if you can do in the company of bikers who are eager to explore? Get ready to embark on an exciting two-wheel food adventure and join them for brunch on this Food Bike tour! \nCalgary Food Bike Tour is a great way to meet new people and try some incredible local food. Food Bike Tour serves up exploration and exercise with a side of delicious. Be a tourist in your own city and indulge in fine local foods and beverages while touring on a bike around the city. Enjoy different samples of meals from 3 different local establishments. \nNothing compares to the simple pleasure of a bike ride\, food and great company. \nDetails and registration @ Eventbrite \n 
URL:https://savourcalgary.ca/event/calgary-food-bike-tour-2-2025-09-06/
LOCATION:Little Blue Church\, 1110 Gladstone Rd NW\, Calgary\, Alberta\, T2N 3E7\, Canada
CATEGORIES:Family,Food,Food Tours,Friends,Tour
ATTACH;FMTTYPE=image/jpeg:https://savourcalgary.ca/wp-content/uploads/2023/07/Calgary-Food-Bike-Tour.jpg
END:VEVENT
BEGIN:VEVENT
DTSTART;TZID=America/Edmonton:20250911T123000
DTEND;TZID=America/Edmonton:20250911T163000
DTSTAMP:20260419T100158
CREATED:20250507T165523Z
LAST-MODIFIED:20250507T165523Z
UID:32501-1757593800-1757608200@savourcalgary.ca
SUMMARY:Calgary Food Bike Tour
DESCRIPTION:Why ride alone if you can do in the company of bikers who are eager to explore? Get ready to embark on an exciting two-wheel food adventure and join them for brunch on this Food Bike tour! \nCalgary Food Bike Tour is a great way to meet new people and try some incredible local food. Food Bike Tour serves up exploration and exercise with a side of delicious. Be a tourist in your own city and indulge in fine local foods and beverages while touring on a bike around the city. Enjoy different samples of meals from 3 different local establishments. \nNothing compares to the simple pleasure of a bike ride\, food and great company. \nDetails and registration @ Eventbrite \n 
URL:https://savourcalgary.ca/event/calgary-food-bike-tour-2-2025-09-11/
LOCATION:Little Blue Church\, 1110 Gladstone Rd NW\, Calgary\, Alberta\, T2N 3E7\, Canada
CATEGORIES:Family,Food,Food Tours,Friends,Tour
ATTACH;FMTTYPE=image/jpeg:https://savourcalgary.ca/wp-content/uploads/2023/07/Calgary-Food-Bike-Tour.jpg
END:VEVENT
BEGIN:VEVENT
DTSTART;TZID=America/Edmonton:20250912T123000
DTEND;TZID=America/Edmonton:20250912T163000
DTSTAMP:20260419T100158
CREATED:20250507T165523Z
LAST-MODIFIED:20250507T165523Z
UID:32502-1757680200-1757694600@savourcalgary.ca
SUMMARY:Calgary Food Bike Tour
DESCRIPTION:Why ride alone if you can do in the company of bikers who are eager to explore? Get ready to embark on an exciting two-wheel food adventure and join them for brunch on this Food Bike tour! \nCalgary Food Bike Tour is a great way to meet new people and try some incredible local food. Food Bike Tour serves up exploration and exercise with a side of delicious. Be a tourist in your own city and indulge in fine local foods and beverages while touring on a bike around the city. Enjoy different samples of meals from 3 different local establishments. \nNothing compares to the simple pleasure of a bike ride\, food and great company. \nDetails and registration @ Eventbrite \n 
URL:https://savourcalgary.ca/event/calgary-food-bike-tour-2-2025-09-12/
LOCATION:Little Blue Church\, 1110 Gladstone Rd NW\, Calgary\, Alberta\, T2N 3E7\, Canada
CATEGORIES:Family,Food,Food Tours,Friends,Tour
ATTACH;FMTTYPE=image/jpeg:https://savourcalgary.ca/wp-content/uploads/2023/07/Calgary-Food-Bike-Tour.jpg
END:VEVENT
BEGIN:VEVENT
DTSTART;TZID=America/Edmonton:20250913T123000
DTEND;TZID=America/Edmonton:20250913T163000
DTSTAMP:20260419T100158
CREATED:20250507T165523Z
LAST-MODIFIED:20250507T165523Z
UID:32503-1757766600-1757781000@savourcalgary.ca
SUMMARY:Calgary Food Bike Tour
DESCRIPTION:Why ride alone if you can do in the company of bikers who are eager to explore? Get ready to embark on an exciting two-wheel food adventure and join them for brunch on this Food Bike tour! \nCalgary Food Bike Tour is a great way to meet new people and try some incredible local food. Food Bike Tour serves up exploration and exercise with a side of delicious. Be a tourist in your own city and indulge in fine local foods and beverages while touring on a bike around the city. Enjoy different samples of meals from 3 different local establishments. \nNothing compares to the simple pleasure of a bike ride\, food and great company. \nDetails and registration @ Eventbrite \n 
URL:https://savourcalgary.ca/event/calgary-food-bike-tour-2-2025-09-13/
LOCATION:Little Blue Church\, 1110 Gladstone Rd NW\, Calgary\, Alberta\, T2N 3E7\, Canada
CATEGORIES:Family,Food,Food Tours,Friends,Tour
ATTACH;FMTTYPE=image/jpeg:https://savourcalgary.ca/wp-content/uploads/2023/07/Calgary-Food-Bike-Tour.jpg
END:VEVENT
BEGIN:VEVENT
DTSTART;TZID=America/Edmonton:20250918T123000
DTEND;TZID=America/Edmonton:20250918T163000
DTSTAMP:20260419T100158
CREATED:20250507T165523Z
LAST-MODIFIED:20250507T165523Z
UID:32504-1758198600-1758213000@savourcalgary.ca
SUMMARY:Calgary Food Bike Tour
DESCRIPTION:Why ride alone if you can do in the company of bikers who are eager to explore? Get ready to embark on an exciting two-wheel food adventure and join them for brunch on this Food Bike tour! \nCalgary Food Bike Tour is a great way to meet new people and try some incredible local food. Food Bike Tour serves up exploration and exercise with a side of delicious. Be a tourist in your own city and indulge in fine local foods and beverages while touring on a bike around the city. Enjoy different samples of meals from 3 different local establishments. \nNothing compares to the simple pleasure of a bike ride\, food and great company. \nDetails and registration @ Eventbrite \n 
URL:https://savourcalgary.ca/event/calgary-food-bike-tour-2-2025-09-18/
LOCATION:Little Blue Church\, 1110 Gladstone Rd NW\, Calgary\, Alberta\, T2N 3E7\, Canada
CATEGORIES:Family,Food,Food Tours,Friends,Tour
ATTACH;FMTTYPE=image/jpeg:https://savourcalgary.ca/wp-content/uploads/2023/07/Calgary-Food-Bike-Tour.jpg
END:VEVENT
BEGIN:VEVENT
DTSTART;TZID=America/Edmonton:20250919T123000
DTEND;TZID=America/Edmonton:20250919T163000
DTSTAMP:20260419T100158
CREATED:20250507T165523Z
LAST-MODIFIED:20250507T165523Z
UID:32505-1758285000-1758299400@savourcalgary.ca
SUMMARY:Calgary Food Bike Tour
DESCRIPTION:Why ride alone if you can do in the company of bikers who are eager to explore? Get ready to embark on an exciting two-wheel food adventure and join them for brunch on this Food Bike tour! \nCalgary Food Bike Tour is a great way to meet new people and try some incredible local food. Food Bike Tour serves up exploration and exercise with a side of delicious. Be a tourist in your own city and indulge in fine local foods and beverages while touring on a bike around the city. Enjoy different samples of meals from 3 different local establishments. \nNothing compares to the simple pleasure of a bike ride\, food and great company. \nDetails and registration @ Eventbrite \n 
URL:https://savourcalgary.ca/event/calgary-food-bike-tour-2-2025-09-19/
LOCATION:Little Blue Church\, 1110 Gladstone Rd NW\, Calgary\, Alberta\, T2N 3E7\, Canada
CATEGORIES:Family,Food,Food Tours,Friends,Tour
ATTACH;FMTTYPE=image/jpeg:https://savourcalgary.ca/wp-content/uploads/2023/07/Calgary-Food-Bike-Tour.jpg
END:VEVENT
BEGIN:VEVENT
DTSTART;TZID=America/Edmonton:20250920T123000
DTEND;TZID=America/Edmonton:20250920T163000
DTSTAMP:20260419T100158
CREATED:20250507T165523Z
LAST-MODIFIED:20250507T165523Z
UID:32506-1758371400-1758385800@savourcalgary.ca
SUMMARY:Calgary Food Bike Tour
DESCRIPTION:Why ride alone if you can do in the company of bikers who are eager to explore? Get ready to embark on an exciting two-wheel food adventure and join them for brunch on this Food Bike tour! \nCalgary Food Bike Tour is a great way to meet new people and try some incredible local food. Food Bike Tour serves up exploration and exercise with a side of delicious. Be a tourist in your own city and indulge in fine local foods and beverages while touring on a bike around the city. Enjoy different samples of meals from 3 different local establishments. \nNothing compares to the simple pleasure of a bike ride\, food and great company. \nDetails and registration @ Eventbrite \n 
URL:https://savourcalgary.ca/event/calgary-food-bike-tour-2-2025-09-20/
LOCATION:Little Blue Church\, 1110 Gladstone Rd NW\, Calgary\, Alberta\, T2N 3E7\, Canada
CATEGORIES:Family,Food,Food Tours,Friends,Tour
ATTACH;FMTTYPE=image/jpeg:https://savourcalgary.ca/wp-content/uploads/2023/07/Calgary-Food-Bike-Tour.jpg
END:VEVENT
BEGIN:VEVENT
DTSTART;TZID=America/Edmonton:20250925T123000
DTEND;TZID=America/Edmonton:20250925T163000
DTSTAMP:20260419T100158
CREATED:20250507T165523Z
LAST-MODIFIED:20250507T165523Z
UID:32507-1758803400-1758817800@savourcalgary.ca
SUMMARY:Calgary Food Bike Tour
DESCRIPTION:Why ride alone if you can do in the company of bikers who are eager to explore? Get ready to embark on an exciting two-wheel food adventure and join them for brunch on this Food Bike tour! \nCalgary Food Bike Tour is a great way to meet new people and try some incredible local food. Food Bike Tour serves up exploration and exercise with a side of delicious. Be a tourist in your own city and indulge in fine local foods and beverages while touring on a bike around the city. Enjoy different samples of meals from 3 different local establishments. \nNothing compares to the simple pleasure of a bike ride\, food and great company. \nDetails and registration @ Eventbrite \n 
URL:https://savourcalgary.ca/event/calgary-food-bike-tour-2-2025-09-25/
LOCATION:Little Blue Church\, 1110 Gladstone Rd NW\, Calgary\, Alberta\, T2N 3E7\, Canada
CATEGORIES:Family,Food,Food Tours,Friends,Tour
ATTACH;FMTTYPE=image/jpeg:https://savourcalgary.ca/wp-content/uploads/2023/07/Calgary-Food-Bike-Tour.jpg
END:VEVENT
BEGIN:VEVENT
DTSTART;TZID=America/Edmonton:20250926T123000
DTEND;TZID=America/Edmonton:20250926T163000
DTSTAMP:20260419T100158
CREATED:20250507T165523Z
LAST-MODIFIED:20250507T165523Z
UID:32508-1758889800-1758904200@savourcalgary.ca
SUMMARY:Calgary Food Bike Tour
DESCRIPTION:Why ride alone if you can do in the company of bikers who are eager to explore? Get ready to embark on an exciting two-wheel food adventure and join them for brunch on this Food Bike tour! \nCalgary Food Bike Tour is a great way to meet new people and try some incredible local food. Food Bike Tour serves up exploration and exercise with a side of delicious. Be a tourist in your own city and indulge in fine local foods and beverages while touring on a bike around the city. Enjoy different samples of meals from 3 different local establishments. \nNothing compares to the simple pleasure of a bike ride\, food and great company. \nDetails and registration @ Eventbrite \n 
URL:https://savourcalgary.ca/event/calgary-food-bike-tour-2-2025-09-26/
LOCATION:Little Blue Church\, 1110 Gladstone Rd NW\, Calgary\, Alberta\, T2N 3E7\, Canada
CATEGORIES:Family,Food,Food Tours,Friends,Tour
ATTACH;FMTTYPE=image/jpeg:https://savourcalgary.ca/wp-content/uploads/2023/07/Calgary-Food-Bike-Tour.jpg
END:VEVENT
BEGIN:VEVENT
DTSTART;TZID=America/Edmonton:20250927T123000
DTEND;TZID=America/Edmonton:20250927T163000
DTSTAMP:20260419T100158
CREATED:20250507T165523Z
LAST-MODIFIED:20250507T165523Z
UID:32509-1758976200-1758990600@savourcalgary.ca
SUMMARY:Calgary Food Bike Tour
DESCRIPTION:Why ride alone if you can do in the company of bikers who are eager to explore? Get ready to embark on an exciting two-wheel food adventure and join them for brunch on this Food Bike tour! \nCalgary Food Bike Tour is a great way to meet new people and try some incredible local food. Food Bike Tour serves up exploration and exercise with a side of delicious. Be a tourist in your own city and indulge in fine local foods and beverages while touring on a bike around the city. Enjoy different samples of meals from 3 different local establishments. \nNothing compares to the simple pleasure of a bike ride\, food and great company. \nDetails and registration @ Eventbrite \n 
URL:https://savourcalgary.ca/event/calgary-food-bike-tour-2-2025-09-27/
LOCATION:Little Blue Church\, 1110 Gladstone Rd NW\, Calgary\, Alberta\, T2N 3E7\, Canada
CATEGORIES:Family,Food,Food Tours,Friends,Tour
ATTACH;FMTTYPE=image/jpeg:https://savourcalgary.ca/wp-content/uploads/2023/07/Calgary-Food-Bike-Tour.jpg
END:VEVENT
END:VCALENDAR