BEGIN:VCALENDAR
VERSION:2.0
PRODID:-//Savour Calgary - ECPv6.15.17.1//NONSGML v1.0//EN
CALSCALE:GREGORIAN
METHOD:PUBLISH
X-ORIGINAL-URL:https://savourcalgary.ca
X-WR-CALDESC:Events for Savour Calgary
REFRESH-INTERVAL;VALUE=DURATION:PT1H
X-Robots-Tag:noindex
X-PUBLISHED-TTL:PT1H
BEGIN:VTIMEZONE
TZID:America/Edmonton
BEGIN:DAYLIGHT
TZOFFSETFROM:-0700
TZOFFSETTO:-0600
TZNAME:MDT
DTSTART:20240310T090000
END:DAYLIGHT
BEGIN:STANDARD
TZOFFSETFROM:-0600
TZOFFSETTO:-0700
TZNAME:MST
DTSTART:20241103T080000
END:STANDARD
BEGIN:DAYLIGHT
TZOFFSETFROM:-0700
TZOFFSETTO:-0600
TZNAME:MDT
DTSTART:20250309T090000
END:DAYLIGHT
BEGIN:STANDARD
TZOFFSETFROM:-0600
TZOFFSETTO:-0700
TZNAME:MST
DTSTART:20251102T080000
END:STANDARD
BEGIN:DAYLIGHT
TZOFFSETFROM:-0700
TZOFFSETTO:-0600
TZNAME:MDT
DTSTART:20260308T090000
END:DAYLIGHT
BEGIN:STANDARD
TZOFFSETFROM:-0600
TZOFFSETTO:-0700
TZNAME:MST
DTSTART:20261101T080000
END:STANDARD
END:VTIMEZONE
BEGIN:VEVENT
DTSTART;TZID=America/Edmonton:20250126T100000
DTEND;TZID=America/Edmonton:20250126T180000
DTSTAMP:20260420T031339
CREATED:20250126T175839Z
LAST-MODIFIED:20250126T175839Z
UID:30562-1737885600-1737914400@savourcalgary.ca
SUMMARY:Knifewear Anniversary Party
DESCRIPTION:Celebrate 16 YEARS of Knifewear in Calgary\, Sunday\, January 26\, 10 am – 6 pm! \nEnjoy 10% off in-store items\, free limited-edition stickers\, cake at 1pm\, high-fives and fun.
URL:https://savourcalgary.ca/event/knifewear-anniversary-party/
LOCATION:Knifewear\, 1316 9ave SE\, Calgary\, Alberta\, T2G 0T3\, Canada
CATEGORIES:Celebration
ATTACH;FMTTYPE=image/png:https://savourcalgary.ca/wp-content/uploads/2025/01/Untitled-design1412.png
END:VEVENT
END:VCALENDAR