BEGIN:VCALENDAR
VERSION:2.0
PRODID:-//Savour Calgary - ECPv6.15.17.1//NONSGML v1.0//EN
CALSCALE:GREGORIAN
METHOD:PUBLISH
X-ORIGINAL-URL:https://savourcalgary.ca
X-WR-CALDESC:Events for Savour Calgary
REFRESH-INTERVAL;VALUE=DURATION:PT1H
X-Robots-Tag:noindex
X-PUBLISHED-TTL:PT1H
BEGIN:VTIMEZONE
TZID:America/Edmonton
BEGIN:DAYLIGHT
TZOFFSETFROM:-0700
TZOFFSETTO:-0600
TZNAME:MDT
DTSTART:20240310T090000
END:DAYLIGHT
BEGIN:STANDARD
TZOFFSETFROM:-0600
TZOFFSETTO:-0700
TZNAME:MST
DTSTART:20241103T080000
END:STANDARD
BEGIN:DAYLIGHT
TZOFFSETFROM:-0700
TZOFFSETTO:-0600
TZNAME:MDT
DTSTART:20250309T090000
END:DAYLIGHT
BEGIN:STANDARD
TZOFFSETFROM:-0600
TZOFFSETTO:-0700
TZNAME:MST
DTSTART:20251102T080000
END:STANDARD
BEGIN:DAYLIGHT
TZOFFSETFROM:-0700
TZOFFSETTO:-0600
TZNAME:MDT
DTSTART:20260308T090000
END:DAYLIGHT
BEGIN:STANDARD
TZOFFSETFROM:-0600
TZOFFSETTO:-0700
TZNAME:MST
DTSTART:20261101T080000
END:STANDARD
END:VTIMEZONE
BEGIN:VEVENT
DTSTART;TZID=America/Edmonton:20250927T173000
DTEND;TZID=America/Edmonton:20250927T193000
DTSTAMP:20260419T152927
CREATED:20250907T143100Z
LAST-MODIFIED:20250907T143100Z
UID:34708-1758994200-1759001400@savourcalgary.ca
SUMMARY:Maritime Night
DESCRIPTION:Join BCA for a Down East good time featuring a mouthwatering lobster & steak dinner and live music from the Atlantic Storm band! Come hungry and ready to dance the night away in support of the BCA. \nThis event is a fundraiser for the BCA\, and your support means the world to them. Get your tickets early — this one always sells out! \nDetails and registration @bca_communityassociation
URL:https://savourcalgary.ca/event/maritime-night/
LOCATION:Bearspaw Community Association\, 253220 Bearspaw Rd\, Calgary\, Alberta\, Canada
CATEGORIES:Dining Series,Dinner,Food,Seafood
ATTACH;FMTTYPE=image/png:https://savourcalgary.ca/wp-content/uploads/2025/09/BCA.png
END:VEVENT
END:VCALENDAR