BEGIN:VCALENDAR
VERSION:2.0
PRODID:-//Savour Calgary - ECPv6.15.17.1//NONSGML v1.0//EN
CALSCALE:GREGORIAN
METHOD:PUBLISH
X-ORIGINAL-URL:https://savourcalgary.ca
X-WR-CALDESC:Events for Savour Calgary
REFRESH-INTERVAL;VALUE=DURATION:PT1H
X-Robots-Tag:noindex
X-PUBLISHED-TTL:PT1H
BEGIN:VTIMEZONE
TZID:America/Edmonton
BEGIN:DAYLIGHT
TZOFFSETFROM:-0700
TZOFFSETTO:-0600
TZNAME:MDT
DTSTART:20240310T090000
END:DAYLIGHT
BEGIN:STANDARD
TZOFFSETFROM:-0600
TZOFFSETTO:-0700
TZNAME:MST
DTSTART:20241103T080000
END:STANDARD
BEGIN:DAYLIGHT
TZOFFSETFROM:-0700
TZOFFSETTO:-0600
TZNAME:MDT
DTSTART:20250309T090000
END:DAYLIGHT
BEGIN:STANDARD
TZOFFSETFROM:-0600
TZOFFSETTO:-0700
TZNAME:MST
DTSTART:20251102T080000
END:STANDARD
BEGIN:DAYLIGHT
TZOFFSETFROM:-0700
TZOFFSETTO:-0600
TZNAME:MDT
DTSTART:20260308T090000
END:DAYLIGHT
BEGIN:STANDARD
TZOFFSETFROM:-0600
TZOFFSETTO:-0700
TZNAME:MST
DTSTART:20261101T080000
END:STANDARD
END:VTIMEZONE
BEGIN:VEVENT
DTSTART;TZID=America/Edmonton:20251116T140000
DTEND;TZID=America/Edmonton:20251116T163000
DTSTAMP:20260419T195024
CREATED:20251012T171017Z
LAST-MODIFIED:20251012T171017Z
UID:35350-1763301600-1763310600@savourcalgary.ca
SUMMARY:Perfecting Paella
DESCRIPTION:Rice\, saffron and olive oil is a magical combination. Spain knows it\, we know it\, and Gail knows it. In this hands-on class\, she will guide you through the many different variations on a classic dish that can evolve to suit your taste.  If the flavours of the Catalan call your name\, why not answer? \nDetails and registration @ The Cookbook Co. Cooks
URL:https://savourcalgary.ca/event/perfecting-paella-7/
LOCATION:The Cookbook Co. Cooks\, 722 11 Avenue SW\, Calgary\, Alberta\, T2R0E4\, Canada
CATEGORIES:Classes,Cooking,Cooking Class,Food
ATTACH;FMTTYPE=image/png:https://savourcalgary.ca/wp-content/uploads/2023/12/paella.png
END:VEVENT
END:VCALENDAR