BEGIN:VCALENDAR
VERSION:2.0
PRODID:-//Savour Calgary - ECPv6.15.17.1//NONSGML v1.0//EN
CALSCALE:GREGORIAN
METHOD:PUBLISH
X-WR-CALNAME:Savour Calgary
X-ORIGINAL-URL:https://savourcalgary.ca
X-WR-CALDESC:Events for Savour Calgary
REFRESH-INTERVAL;VALUE=DURATION:PT1H
X-Robots-Tag:noindex
X-PUBLISHED-TTL:PT1H
BEGIN:VTIMEZONE
TZID:America/Edmonton
BEGIN:DAYLIGHT
TZOFFSETFROM:-0700
TZOFFSETTO:-0600
TZNAME:MDT
DTSTART:20240310T090000
END:DAYLIGHT
BEGIN:STANDARD
TZOFFSETFROM:-0600
TZOFFSETTO:-0700
TZNAME:MST
DTSTART:20241103T080000
END:STANDARD
BEGIN:DAYLIGHT
TZOFFSETFROM:-0700
TZOFFSETTO:-0600
TZNAME:MDT
DTSTART:20250309T090000
END:DAYLIGHT
BEGIN:STANDARD
TZOFFSETFROM:-0600
TZOFFSETTO:-0700
TZNAME:MST
DTSTART:20251102T080000
END:STANDARD
BEGIN:DAYLIGHT
TZOFFSETFROM:-0700
TZOFFSETTO:-0600
TZNAME:MDT
DTSTART:20260308T090000
END:DAYLIGHT
BEGIN:STANDARD
TZOFFSETFROM:-0600
TZOFFSETTO:-0700
TZNAME:MST
DTSTART:20261101T080000
END:STANDARD
END:VTIMEZONE
BEGIN:VEVENT
DTSTART;TZID=America/Edmonton:20250925T180000
DTEND;TZID=America/Edmonton:20250925T210000
DTSTAMP:20260419T153228
CREATED:20250925T163510Z
LAST-MODIFIED:20250925T163635Z
UID:35044-1758823200-1758834000@savourcalgary.ca
SUMMARY:Mexican-Peruvian Collaboration Dinner
DESCRIPTION:SUMAQ presents an extraordinary culinary collaboration bringing together the vibrant flavours of Mexico and Peru for one unforgettable evening. \nThis special dinner showcases the shared heritage and complementary techniques of both cultures\, as talented chefs craft a menu that celebrates the ingredients and traditions that connect these two dynamic cuisines. Experience how ancient spices\, fresh herbs\, and bold cooking methods merge to create something entirely new. \nReserve your spot for this unique dining experience that promises to expand your palate and celebrate the art of collaboration. \nRSVP your seat: Mexican-Peruvian Collaboration Dinner
URL:https://savourcalgary.ca/event/mexican-peruvian-collaboration-dinner/
LOCATION:Sumaq\, 1424 17th Avenue SW\, Calgary\, Alberta\, T2T 0C3\, Canada
CATEGORIES:Beverages,Dinner,Pop up
ATTACH;FMTTYPE=image/png:https://savourcalgary.ca/wp-content/uploads/2025/09/Untitled-design36.png
END:VEVENT
END:VCALENDAR