BEGIN:VCALENDAR
VERSION:2.0
PRODID:-//Savour Calgary - ECPv6.15.17.1//NONSGML v1.0//EN
CALSCALE:GREGORIAN
METHOD:PUBLISH
X-WR-CALNAME:Savour Calgary
X-ORIGINAL-URL:https://savourcalgary.ca
X-WR-CALDESC:Events for Savour Calgary
REFRESH-INTERVAL;VALUE=DURATION:PT1H
X-Robots-Tag:noindex
X-PUBLISHED-TTL:PT1H
BEGIN:VTIMEZONE
TZID:America/Edmonton
BEGIN:DAYLIGHT
TZOFFSETFROM:-0700
TZOFFSETTO:-0600
TZNAME:MDT
DTSTART:20250309T090000
END:DAYLIGHT
BEGIN:STANDARD
TZOFFSETFROM:-0600
TZOFFSETTO:-0700
TZNAME:MST
DTSTART:20251102T080000
END:STANDARD
BEGIN:DAYLIGHT
TZOFFSETFROM:-0700
TZOFFSETTO:-0600
TZNAME:MDT
DTSTART:20260308T090000
END:DAYLIGHT
BEGIN:STANDARD
TZOFFSETFROM:-0600
TZOFFSETTO:-0700
TZNAME:MST
DTSTART:20261101T080000
END:STANDARD
BEGIN:DAYLIGHT
TZOFFSETFROM:-0700
TZOFFSETTO:-0600
TZNAME:MDT
DTSTART:20270314T090000
END:DAYLIGHT
BEGIN:STANDARD
TZOFFSETFROM:-0600
TZOFFSETTO:-0700
TZNAME:MST
DTSTART:20271107T080000
END:STANDARD
END:VTIMEZONE
BEGIN:VEVENT
DTSTART;TZID=America/Edmonton:20260119T183000
DTEND;TZID=America/Edmonton:20260119T213000
DTSTAMP:20260419T181639
CREATED:20251214T140547Z
LAST-MODIFIED:20251214T140547Z
UID:37032-1768847400-1768858200@savourcalgary.ca
SUMMARY:Cozy Piroshki: Food from the Heart of Eastern Europe
DESCRIPTION:Like the flicker of a candle on a cold night\, food with friends can spark joy in the dead of winter. This is comfort food at its sexiest — silky\, earthy\, and irresistibly inviting. Join Sarah and immerse yourself in the sultry warmth of Eastern Europe\, where Polish\, Ukrainian and Russian flavours comfort and surprise. \nDetails and registration @ The Cookbook Co. Cooks
URL:https://savourcalgary.ca/event/cozy-piroshki-food-from-the-heart-of-eastern-europe/
LOCATION:The Cookbook Co. Cooks\, 722 11 Avenue SW\, Calgary\, Alberta\, T2R0E4\, Canada
CATEGORIES:Classes,Cooking,Cooking Class,Food
ATTACH;FMTTYPE=image/png:https://savourcalgary.ca/wp-content/uploads/2025/12/Piroshki.png
END:VEVENT
END:VCALENDAR