BEGIN:VCALENDAR
VERSION:2.0
PRODID:-//Savour Calgary - ECPv6.15.17.1//NONSGML v1.0//EN
CALSCALE:GREGORIAN
METHOD:PUBLISH
X-WR-CALNAME:Savour Calgary
X-ORIGINAL-URL:https://savourcalgary.ca
X-WR-CALDESC:Events for Savour Calgary
REFRESH-INTERVAL;VALUE=DURATION:PT1H
X-Robots-Tag:noindex
X-PUBLISHED-TTL:PT1H
BEGIN:VTIMEZONE
TZID:America/Edmonton
BEGIN:DAYLIGHT
TZOFFSETFROM:-0700
TZOFFSETTO:-0600
TZNAME:MDT
DTSTART:20240310T090000
END:DAYLIGHT
BEGIN:STANDARD
TZOFFSETFROM:-0600
TZOFFSETTO:-0700
TZNAME:MST
DTSTART:20241103T080000
END:STANDARD
BEGIN:DAYLIGHT
TZOFFSETFROM:-0700
TZOFFSETTO:-0600
TZNAME:MDT
DTSTART:20250309T090000
END:DAYLIGHT
BEGIN:STANDARD
TZOFFSETFROM:-0600
TZOFFSETTO:-0700
TZNAME:MST
DTSTART:20251102T080000
END:STANDARD
BEGIN:DAYLIGHT
TZOFFSETFROM:-0700
TZOFFSETTO:-0600
TZNAME:MDT
DTSTART:20260308T090000
END:DAYLIGHT
BEGIN:STANDARD
TZOFFSETFROM:-0600
TZOFFSETTO:-0700
TZNAME:MST
DTSTART:20261101T080000
END:STANDARD
END:VTIMEZONE
BEGIN:VEVENT
DTSTART;TZID=America/Edmonton:20250918T170000
DTEND;TZID=America/Edmonton:20250921T220000
DTSTAMP:20260419T140516
CREATED:20250903T160122Z
LAST-MODIFIED:20251117T044624Z
UID:34653-1758214800-1758492000@savourcalgary.ca
SUMMARY:Modern Steak's La Buca Brings Tuscan Dining to Calgary
DESCRIPTION:Tthroughout the month of September\, Calgary’s iconic Modern Steak invites guests to experience La Buca. This exclusive Tuscan steakhouse pop-up brings the rustic elegance of Florence’s traditional dining culture to Alberta’s premier steakhouse. \nInspired by the time-honoured trattorias of Tuscany\, La Buca offers a rich culinary journey anchored by a menu designed by Chef Michael Scarcelli\, Executive Chef of Lusi. The six-course tasting menu includes handmade pastas and exceptional cuts of Alberta Prime beef\, each dish highlighting the best of authentic Italian cuisine ($159+tax and gratuity). Guests can elevate the experience with optional Tuscan wine pairings ($54)\, thoughtfully selected to complement each course. La Buca runs Thursday to Sunday throughout September at Modern Steak Stephen Avenue (100 8 Ave SE) and Modern Steak Southport (10606 Southport Road SW). \nVisit Modern Steak to make your reservation.
URL:https://savourcalgary.ca/event/modern-steaks-la-buca-brings-tuscan-dining-to-calgary-3/
CATEGORIES:Dinner,Pop up,Wine
ATTACH;FMTTYPE=image/png:https://savourcalgary.ca/wp-content/uploads/2025/09/Untitled-design17.png
END:VEVENT
END:VCALENDAR