BEGIN:VCALENDAR
VERSION:2.0
PRODID:-//Savour Calgary - ECPv6.15.17.1//NONSGML v1.0//EN
CALSCALE:GREGORIAN
METHOD:PUBLISH
X-WR-CALNAME:Savour Calgary
X-ORIGINAL-URL:https://savourcalgary.ca
X-WR-CALDESC:Events for Savour Calgary
REFRESH-INTERVAL;VALUE=DURATION:PT1H
X-Robots-Tag:noindex
X-PUBLISHED-TTL:PT1H
BEGIN:VTIMEZONE
TZID:America/Edmonton
BEGIN:DAYLIGHT
TZOFFSETFROM:-0700
TZOFFSETTO:-0600
TZNAME:MDT
DTSTART:20240310T090000
END:DAYLIGHT
BEGIN:STANDARD
TZOFFSETFROM:-0600
TZOFFSETTO:-0700
TZNAME:MST
DTSTART:20241103T080000
END:STANDARD
BEGIN:DAYLIGHT
TZOFFSETFROM:-0700
TZOFFSETTO:-0600
TZNAME:MDT
DTSTART:20250309T090000
END:DAYLIGHT
BEGIN:STANDARD
TZOFFSETFROM:-0600
TZOFFSETTO:-0700
TZNAME:MST
DTSTART:20251102T080000
END:STANDARD
BEGIN:DAYLIGHT
TZOFFSETFROM:-0700
TZOFFSETTO:-0600
TZNAME:MDT
DTSTART:20260308T090000
END:DAYLIGHT
BEGIN:STANDARD
TZOFFSETFROM:-0600
TZOFFSETTO:-0700
TZNAME:MST
DTSTART:20261101T080000
END:STANDARD
END:VTIMEZONE
BEGIN:VEVENT
DTSTART;TZID=America/Edmonton:20250228T190000
DTEND;TZID=America/Edmonton:20250228T210000
DTSTAMP:20260419T073637
CREATED:20250215T180710Z
LAST-MODIFIED:20250215T180710Z
UID:30906-1740769200-1740776400@savourcalgary.ca
SUMMARY:French Fling Festival
DESCRIPTION:Cin cin! Get ready for Willow Park’s annual French wine extravaganza! In celebration of their 31st anniversary\, they’re honouring all things French with an array of wines from Burgundy\, Bordeaux\, Languedoc\, and the Rhône Valley. You’ll find classics alongside exciting new favourites in every style and colour. Enjoy sampling exquisite wines while savouring delightful treats and sweets crafted by their kitchen team. \nDetails and registration @ Willow Park Wines & Spirits
URL:https://savourcalgary.ca/event/french-fling-festival-2/
LOCATION:Willow Park Wines & Spirits – Willow Park Village\, 10801 Bonaventure Drive SE\, Calgary\, Alberta\, T2J 6Z8\, Canada
CATEGORIES:Beverages,Pairing,Sweets,Tasting,Wine
ATTACH;FMTTYPE=image/png:https://savourcalgary.ca/wp-content/uploads/2024/09/wines.png
END:VEVENT
END:VCALENDAR