BEGIN:VCALENDAR
VERSION:2.0
PRODID:-//Savour Calgary - ECPv6.15.17.1//NONSGML v1.0//EN
CALSCALE:GREGORIAN
METHOD:PUBLISH
X-WR-CALNAME:Savour Calgary
X-ORIGINAL-URL:https://savourcalgary.ca
X-WR-CALDESC:Events for Savour Calgary
REFRESH-INTERVAL;VALUE=DURATION:PT1H
X-Robots-Tag:noindex
X-PUBLISHED-TTL:PT1H
BEGIN:VTIMEZONE
TZID:America/Edmonton
BEGIN:DAYLIGHT
TZOFFSETFROM:-0700
TZOFFSETTO:-0600
TZNAME:MDT
DTSTART:20240310T090000
END:DAYLIGHT
BEGIN:STANDARD
TZOFFSETFROM:-0600
TZOFFSETTO:-0700
TZNAME:MST
DTSTART:20241103T080000
END:STANDARD
BEGIN:DAYLIGHT
TZOFFSETFROM:-0700
TZOFFSETTO:-0600
TZNAME:MDT
DTSTART:20250309T090000
END:DAYLIGHT
BEGIN:STANDARD
TZOFFSETFROM:-0600
TZOFFSETTO:-0700
TZNAME:MST
DTSTART:20251102T080000
END:STANDARD
BEGIN:DAYLIGHT
TZOFFSETFROM:-0700
TZOFFSETTO:-0600
TZNAME:MDT
DTSTART:20260308T090000
END:DAYLIGHT
BEGIN:STANDARD
TZOFFSETFROM:-0600
TZOFFSETTO:-0700
TZNAME:MST
DTSTART:20261101T080000
END:STANDARD
END:VTIMEZONE
BEGIN:VEVENT
DTSTART;TZID=America/Edmonton:20250308T120000
DTEND;TZID=America/Edmonton:20250308T230000
DTSTAMP:20260420T004950
CREATED:20250227T224612Z
LAST-MODIFIED:20250227T224612Z
UID:31069-1741435200-1741474800@savourcalgary.ca
SUMMARY:International Women's Day Tea Party
DESCRIPTION:Join The Establishment Brewing Company this International Women’s Day to enjoy high tea sandwiches & treats by Wren Bakehouse and enjoy live music by Amy Nelson\, Samantha Savage Smith\, and Sidney May Weich. \nDetails and registration @ The Establishment Brewing Company 
URL:https://savourcalgary.ca/event/international-womens-day-tea-party/
LOCATION:The Establishment Brewing Company\, 4407 1 Street SE\, Calgary\, Alberta\, Canada
CATEGORIES:Beverages,Entertainment,Food,Fundraiser,High Tea,Sweets
ATTACH;FMTTYPE=image/png:https://savourcalgary.ca/wp-content/uploads/2025/02/TeaParty.png
END:VEVENT
END:VCALENDAR